Workbook

Sheet Instrucoes
A1: Graduação - Engenharia Civil - UENF/CCT/LECIV
B2: Referente: | C2: Formulário de Matrícula
B3: Curso: | C3: Engenharia Civil
B4: Período: | C4: 2016-02
B5: Versão: | C5: 5.0
B6: Instruções: | C6: Leia atentamente as instruções antes de preencher essa planilha
B7: 1 - | C7: Antes de iniciar o preenchimento desse formulário salve-o em seu computador utilizando como nome do arquivo o número da sua matrícula (onze caracteres, sem espaços), um espaço, seguido do seu nome completo (ex: ; 000000000 Paulo Maia)
B8: 2 - | C8: A planilha é composta por: Grade, Formulário de pré-matrícula,
D9: Grade: é a grade que está em vigor no curso de Engenharia a Civil da UENF;
D10: Formulário: é o formulário onde serão selecionadas as disciplinas que você pretende se matricular
D11: Horário: é o horário das disciplinas que serão oferecidas nesse semestre (destaca-se que a oferta dessas disciplinas dependem da demanda de alunos para se formar turma e da disponibilidade de professores);
D12: Seu horário: é o horário montado a partir das disciplinas que você escolheu;
D13: Relatório: é o resumo das disciplinas selecionadas que será usado para fazer o planejamento do curso e a sua matrícula.
D14: aux…: são abas auxiliares para o funcionamento dessa planilha (não devem ser mexidas)
B15: 3 - | C15: Para iniciar o preenchimento do formulário proceda da seguinte forma:
B16: 3.1 - | C16: Digite o número da sua matricula no local indicado (sem espaços ou caracteres especiais). A planilha irá incluir o seu nome utilizando banco de dados da secretaria acadêmica;
B17: 3.2 - | C17: Se o seu nome não aparecer automaticamente, verifique o número de matrícula digitado. Caso seu nome continue não aparecendo, digite seu nome completo no campo indicado;
B18: 3.3 - | C18: Indique se será formando no próximo período;
B19: 4 - | C19: Seleção das disciplinas:
B20: 4.1 - | C20: Marque as disciplinas que pretende cursar no próximo semestre utilizando os quadros de seleção situados ao lado do nome da disciplina;
B21: 4.2 - | C21: Procure marcar somente as disciplinas que você tem possibilidade cursa, inclusive no caso de possibilidade de repetência;
B22: 4.3 - | C22: Caso exista conflito de horário as células que indicam os períodos ficarão em vermelho. Nesse caso o relatório de pré-matrícula não será gerado. Verifique os horários na parta correspondente;
B23: 4.4 - | C23: Você poderá ver na pasta "seu horário" as disciplinas, os horários e os possíveis conflitos;
B24: 4.5 - | C24: Após a seleção das disciplinas verifique o relatório gerado na pasta "relatório". O relatório não será gerado se houver alguma inconsistência nos dados de entrada;
B25: 5 - | C25: Para o encaminhamento do formulário à secretaria do CCT proceda da seguinte forma:
B26: 5.1 - | C26: Grave esse formulário em um dispositivo remoto (Pendrive, CD, HD Externo ou outro);
... B30: 5.5 - | C30: A Coordenação informa que as cópias dos arquivos serão vinculadas ao nome ou matrícula do aluno através do nome do arquivo. Por isso lembre-se de gravar a planilha como indicado no item 1.
B31: Lembre-se de gravar a sua planilha após cada modificação

Sheet Gradre
A1: Matriz Curricular de 2004 à 2016 - Graduação em Engenharia Civil - UENF/CCT/LECIV
A3: 1º PERÍODO | D3: 2º PERÍODO | G3: 3º PERÍODO | J3: 4º PERÍODO | M3: 5º PERÍODO | P3: 6º PERÍODO | S3: 7º PERÍODO | V3: 8º PERÍODO
A5: =IF('aux gr1'!DM12="","",LOOKUP('aux gr1'!DM12,'aux gr1'!$A$12:$A$231,'aux gr1'!$P$12:$P$121)) -> CIV01151 | B5: =IF('aux gr1'!DM12="","",LOOKUP('aux gr1'!DM12,'aux gr1'!$A$12:$A$231,'aux gr1'!$AA$12:$AA$121)) -> 85h | D5: =IF('aux gr1'!DN12="","",LOOKUP('aux gr1'!DN12,'aux gr1'!$A$12:$A$231,'aux gr1'!$P$12:$P$121)) -> FIS01202 | E5: =IF('aux gr1'!DN12="","",LOOKUP('aux gr1'!DN12,'aux gr1'!$A$12:$A$231,'aux gr1'!$AA$12:$AA$121)) -> 68h | G5: =IF('aux gr1'!DO12="","",LOOKUP('aux gr1'!DO12,'aux gr1'!$A$12:$A$231,'aux gr1'!$P$12:$P$121)) -> CIV01320 | H5: =IF('aux gr1'!DO12="","",LOOKUP('aux gr1'!DO12,'aux gr1'!$A$12:$A$231,'aux gr1'!$AA$12:$AA$121)) -> 68h | J5: =IF('aux gr1'!DP12="","",LOOKUP('aux gr1'!DP12,'aux gr1'!$A$12:$A$231,'aux gr1'!$P$12:$P$121)) -> CIV01425 | K5: =IF('aux gr1'!DP12="","",LOOKUP('aux gr1'!DP12,'aux gr1'!$A$12:$A$231,'aux gr1'!$AA$12:$AA$121)) -> 85h | M5: =IF('aux gr1'!DQ12="","",LOOKUP('aux gr1'!DQ12,'aux gr1'!$A$12:$A$231,'aux gr1'!$P$12:$P$121)) -> CIV01330 | N5: =IF('aux gr1'!DQ12="","",LOOKUP('aux gr1'!DQ12,'aux gr1'!$A$12:$A$231,'aux gr1'!$AA$12:$AA$121)) -> 85h | P5: =IF('aux gr1'!DR12="","",LOOKUP('aux gr1'!DR12,'aux gr1'!$A$12:$A$231,'aux gr1'!$P$12:$P$121)) -> CIV01447 | Q5: =IF('aux gr1'!DR12="","",LOOKUP('aux gr1'!DR12,'aux gr1'!$A$12:$A$231,'aux gr1'!$AA$12:$AA$121)) -> 68h | S5: =IF('aux gr1'!DS12="","",LOOKUP('aux gr1'!DS12,'aux gr1'!$A$12:$A$231,'aux gr1'!$P$12:$P$121)) -> CIV01340 | T5: =IF('aux gr1'!DS12="","",LOOKUP('aux gr1'!DS12,'aux gr1'!$A$12:$A$231,'aux gr1'!$AA$12:$AA$121)) -> 85h | V5: =IF('aux gr1'!DT12="","",LOOKUP('aux gr1'!DT12,'aux gr1'!$A$12:$A$231,'aux gr1'!$P$12:$P$121)) -> CIV01342 | W5: =IF('aux gr1'!DT12="","",LOOKUP('aux gr1'!DT12,'aux gr1'!$A$12:$A$231,'aux gr1'!$AA$12:$AA$121)) -> 85h
A6: =IF('aux gr1'!DM12="","",LOOKUP('aux gr1'!DM12,'aux gr1'!$A$12:$A$231,'aux gr1'!$B$12:$B$121)) -> Desenho Técnico | D6: =IF('aux gr1'!DN12="","",LOOKUP('aux gr1'!DN12,'aux gr1'!$A$12:$A$231,'aux gr1'!$B$12:$B$121)) -> Física Geral I | G6: =IF('aux gr1'!DO12="","",LOOKUP('aux gr1'!DO12,'aux gr1'!$A$12:$A$231,'aux gr1'!$B$12:$B$121)) -> Materiais de Construção I | J6: =IF('aux gr1'!DP12="","",LOOKUP('aux gr1'!DP12,'aux gr1'!$A$12:$A$231,'aux gr1'!$B$12:$B$121)) -> Materiais de Construção II | M6: =IF('aux gr1'!DQ12="","",LOOKUP('aux gr1'!DQ12,'aux gr1'!$A$12:$A$231,'aux gr1'!$B$12:$B$121)) -> Hidráulica | P6: =IF('aux gr1'!DR12="","",LOOKUP('aux gr1'!DR12,'aux gr1'!$A$12:$A$231,'aux gr1'!$B$12:$B$121)) -> Saneamento e Engenharia Ambiental | S6: =IF('aux gr1'!DS12="","",LOOKUP('aux gr1'!DS12,'aux gr1'!$A$12:$A$231,'aux gr1'!$B$12:$B$121)) -> Concreto Armado II | V6: =IF('aux gr1'!DT12="","",LOOKUP('aux gr1'!DT12,'aux gr1'!$A$12:$A$231,'aux gr1'!$B$12:$B$121)) -> Obras Geotécnicas
A7: =IF('aux gr1'!DM12="","",LOOKUP('aux gr1'!DM12,'aux gr1'!$A$12:$A$231,'aux gr1'!$AC$12:$AC$121)) -> 4cr/3t + 1p | B7: =IF('aux gr1'!DM12="","",LOOKUP('aux gr1'!DM12,'aux gr1'!$A$12:$A$231,'aux gr1'!$V$12:$V$121)) -> Bás. | D7: =IF('aux gr1'!DN12="","",LOOKUP('aux gr1'!DN12,'aux gr1'!$A$12:$A$231,'aux gr1'!$AC$12:$AC$121)) -> 4cr/4t | E7: =IF('aux gr1'!DN12="","",LOOKUP('aux gr1'!DN12,'aux gr1'!$A$12:$A$231,'aux gr1'!$V$12:$V$121)) -> Bás. | G7: =IF('aux gr1'!DO12="","",LOOKUP('aux gr1'!DO12,'aux gr1'!$A$12:$A$231,'aux gr1'!$AC$12:$AC$121)) -> 4cr/4t | H7: =IF('aux gr1'!DO12="","",LOOKUP('aux gr1'!DO12,'aux gr1'!$A$12:$A$231,'aux gr1'!$V$12:$V$121)) -> Bás. | J7: =IF('aux gr1'!DP12="","",LOOKUP('aux gr1'!DP12,'aux gr1'!$A$12:$A$231,'aux gr1'!$AC$12:$AC$121)) -> 4cr/3t + 1p | K7: =IF('aux gr1'!DP12="","",LOOKUP('aux gr1'!DP12,'aux gr1'!$A$12:$A$231,'aux gr1'!$V$12:$V$121)) -> Esp. | M7: =IF('aux gr1'!DQ12="","",LOOKUP('aux gr1'!DQ12,'aux gr1'!$A$12:$A$231,'aux gr1'!$AC$12:$AC$121)) -> 4cr/3t + 1p | N7: =IF('aux gr1'!DQ12="","",LOOKUP('aux gr1'!DQ12,'aux gr1'!$A$12:$A$231,'aux gr1'!$V$12:$V$121)) -> Pro. | P7: =IF('aux gr1'!DR12="","",LOOKUP('aux gr1'!DR12,'aux gr1'!$A$12:$A$231,'aux gr1'!$AC$12:$AC$121)) -> 4cr/4t | Q7: =IF('aux gr1'!DR12="","",LOOKUP('aux gr1'!DR12,'aux gr1'!$A$12:$A$231,'aux gr1'!$V$12:$V$121)) -> Esp. | S7: =IF('aux gr1'!DS12="","",LOOKUP('aux gr1'!DS12,'aux gr1'!$A$12:$A$231,'aux gr1'!$AC$12:$AC$121)) -> 5cr/5t | T7: =IF('aux gr1'!DS12="","",LOOKUP('aux gr1'!DS12,'aux gr1'!$A$12:$A$231,'aux gr1'!$V$12:$V$121)) -> Esp. | V7: =IF('aux gr1'!DT12="","",LOOKUP('aux gr1'!DT12,'aux gr1'!$A$12:$A$231,'aux gr1'!$AC$12:$AC$121)) -> 5cr/5t | W7: =IF('aux gr1'!DT12="","",LOOKUP('aux gr1'!DT12,'aux gr1'!$A$12:$A$231,'aux gr1'!$V$12:$V$121)) -> Esp.
A8: =IF('aux gr1'!DM12="","",LOOKUP('aux gr1'!DM12,'aux gr1'!$A$12:$A$231,'aux gr1'!$E$12:$E$121)) -> Pré: --- | D8: =IF('aux gr1'!DN12="","",LOOKUP('aux gr1'!DN12,'aux gr1'!$A$12:$A$231,'aux gr1'!$E$12:$E$121)) -> Pré: MAT01101 | G8: =IF('aux gr1'!DO12="","",LOOKUP('aux gr1'!DO12,'aux gr1'!$A$12:$A$231,'aux gr1'!$E$12:$E$121)) -> Pré: QUI01201 | J8: =IF('aux gr1'!DP12="","",LOOKUP('aux gr1'!DP12,'aux gr1'!$A$12:$A$231,'aux gr1'!$E$12:$E$121)) -> Pré: CIV01320 | M8: =IF('aux gr1'!DQ12="","",LOOKUP('aux gr1'!DQ12,'aux gr1'!$A$12:$A$231,'aux gr1'!$E$12:$E$121)) -> Pré: CCT01221 | P8: =IF('aux gr1'!DR12="","",LOOKUP('aux gr1'!DR12,'aux gr1'!$A$12:$A$231,'aux gr1'!$E$12:$E$121)) -> Pré: CIV01330 | S8: =IF('aux gr1'!DS12="","",LOOKUP('aux gr1'!DS12,'aux gr1'!$A$12:$A$231,'aux gr1'!$E$12:$E$121)) -> Pré: CIV01434 | V8: =IF('aux gr1'!DT12="","",LOOKUP('aux gr1'!DT12,'aux gr1'!$A$12:$A$231,'aux gr1'!$E$12:$E$121)) -> Pré: CIV01329
A9: =IF('aux gr1'!DM12="","",LOOKUP('aux gr1'!DM12,'aux gr1'!$A$12:$A$231,'aux gr1'!$F$12:$F$121)) -> Co: --- | D9: =IF('aux gr1'!DN12="","",LOOKUP('aux gr1'!DN12,'aux gr1'!$A$12:$A$231,'aux gr1'!$F$12:$F$121)) -> Co: FIS01204 | G9: =IF('aux gr1'!DO12="","",LOOKUP('aux gr1'!DO12,'aux gr1'!$A$12:$A$231,'aux gr1'!$F$12:$F$121)) -> Co: --- | J9: =IF('aux gr1'!DP12="","",LOOKUP('aux gr1'!DP12,'aux gr1'!$A$12:$A$231,'aux gr1'!$F$12:$F$121)) -> Co: --- | M9: =IF('aux gr1'!DQ12="","",LOOKUP('aux gr1'!DQ12,'aux gr1'!$A$12:$A$231,'aux gr1'!$F$12:$F$121)) -> Co: --- | P9: =IF('aux gr1'!DR12="","",LOOKUP('aux gr1'!DR12,'aux gr1'!$A$12:$A$231,'aux gr1'!$F$12:$F$121)) -> Co: --- | S9: =IF('aux gr1'!DS12="","",LOOKUP('aux gr1'!DS12,'aux gr1'!$A$12:$A$231,'aux gr1'!$F$12:$F$121)) -> Co: --- | V9: =IF('aux gr1'!DT12="","",LOOKUP('aux gr1'!DT12,'aux gr1'!$A$12:$A$231,'aux gr1'!$F$12:$F$121)) -> Co: ---
A11: =IF('aux gr1'!DM13="","",LOOKUP('aux gr1'!DM13,'aux gr1'!$A$12:$A$231,'aux gr1'!$P$12:$P$121)) -> CCT01111 | B11: =IF('aux gr1'!DM13="","",LOOKUP('aux gr1'!DM13,'aux gr1'!$A$12:$A$231,'aux gr1'!$AA$12:$AA$121)) -> 34h | D11: =IF('aux gr1'!DN13="","",LOOKUP('aux gr1'!DN13,'aux gr1'!$A$12:$A$231,'aux gr1'!$P$12:$P$121)) -> FIS01204 | E11: =IF('aux gr1'!DN13="","",LOOKUP('aux gr1'!DN13,'aux gr1'!$A$12:$A$231,'aux gr1'!$AA$12:$AA$121)) -> 34h | G11: =IF('aux gr1'!DO13="","",LOOKUP('aux gr1'!DO13,'aux gr1'!$A$12:$A$231,'aux gr1'!$P$12:$P$121)) -> CIV01317 | H11: =IF('aux gr1'!DO13="","",LOOKUP('aux gr1'!DO13,'aux gr1'!$A$12:$A$231,'aux gr1'!$AA$12:$AA$121)) -> 68h | J11: =IF('aux gr1'!DP13="","",LOOKUP('aux gr1'!DP13,'aux gr1'!$A$12:$A$231,'aux gr1'!$P$12:$P$121)) -> CIV01318 | K11: =IF('aux gr1'!DP13="","",LOOKUP('aux gr1'!DP13,'aux gr1'!$A$12:$A$231,'aux gr1'!$AA$12:$AA$121)) -> 85h | M11: =IF('aux gr1'!DQ13="","",LOOKUP('aux gr1'!DQ13,'aux gr1'!$A$12:$A$231,'aux gr1'!$P$12:$P$121)) -> CIV01423 | N11: =IF('aux gr1'!DQ13="","",LOOKUP('aux gr1'!DQ13,'aux gr1'!$A$12:$A$231,'aux gr1'!$AA$12:$AA$121)) -> 85h | P11: =IF('aux gr1'!DR13="","",LOOKUP('aux gr1'!DR13,'aux gr1'!$A$12:$A$231,'aux gr1'!$P$12:$P$121)) -> CIV01434 | Q11: =IF('aux gr1'!DR13="","",LOOKUP('aux gr1'!DR13,'aux gr1'!$A$12:$A$231,'aux gr1'!$AA$12:$AA$121)) -> 85h | S11: =IF('aux gr1'!DS13="","",LOOKUP('aux gr1'!DS13,'aux gr1'!$A$12:$A$231,'aux gr1'!$P$12:$P$121)) -> CIV01341 | T11: =IF('aux gr1'!DS13="","",LOOKUP('aux gr1'!DS13,'aux gr1'!$A$12:$A$231,'aux gr1'!$AA$12:$AA$121)) -> 85h | V11: =IF('aux gr1'!DT13="","",LOOKUP('aux gr1'!DT13,'aux gr1'!$A$12:$A$231,'aux gr1'!$P$12:$P$121)) -> CIV01445 | W11: =IF('aux gr1'!DT13="","",LOOKUP('aux gr1'!DT13,'aux gr1'!$A$12:$A$231,'aux gr1'!$AA$12:$AA$121)) -> 204h
A12: =IF('aux gr1'!DM13="","",LOOKUP('aux gr1'!DM13,'aux gr1'!$A$12:$A$231,'aux gr1'!$B$12:$B$121)) -> Introdução à Engenharia | D12: =IF('aux gr1'!DN13="","",LOOKUP('aux gr1'!DN13,'aux gr1'!$A$12:$A$231,'aux gr1'!$B$12:$B$121)) -> Laboratório de Física Geral I | G12: =IF('aux gr1'!DO13="","",LOOKUP('aux gr1'!DO13,'aux gr1'!$A$12:$A$231,'aux gr1'!$B$12:$B$121)) -> Análise Estrutural I | J12: =IF('aux gr1'!DP13="","",LOOKUP('aux gr1'!DP13,'aux gr1'!$A$12:$A$231,'aux gr1'!$B$12:$B$121)) -> Geologia Geral | M12: =IF('aux gr1'!DQ13="","",LOOKUP('aux gr1'!DQ13,'aux gr1'!$A$12:$A$231,'aux gr1'!$B$12:$B$121)) -> Mecânica dos Solos I | P12: =IF('aux gr1'!DR13="","",LOOKUP('aux gr1'!DR13,'aux gr1'!$A$12:$A$231,'aux gr1'!$B$12:$B$121)) -> Concreto Armado I | S12: =IF('aux gr1'!DS13="","",LOOKUP('aux gr1'!DS13,'aux gr1'!$A$12:$A$231,'aux gr1'!$B$12:$B$121)) -> Fundações e Contenções | V12: =IF('aux gr1'!DT13="","",LOOKUP('aux gr1'!DT13,'aux gr1'!$A$12:$A$231,'aux gr1'!$B$12:$B$121)) -> Estágio Supervisionado
A13: =IF('aux gr1'!DM13="","",LOOKUP('aux gr1'!DM13,'aux gr1'!$A$12:$A$231,'aux gr1'!$AC$12:$AC$121)) -> 2cr/2t | B13: =IF('aux gr1'!DM13="","",LOOKUP('aux gr1'!DM13,'aux gr1'!$A$12:$A$231,'aux gr1'!$V$12:$V$121)) -> Pro. | D13: =IF('aux gr1'!DN13="","",LOOKUP('aux gr1'!DN13,'aux gr1'!$A$12:$A$231,'aux gr1'!$AC$12:$AC$121)) -> 1cr/1p | E13: =IF('aux gr1'!DN13="","",LOOKUP('aux gr1'!DN13,'aux gr1'!$A$12:$A$231,'aux gr1'!$V$12:$V$121)) -> Bás. | G13: =IF('aux gr1'!DO13="","",LOOKUP('aux gr1'!DO13,'aux gr1'!$A$12:$A$231,'aux gr1'!$AC$12:$AC$121)) -> 4cr/4t | H13: =IF('aux gr1'!DO13="","",LOOKUP('aux gr1'!DO13,'aux gr1'!$A$12:$A$231,'aux gr1'!$V$12:$V$121)) -> Esp. | J13: =IF('aux gr1'!DP13="","",LOOKUP('aux gr1'!DP13,'aux gr1'!$A$12:$A$231,'aux gr1'!$AC$12:$AC$121)) -> 4cr/3t + 1p | K13: =IF('aux gr1'!DP13="","",LOOKUP('aux gr1'!DP13,'aux gr1'!$A$12:$A$231,'aux gr1'!$V$12:$V$121)) -> Esp. | M13: =IF('aux gr1'!DQ13="","",LOOKUP('aux gr1'!DQ13,'aux gr1'!$A$12:$A$231,'aux gr1'!$AC$12:$AC$121)) -> 4cr/3t + 1p | N13: =IF('aux gr1'!DQ13="","",LOOKUP('aux gr1'!DQ13,'aux gr1'!$A$12:$A$231,'aux gr1'!$V$12:$V$121)) -> Esp. | P13: =IF('aux gr1'!DR13="","",LOOKUP('aux gr1'!DR13,'aux gr1'!$A$12:$A$231,'aux gr1'!$AC$12:$AC$121)) -> 5cr/5t | Q13: =IF('aux gr1'!DR13="","",LOOKUP('aux gr1'!DR13,'aux gr1'!$A$12:$A$231,'aux gr1'!$V$12:$V$121)) -> Esp. | S13: =IF('aux gr1'!DS13="","",LOOKUP('aux gr1'!DS13,'aux gr1'!$A$12:$A$231,'aux gr1'!$AC$12:$AC$121)) -> 4cr/3t + 1p | T13: =IF('aux gr1'!DS13="","",LOOKUP('aux gr1'!DS13,'aux gr1'!$A$12:$A$231,'aux gr1'!$V$12:$V$121)) -> Esp. | V13: =IF('aux gr1'!DT13="","",LOOKUP('aux gr1'!DT13,'aux gr1'!$A$12:$A$231,'aux gr1'!$AC$12:$AC$121)) -> 3cr/3e | W13: =IF('aux gr1'!DT13="","",LOOKUP('aux gr1'!DT13,'aux gr1'!$A$12:$A$231,'aux gr1'!$V$12:$V$121)) -> Esp.
A14: =IF('aux gr1'!DM13="","",LOOKUP('aux gr1'!DM13,'aux gr1'!$A$12:$A$231,'aux gr1'!$E$12:$E$121)) -> Pré: --- | D14: =IF('aux gr1'!DN13="","",LOOKUP('aux gr1'!DN13,'aux gr1'!$A$12:$A$231,'aux gr1'!$E$12:$E$121)) -> Pré: MAT01101 | G14: =IF('aux gr1'!DO13="","",LOOKUP('aux gr1'!DO13,'aux gr1'!$A$12:$A$231,'aux gr1'!$E$12:$E$121)) -> Pré: FIS01201 FIS01204 | J14: =IF('aux gr1'!DP13="","",LOOKUP('aux gr1'!DP13,'aux gr1'!$A$12:$A$231,'aux gr1'!$E$12:$E$121)) -> Pré: --- | M14: =IF('aux gr1'!DQ13="","",LOOKUP('aux gr1'!DQ13,'aux gr1'!$A$12:$A$231,'aux gr1'!$E$12:$E$121)) -> Pré: CCT01221 CIV01318 CIV01422 | P14: =IF('aux gr1'!DR13="","",LOOKUP('aux gr1'!DR13,'aux gr1'!$A$12:$A$231,'aux gr1'!$E$12:$E$121)) -> Pré: CIV01328 CIV01425 | S14: =IF('aux gr1'!DS13="","",LOOKUP('aux gr1'!DS13,'aux gr1'!$A$12:$A$231,'aux gr1'!$E$12:$E$121)) -> Pré: CIV01329 | V14: =IF('aux gr1'!DT13="","",LOOKUP('aux gr1'!DT13,'aux gr1'!$A$12:$A$231,'aux gr1'!$E$12:$E$121)) -> Pré: ---
A15: =IF('aux gr1'!DM13="","",LOOKUP('aux gr1'!DM13,'aux gr1'!$A$12:$A$231,'aux gr1'!$F$12:$F$121)) -> Co: --- | D15: =IF('aux gr1'!DN13="","",LOOKUP('aux gr1'!DN13,'aux gr1'!$A$12:$A$231,'aux gr1'!$F$12:$F$121)) -> Co: FIS01202 | G15: =IF('aux gr1'!DO13="","",LOOKUP('aux gr1'!DO13,'aux gr1'!$A$12:$A$231,'aux gr1'!$F$12:$F$121)) -> Co: --- | J15: =IF('aux gr1'!DP13="","",LOOKUP('aux gr1'!DP13,'aux gr1'!$A$12:$A$231,'aux gr1'!$F$12:$F$121)) -> Co: --- | M15: =IF('aux gr1'!DQ13="","",LOOKUP('aux gr1'!DQ13,'aux gr1'!$A$12:$A$231,'aux gr1'!$F$12:$F$121)) -> Co: --- | P15: =IF('aux gr1'!DR13="","",LOOKUP('aux gr1'!DR13,'aux gr1'!$A$12:$A$231,'aux gr1'!$F$12:$F$121)) -> Co: --- | S15: =IF('aux gr1'!DS13="","",LOOKUP('aux gr1'!DS13,'aux gr1'!$A$12:$A$231,'aux gr1'!$F$12:$F$121)) -> Co: --- | V15: =IF('aux gr1'!DT13="","",LOOKUP('aux gr1'!DT13,'aux gr1'!$A$12:$A$231,'aux gr1'!$F$12:$F$121)) -> Co: ---
A17: =IF('aux gr1'!DM14="","",LOOKUP('aux gr1'!DM14,'aux gr1'!$A$12:$A$231,'aux gr1'!$P$12:$P$121)) -> CCT01113 | B17: =IF('aux gr1'!DM14="","",LOOKUP('aux gr1'!DM14,'aux gr1'!$A$12:$A$231,'aux gr1'!$AA$12:$AA$121)) -> 51h | D17: =IF('aux gr1'!DN14="","",LOOKUP('aux gr1'!DN14,'aux gr1'!$A$12:$A$231,'aux gr1'!$P$12:$P$121)) -> MAT01203 | E17: =IF('aux gr1'!DN14="","",LOOKUP('aux gr1'!DN14,'aux gr1'!$A$12:$A$231,'aux gr1'!$AA$12:$AA$121)) -> 85h | G17: =IF('aux gr1'!DO14="","",LOOKUP('aux gr1'!DO14,'aux gr1'!$A$12:$A$231,'aux gr1'!$P$12:$P$121)) -> FIS01103 | H17: =IF('aux gr1'!DO14="","",LOOKUP('aux gr1'!DO14,'aux gr1'!$A$12:$A$231,'aux gr1'!$AA$12:$AA$121)) -> 68h | J17: =IF('aux gr1'!DP14="","",LOOKUP('aux gr1'!DP14,'aux gr1'!$A$12:$A$231,'aux gr1'!$P$12:$P$121)) -> CIV01422 | K17: =IF('aux gr1'!DP14="","",LOOKUP('aux gr1'!DP14,'aux gr1'!$A$12:$A$231,'aux gr1'!$AA$12:$AA$121)) -> 68h | M17: =IF('aux gr1'!DQ14="","",LOOKUP('aux gr1'!DQ14,'aux gr1'!$A$12:$A$231,'aux gr1'!$P$12:$P$121)) -> CIV01437 | N17: =IF('aux gr1'!DQ14="","",LOOKUP('aux gr1'!DQ14,'aux gr1'!$A$12:$A$231,'aux gr1'!$AA$12:$AA$121)) -> 68h | P17: =IF('aux gr1'!DR14="","",LOOKUP('aux gr1'!DR14,'aux gr1'!$A$12:$A$231,'aux gr1'!$P$12:$P$121)) -> CIV01436 | Q17: =IF('aux gr1'!DR14="","",LOOKUP('aux gr1'!DR14,'aux gr1'!$A$12:$A$231,'aux gr1'!$AA$12:$AA$121)) -> 68h | S17: =IF('aux gr1'!DS14="","",LOOKUP('aux gr1'!DS14,'aux gr1'!$A$12:$A$231,'aux gr1'!$P$12:$P$121)) -> CIV01343 | T17: =IF('aux gr1'!DS14="","",LOOKUP('aux gr1'!DS14,'aux gr1'!$A$12:$A$231,'aux gr1'!$AA$12:$AA$121)) -> 68h | V17: =IF('aux gr1'!DT14="","",LOOKUP('aux gr1'!DT14,'aux gr1'!$A$12:$A$231,'aux gr1'!$P$12:$P$121)) -> CIV01446 | W17: =IF('aux gr1'!DT14="","",LOOKUP('aux gr1'!DT14,'aux gr1'!$A$12:$A$231,'aux gr1'!$AA$12:$AA$121)) -> 85h
A18: =IF('aux gr1'!DM14="","",LOOKUP('aux gr1'!DM14,'aux gr1'!$A$12:$A$231,'aux gr1'!$B$12:$B$121)) -> Introdução à Engenharia Ambiental | D18: =IF('aux gr1'!DN14="","",LOOKUP('aux gr1'!DN14,'aux gr1'!$A$12:$A$231,'aux gr1'!$B$12:$B$121)) -> Cálculo Diferencial e Integral II | G18: =IF('aux gr1'!DO14="","",LOOKUP('aux gr1'!DO14,'aux gr1'!$A$12:$A$231,'aux gr1'!$B$12:$B$121)) -> Física Geral II | J18: =IF('aux gr1'!DP14="","",LOOKUP('aux gr1'!DP14,'aux gr1'!$A$12:$A$231,'aux gr1'!$B$12:$B$121)) -> Resistência dos Materiais | M18: =IF('aux gr1'!DQ14="","",LOOKUP('aux gr1'!DQ14,'aux gr1'!$A$12:$A$231,'aux gr1'!$B$12:$B$121)) -> Instalações Prediais | P18: =IF('aux gr1'!DR14="","",LOOKUP('aux gr1'!DR14,'aux gr1'!$A$12:$A$231,'aux gr1'!$B$12:$B$121)) -> Construção Civil | S18: =IF('aux gr1'!DS14="","",LOOKUP('aux gr1'!DS14,'aux gr1'!$A$12:$A$231,'aux gr1'!$B$12:$B$121)) -> Hidrologia e Recursos Hídricos | V18: =IF('aux gr1'!DT14="","",LOOKUP('aux gr1'!DT14,'aux gr1'!$A$12:$A$231,'aux gr1'!$B$12:$B$121)) -> Seminários de Engenharia
A19: =IF('aux gr1'!DM14="","",LOOKUP('aux gr1'!DM14,'aux gr1'!$A$12:$A$231,'aux gr1'!$AC$12:$AC$121)) -> 3cr/3t | B19: =IF('aux gr1'!DM14="","",LOOKUP('aux gr1'!DM14,'aux gr1'!$A$12:$A$231,'aux gr1'!$V$12:$V$121)) -> Pro. | D19: =IF('aux gr1'!DN14="","",LOOKUP('aux gr1'!DN14,'aux gr1'!$A$12:$A$231,'aux gr1'!$AC$12:$AC$121)) -> 5cr/5t | E19: =IF('aux gr1'!DN14="","",LOOKUP('aux gr1'!DN14,'aux gr1'!$A$12:$A$231,'aux gr1'!$V$12:$V$121)) -> Bás. | G19: =IF('aux gr1'!DO14="","",LOOKUP('aux gr1'!DO14,'aux gr1'!$A$12:$A$231,'aux gr1'!$AC$12:$AC$121)) -> 4cr/4t | H19: =IF('aux gr1'!DO14="","",LOOKUP('aux gr1'!DO14,'aux gr1'!$A$12:$A$231,'aux gr1'!$V$12:$V$121)) -> Bás. | J19: =IF('aux gr1'!DP14="","",LOOKUP('aux gr1'!DP14,'aux gr1'!$A$12:$A$231,'aux gr1'!$AC$12:$AC$121)) -> 4cr/4t | K19: =IF('aux gr1'!DP14="","",LOOKUP('aux gr1'!DP14,'aux gr1'!$A$12:$A$231,'aux gr1'!$V$12:$V$121)) -> Pro. | M19: =IF('aux gr1'!DQ14="","",LOOKUP('aux gr1'!DQ14,'aux gr1'!$A$12:$A$231,'aux gr1'!$AC$12:$AC$121)) -> 4cr/4t | N19: =IF('aux gr1'!DQ14="","",LOOKUP('aux gr1'!DQ14,'aux gr1'!$A$12:$A$231,'aux gr1'!$V$12:$V$121)) -> Esp. | P19: =IF('aux gr1'!DR14="","",LOOKUP('aux gr1'!DR14,'aux gr1'!$A$12:$A$231,'aux gr1'!$AC$12:$AC$121)) -> 4cr/4t | Q19: =IF('aux gr1'!DR14="","",LOOKUP('aux gr1'!DR14,'aux gr1'!$A$12:$A$231,'aux gr1'!$V$12:$V$121)) -> Esp. | S19: =IF('aux gr1'!DS14="","",LOOKUP('aux gr1'!DS14,'aux gr1'!$A$12:$A$231,'aux gr1'!$AC$12:$AC$121)) -> 4cr/4t | T19: =IF('aux gr1'!DS14="","",LOOKUP('aux gr1'!DS14,'aux gr1'!$A$12:$A$231,'aux gr1'!$V$12:$V$121)) -> Pro. | V19: =IF('aux gr1'!DT14="","",LOOKUP('aux gr1'!DT14,'aux gr1'!$A$12:$A$231,'aux gr1'!$AC$12:$AC$121)) -> 2cr/1t + 1e | W19: =IF('aux gr1'!DT14="","",LOOKUP('aux gr1'!DT14,'aux gr1'!$A$12:$A$231,'aux gr1'!$V$12:$V$121)) -> ----
A20: =IF('aux gr1'!DM14="","",LOOKUP('aux gr1'!DM14,'aux gr1'!$A$12:$A$231,'aux gr1'!$E$12:$E$121)) -> Pré: --- | D20: =IF('aux gr1'!DN14="","",LOOKUP('aux gr1'!DN14,'aux gr1'!$A$12:$A$231,'aux gr1'!$E$12:$E$121)) -> Pré: MAT01101 | G20: =IF('aux gr1'!DO14="","",LOOKUP('aux gr1'!DO14,'aux gr1'!$A$12:$A$231,'aux gr1'!$E$12:$E$121)) -> Pré: FIS01201 FIS01204 MAT01203 | J20: =IF('aux gr1'!DP14="","",LOOKUP('aux gr1'!DP14,'aux gr1'!$A$12:$A$231,'aux gr1'!$E$12:$E$121)) -> Pré: CIV01317 | M20: =IF('aux gr1'!DQ14="","",LOOKUP('aux gr1'!DQ14,'aux gr1'!$A$12:$A$231,'aux gr1'!$E$12:$E$121)) -> Pré: FIS01205 FIS01206 | P20: =IF('aux gr1'!DR14="","",LOOKUP('aux gr1'!DR14,'aux gr1'!$A$12:$A$231,'aux gr1'!$E$12:$E$121)) -> Pré: CIV01425 CIV01437 | S20: =IF('aux gr1'!DS14="","",LOOKUP('aux gr1'!DS14,'aux gr1'!$A$12:$A$231,'aux gr1'!$E$12:$E$121)) -> Pré: PRO01121 CIV01426 | V20: =IF('aux gr1'!DT14="","",LOOKUP('aux gr1'!DT14,'aux gr1'!$A$12:$A$231,'aux gr1'!$E$12:$E$121)) -> Pré: ---
A21: =IF('aux gr1'!DM14="","",LOOKUP('aux gr1'!DM14,'aux gr1'!$A$12:$A$231,'aux gr1'!$F$12:$F$121)) -> Co: --- | D21: =IF('aux gr1'!DN14="","",LOOKUP('aux gr1'!DN14,'aux gr1'!$A$12:$A$231,'aux gr1'!$F$12:$F$121)) -> Co: MAT01105 | G21: =IF('aux gr1'!DO14="","",LOOKUP('aux gr1'!DO14,'aux gr1'!$A$12:$A$231,'aux gr1'!$F$12:$F$121)) -> Co: FIS01109 | J21: =IF('aux gr1'!DP14="","",LOOKUP('aux gr1'!DP14,'aux gr1'!$A$12:$A$231,'aux gr1'!$F$12:$F$121)) -> Co: --- | M21: =IF('aux gr1'!DQ14="","",LOOKUP('aux gr1'!DQ14,'aux gr1'!$A$12:$A$231,'aux gr1'!$F$12:$F$121)) -> Co: --- | P21: =IF('aux gr1'!DR14="","",LOOKUP('aux gr1'!DR14,'aux gr1'!$A$12:$A$231,'aux gr1'!$F$12:$F$121)) -> Co: --- | S21: =IF('aux gr1'!DS14="","",LOOKUP('aux gr1'!DS14,'aux gr1'!$A$12:$A$231,'aux gr1'!$F$12:$F$121)) -> Co: --- | V21: =IF('aux gr1'!DT14="","",LOOKUP('aux gr1'!DT14,'aux gr1'!$A$12:$A$231,'aux gr1'!$F$12:$F$121)) -> Co: ---
A23: =IF('aux gr1'!DM15="","",LOOKUP('aux gr1'!DM15,'aux gr1'!$A$12:$A$231,'aux gr1'!$P$12:$P$121)) -> MAT01101 | B23: =IF('aux gr1'!DM15="","",LOOKUP('aux gr1'!DM15,'aux gr1'!$A$12:$A$231,'aux gr1'!$AA$12:$AA$121)) -> 102h | D23: =IF('aux gr1'!DN15="","",LOOKUP('aux gr1'!DN15,'aux gr1'!$A$12:$A$231,'aux gr1'!$P$12:$P$121)) -> MAT01204 | E23: =IF('aux gr1'!DN15="","",LOOKUP('aux gr1'!DN15,'aux gr1'!$A$12:$A$231,'aux gr1'!$AA$12:$AA$121)) -> 68h | G23: =IF('aux gr1'!DO15="","",LOOKUP('aux gr1'!DO15,'aux gr1'!$A$12:$A$231,'aux gr1'!$P$12:$P$121)) -> FIS01109 | H23: =IF('aux gr1'!DO15="","",LOOKUP('aux gr1'!DO15,'aux gr1'!$A$12:$A$231,'aux gr1'!$AA$12:$AA$121)) -> 34h | J23: =IF('aux gr1'!DP15="","",LOOKUP('aux gr1'!DP15,'aux gr1'!$A$12:$A$231,'aux gr1'!$P$12:$P$121)) -> CCT01221 | K23: =IF('aux gr1'!DP15="","",LOOKUP('aux gr1'!DP15,'aux gr1'!$A$12:$A$231,'aux gr1'!$AA$12:$AA$121)) -> 85h | M23: =IF('aux gr1'!DQ15="","",LOOKUP('aux gr1'!DQ15,'aux gr1'!$A$12:$A$231,'aux gr1'!$P$12:$P$121)) -> CIV01328 | N23: =IF('aux gr1'!DQ15="","",LOOKUP('aux gr1'!DQ15,'aux gr1'!$A$12:$A$231,'aux gr1'!$AA$12:$AA$121)) -> 68h | P23: =IF('aux gr1'!DR15="","",LOOKUP('aux gr1'!DR15,'aux gr1'!$A$12:$A$231,'aux gr1'!$P$12:$P$121)) -> CIV01433 | Q23: =IF('aux gr1'!DR15="","",LOOKUP('aux gr1'!DR15,'aux gr1'!$A$12:$A$231,'aux gr1'!$AA$12:$AA$121)) -> 68h | S23: =IF('aux gr1'!DS15="","",LOOKUP('aux gr1'!DS15,'aux gr1'!$A$12:$A$231,'aux gr1'!$P$12:$P$121)) -> CIV01339 | T23: =IF('aux gr1'!DS15="","",LOOKUP('aux gr1'!DS15,'aux gr1'!$A$12:$A$231,'aux gr1'!$AA$12:$AA$121)) -> 102h | V23: =IF('aux gr1'!DT15="","",LOOKUP('aux gr1'!DT15,'aux gr1'!$A$12:$A$231,'aux gr1'!$P$12:$P$121)) -> CIV01444 | W23: =IF('aux gr1'!DT15="","",LOOKUP('aux gr1'!DT15,'aux gr1'!$A$12:$A$231,'aux gr1'!$AA$12:$AA$121)) -> 136h
A24: =IF('aux gr1'!DM15="","",LOOKUP('aux gr1'!DM15,'aux gr1'!$A$12:$A$231,'aux gr1'!$B$12:$B$121)) -> Cálculo Diferencial e Integral I | D24: =IF('aux gr1'!DN15="","",LOOKUP('aux gr1'!DN15,'aux gr1'!$A$12:$A$231,'aux gr1'!$B$12:$B$121)) -> Álgebra Linear | G24: =IF('aux gr1'!DO15="","",LOOKUP('aux gr1'!DO15,'aux gr1'!$A$12:$A$231,'aux gr1'!$B$12:$B$121)) -> Laboratório de Física Geral II | J24: =IF('aux gr1'!DP15="","",LOOKUP('aux gr1'!DP15,'aux gr1'!$A$12:$A$231,'aux gr1'!$B$12:$B$121)) -> Fenômenos de Transporte | M24: =IF('aux gr1'!DQ15="","",LOOKUP('aux gr1'!DQ15,'aux gr1'!$A$12:$A$231,'aux gr1'!$B$12:$B$121)) -> Análise Estrutural II | P24: =IF('aux gr1'!DR15="","",LOOKUP('aux gr1'!DR15,'aux gr1'!$A$12:$A$231,'aux gr1'!$B$12:$B$121)) -> Análise Estrutural III | S24: =IF('aux gr1'!DS15="","",LOOKUP('aux gr1'!DS15,'aux gr1'!$A$12:$A$231,'aux gr1'!$B$12:$B$121)) -> Estruturas de Aço e Madeira | V24: =IF('aux gr1'!DT15="","",LOOKUP('aux gr1'!DT15,'aux gr1'!$A$12:$A$231,'aux gr1'!$B$12:$B$121)) -> Projeto Final
A25: =IF('aux gr1'!DM15="","",LOOKUP('aux gr1'!DM15,'aux gr1'!$A$12:$A$231,'aux gr1'!$AC$12:$AC$121)) -> 6cr/6t | B25: =IF('aux gr1'!DM15="","",LOOKUP('aux gr1'!DM15,'aux gr1'!$A$12:$A$231,'aux gr1'!$V$12:$V$121)) -> Bás. | D25: =IF('aux gr1'!DN15="","",LOOKUP('aux gr1'!DN15,'aux gr1'!$A$12:$A$231,'aux gr1'!$AC$12:$AC$121)) -> 4cr/4t | E25: =IF('aux gr1'!DN15="","",LOOKUP('aux gr1'!DN15,'aux gr1'!$A$12:$A$231,'aux gr1'!$V$12:$V$121)) -> Bás. | G25: =IF('aux gr1'!DO15="","",LOOKUP('aux gr1'!DO15,'aux gr1'!$A$12:$A$231,'aux gr1'!$AC$12:$AC$121)) -> 1cr/1p | H25: =IF('aux gr1'!DO15="","",LOOKUP('aux gr1'!DO15,'aux gr1'!$A$12:$A$231,'aux gr1'!$V$12:$V$121)) -> Bás. | J25: =IF('aux gr1'!DP15="","",LOOKUP('aux gr1'!DP15,'aux gr1'!$A$12:$A$231,'aux gr1'!$AC$12:$AC$121)) -> 4cr/3t + 1p | K25: =IF('aux gr1'!DP15="","",LOOKUP('aux gr1'!DP15,'aux gr1'!$A$12:$A$231,'aux gr1'!$V$12:$V$121)) -> Pro. | M25: =IF('aux gr1'!DQ15="","",LOOKUP('aux gr1'!DQ15,'aux gr1'!$A$12:$A$231,'aux gr1'!$AC$12:$AC$121)) -> 4cr/4t | N25: =IF('aux gr1'!DQ15="","",LOOKUP('aux gr1'!DQ15,'aux gr1'!$A$12:$A$231,'aux gr1'!$V$12:$V$121)) -> Esp. | P25: =IF('aux gr1'!DR15="","",LOOKUP('aux gr1'!DR15,'aux gr1'!$A$12:$A$231,'aux gr1'!$AC$12:$AC$121)) -> 4cr/4t | Q25: =IF('aux gr1'!DR15="","",LOOKUP('aux gr1'!DR15,'aux gr1'!$A$12:$A$231,'aux gr1'!$V$12:$V$121)) -> Esp. | S25: =IF('aux gr1'!DS15="","",LOOKUP('aux gr1'!DS15,'aux gr1'!$A$12:$A$231,'aux gr1'!$AC$12:$AC$121)) -> 6cr/6t | T25: =IF('aux gr1'!DS15="","",LOOKUP('aux gr1'!DS15,'aux gr1'!$A$12:$A$231,'aux gr1'!$V$12:$V$121)) -> Esp. | V25: =IF('aux gr1'!DT15="","",LOOKUP('aux gr1'!DT15,'aux gr1'!$A$12:$A$231,'aux gr1'!$AC$12:$AC$121)) -> 2cr/2e | W25: =IF('aux gr1'!DT15="","",LOOKUP('aux gr1'!DT15,'aux gr1'!$A$12:$A$231,'aux gr1'!$V$12:$V$121)) -> Esp.
A26: =IF('aux gr1'!DM15="","",LOOKUP('aux gr1'!DM15,'aux gr1'!$A$12:$A$231,'aux gr1'!$E$12:$E$121)) -> Pré: --- | D26: =IF('aux gr1'!DN15="","",LOOKUP('aux gr1'!DN15,'aux gr1'!$A$12:$A$231,'aux gr1'!$E$12:$E$121)) -> Pré: --- | G26: =IF('aux gr1'!DO15="","",LOOKUP('aux gr1'!DO15,'aux gr1'!$A$12:$A$231,'aux gr1'!$E$12:$E$121)) -> Pré: FIS01201 FIS01204 MAT01203 | J26: =IF('aux gr1'!DP15="","",LOOKUP('aux gr1'!DP15,'aux gr1'!$A$12:$A$231,'aux gr1'!$E$12:$E$121)) -> Pré: MAT01106 | M26: =IF('aux gr1'!DQ15="","",LOOKUP('aux gr1'!DQ15,'aux gr1'!$A$12:$A$231,'aux gr1'!$E$12:$E$121)) -> Pré: CIV01422 MAT01207 | P26: =IF('aux gr1'!DR15="","",LOOKUP('aux gr1'!DR15,'aux gr1'!$A$12:$A$231,'aux gr1'!$E$12:$E$121)) -> Pré: CIV01328 | S26: =IF('aux gr1'!DS15="","",LOOKUP('aux gr1'!DS15,'aux gr1'!$A$12:$A$231,'aux gr1'!$E$12:$E$121)) -> Pré: CIV01328 | V26: =IF('aux gr1'!DT15="","",LOOKUP('aux gr1'!DT15,'aux gr1'!$A$12:$A$231,'aux gr1'!$E$12:$E$121)) -> Pré: CIV01350
A27: =IF('aux gr1'!DM15="","",LOOKUP('aux gr1'!DM15,'aux gr1'!$A$12:$A$231,'aux gr1'!$F$12:$F$121)) -> Co: --- | D27: =IF('aux gr1'!DN15="","",LOOKUP('aux gr1'!DN15,'aux gr1'!$A$12:$A$231,'aux gr1'!$F$12:$F$121)) -> Co: --- | G27: =IF('aux gr1'!DO15="","",LOOKUP('aux gr1'!DO15,'aux gr1'!$A$12:$A$231,'aux gr1'!$F$12:$F$121)) -> Co: FIS01203 | J27: =IF('aux gr1'!DP15="","",LOOKUP('aux gr1'!DP15,'aux gr1'!$A$12:$A$231,'aux gr1'!$F$12:$F$121)) -> Co: --- | M27: =IF('aux gr1'!DQ15="","",LOOKUP('aux gr1'!DQ15,'aux gr1'!$A$12:$A$231,'aux gr1'!$F$12:$F$121)) -> Co: --- | P27: =IF('aux gr1'!DR15="","",LOOKUP('aux gr1'!DR15,'aux gr1'!$A$12:$A$231,'aux gr1'!$F$12:$F$121)) -> Co: --- | S27: =IF('aux gr1'!DS15="","",LOOKUP('aux gr1'!DS15,'aux gr1'!$A$12:$A$231,'aux gr1'!$F$12:$F$121)) -> Co: --- | V27: =IF('aux gr1'!DT15="","",LOOKUP('aux gr1'!DT15,'aux gr1'!$A$12:$A$231,'aux gr1'!$F$12:$F$121)) -> Co: ---
A29: =IF('aux gr1'!DM16="","",LOOKUP('aux gr1'!DM16,'aux gr1'!$A$12:$A$231,'aux gr1'!$P$12:$P$121)) -> QUI01104 | B29: =IF('aux gr1'!DM16="","",LOOKUP('aux gr1'!DM16,'aux gr1'!$A$12:$A$231,'aux gr1'!$AA$12:$AA$121)) -> 51h | D29: =IF('aux gr1'!DN16="","",LOOKUP('aux gr1'!DN16,'aux gr1'!$A$12:$A$231,'aux gr1'!$P$12:$P$121)) -> QUI01203 | E29: =IF('aux gr1'!DN16="","",LOOKUP('aux gr1'!DN16,'aux gr1'!$A$12:$A$231,'aux gr1'!$AA$12:$AA$121)) -> 51h | G29: =IF('aux gr1'!DO16="","",LOOKUP('aux gr1'!DO16,'aux gr1'!$A$12:$A$231,'aux gr1'!$P$12:$P$121)) -> MAT01105 | H29: =E35 -> 68h | J29: =IF('aux gr1'!DP16="","",LOOKUP('aux gr1'!DP16,'aux gr1'!$A$12:$A$231,'aux gr1'!$P$12:$P$121)) -> FIS01205 | K29: =IF('aux gr1'!DP16="","",LOOKUP('aux gr1'!DP16,'aux gr1'!$A$12:$A$231,'aux gr1'!$AA$12:$AA$121)) -> 68h | M29: =IF('aux gr1'!DQ16="","",LOOKUP('aux gr1'!DQ16,'aux gr1'!$A$12:$A$231,'aux gr1'!$P$12:$P$121)) -> CIV01426 | N29: =IF('aux gr1'!DQ16="","",LOOKUP('aux gr1'!DQ16,'aux gr1'!$A$12:$A$231,'aux gr1'!$AA$12:$AA$121)) -> 102h | P29: =IF('aux gr1'!DR16="","",LOOKUP('aux gr1'!DR16,'aux gr1'!$A$12:$A$231,'aux gr1'!$P$12:$P$121)) -> CIV01329 | Q29: =IF('aux gr1'!DR16="","",LOOKUP('aux gr1'!DR16,'aux gr1'!$A$12:$A$231,'aux gr1'!$AA$12:$AA$121)) -> 85h | S29: =IF('aux gr1'!DS16="","",LOOKUP('aux gr1'!DS16,'aux gr1'!$A$12:$A$231,'aux gr1'!$P$12:$P$121)) -> CIV01350 | T29: =IF('aux gr1'!DS16="","",LOOKUP('aux gr1'!DS16,'aux gr1'!$A$12:$A$231,'aux gr1'!$AA$12:$AA$121)) -> 68h | V29: =IF('aux gr1'!DT16="","",LOOKUP('aux gr1'!DT16,'aux gr1'!$A$12:$A$231,'aux gr1'!$P$12:$P$121)) -> CIV01563 | W29: =IF('aux gr1'!DT16="","",LOOKUP('aux gr1'!DT16,'aux gr1'!$A$12:$A$231,'aux gr1'!$AA$12:$AA$121)) -> 136h
A30: =IF('aux gr1'!DM16="","",LOOKUP('aux gr1'!DM16,'aux gr1'!$A$12:$A$231,'aux gr1'!$B$12:$B$121)) -> Química Geral I | D30: =IF('aux gr1'!DN16="","",LOOKUP('aux gr1'!DN16,'aux gr1'!$A$12:$A$231,'aux gr1'!$B$12:$B$121)) -> Química Geral II | G30: =IF('aux gr1'!DO16="","",LOOKUP('aux gr1'!DO16,'aux gr1'!$A$12:$A$231,'aux gr1'!$B$12:$B$121)) -> Cálculo Diferencial e Integral III | J30: =IF('aux gr1'!DP16="","",LOOKUP('aux gr1'!DP16,'aux gr1'!$A$12:$A$231,'aux gr1'!$B$12:$B$121)) -> Física Geral III | M30: =IF('aux gr1'!DQ16="","",LOOKUP('aux gr1'!DQ16,'aux gr1'!$A$12:$A$231,'aux gr1'!$B$12:$B$121)) -> Topografia | P30: =IF('aux gr1'!DR16="","",LOOKUP('aux gr1'!DR16,'aux gr1'!$A$12:$A$231,'aux gr1'!$B$12:$B$121)) -> Mecânica dos Solos II | S30: =IF('aux gr1'!DS16="","",LOOKUP('aux gr1'!DS16,'aux gr1'!$A$12:$A$231,'aux gr1'!$B$12:$B$121)) -> Proposta de Projeto Final | V30: =IF('aux gr1'!DT16="","",LOOKUP('aux gr1'!DT16,'aux gr1'!$A$12:$A$231,'aux gr1'!$B$12:$B$121)) -> Atividades Acadêmicas Científicas e Culturais - AACC II
A31: =IF('aux gr1'!DM16="","",LOOKUP('aux gr1'!DM16,'aux gr1'!$A$12:$A$231,'aux gr1'!$AC$12:$AC$121)) -> 3cr/3t | B31: =IF('aux gr1'!DM16="","",LOOKUP('aux gr1'!DM16,'aux gr1'!$A$12:$A$231,'aux gr1'!$V$12:$V$121)) -> Bás. | D31: =IF('aux gr1'!DN16="","",LOOKUP('aux gr1'!DN16,'aux gr1'!$A$12:$A$231,'aux gr1'!$AC$12:$AC$121)) -> 3cr/3t | E31: =IF('aux gr1'!DN16="","",LOOKUP('aux gr1'!DN16,'aux gr1'!$A$12:$A$231,'aux gr1'!$V$12:$V$121)) -> Bás. | G31: =IF('aux gr1'!DO16="","",LOOKUP('aux gr1'!DO16,'aux gr1'!$A$12:$A$231,'aux gr1'!$AC$12:$AC$121)) -> 4cr/4t | H31: =IF('aux gr1'!DO16="","",LOOKUP('aux gr1'!DO16,'aux gr1'!$A$12:$A$231,'aux gr1'!$V$12:$V$121)) -> Pro. | J31: =IF('aux gr1'!DP16="","",LOOKUP('aux gr1'!DP16,'aux gr1'!$A$12:$A$231,'aux gr1'!$AC$12:$AC$121)) -> 4cr/4t | K31: =IF('aux gr1'!DP16="","",LOOKUP('aux gr1'!DP16,'aux gr1'!$A$12:$A$231,'aux gr1'!$V$12:$V$121)) -> Bás. | M31: =IF('aux gr1'!DQ16="","",LOOKUP('aux gr1'!DQ16,'aux gr1'!$A$12:$A$231,'aux gr1'!$AC$12:$AC$121)) -> 5cr/4t + 1p | N31: =IF('aux gr1'!DQ16="","",LOOKUP('aux gr1'!DQ16,'aux gr1'!$A$12:$A$231,'aux gr1'!$V$12:$V$121)) -> Pro. | P31: =IF('aux gr1'!DR16="","",LOOKUP('aux gr1'!DR16,'aux gr1'!$A$12:$A$231,'aux gr1'!$AC$12:$AC$121)) -> 4cr/3t + 1p | Q31: =IF('aux gr1'!DR16="","",LOOKUP('aux gr1'!DR16,'aux gr1'!$A$12:$A$231,'aux gr1'!$V$12:$V$121)) -> Esp. | S31: =IF('aux gr1'!DS16="","",LOOKUP('aux gr1'!DS16,'aux gr1'!$A$12:$A$231,'aux gr1'!$AC$12:$AC$121)) -> 1cr/1e | T31: =IF('aux gr1'!DS16="","",LOOKUP('aux gr1'!DS16,'aux gr1'!$A$12:$A$231,'aux gr1'!$V$12:$V$121)) -> Esp. | V31: =IF('aux gr1'!DT16="","",LOOKUP('aux gr1'!DT16,'aux gr1'!$A$12:$A$231,'aux gr1'!$AC$12:$AC$121)) -> 2cr/2e | W31: =IF('aux gr1'!DT16="","",LOOKUP('aux gr1'!DT16,'aux gr1'!$A$12:$A$231,'aux gr1'!$V$12:$V$121)) -> ----
A32: =IF('aux gr1'!DM16="","",LOOKUP('aux gr1'!DM16,'aux gr1'!$A$12:$A$231,'aux gr1'!$E$12:$E$121)) -> Pré: --- | D32: =IF('aux gr1'!DN16="","",LOOKUP('aux gr1'!DN16,'aux gr1'!$A$12:$A$231,'aux gr1'!$E$12:$E$121)) -> Pré: QUI01104 | G32: =IF('aux gr1'!DO16="","",LOOKUP('aux gr1'!DO16,'aux gr1'!$A$12:$A$231,'aux gr1'!$E$12:$E$121)) -> Pré: MAT01203 | J32: =IF('aux gr1'!DP16="","",LOOKUP('aux gr1'!DP16,'aux gr1'!$A$12:$A$231,'aux gr1'!$E$12:$E$121)) -> Pré: FIS01103 FIS01109 MAT01105 | M32: =IF('aux gr1'!DQ16="","",LOOKUP('aux gr1'!DQ16,'aux gr1'!$A$12:$A$231,'aux gr1'!$E$12:$E$121)) -> Pré: --- | P32: =IF('aux gr1'!DR16="","",LOOKUP('aux gr1'!DR16,'aux gr1'!$A$12:$A$231,'aux gr1'!$E$12:$E$121)) -> Pré: CIV01423 | S32: =IF('aux gr1'!DS16="","",LOOKUP('aux gr1'!DS16,'aux gr1'!$A$12:$A$231,'aux gr1'!$E$12:$E$121)) -> Pré: --- | V32: =IF('aux gr1'!DT16="","",LOOKUP('aux gr1'!DT16,'aux gr1'!$A$12:$A$231,'aux gr1'!$E$12:$E$121)) -> Pré: ---
A33: =IF('aux gr1'!DM16="","",LOOKUP('aux gr1'!DM16,'aux gr1'!$A$12:$A$231,'aux gr1'!$F$12:$F$121)) -> Co: --- | D33: =IF('aux gr1'!DN16="","",LOOKUP('aux gr1'!DN16,'aux gr1'!$A$12:$A$231,'aux gr1'!$F$12:$F$121)) -> Co: --- | G33: =IF('aux gr1'!DO16="","",LOOKUP('aux gr1'!DO16,'aux gr1'!$A$12:$A$231,'aux gr1'!$F$12:$F$121)) -> Co: --- | J33: =IF('aux gr1'!DP16="","",LOOKUP('aux gr1'!DP16,'aux gr1'!$A$12:$A$231,'aux gr1'!$F$12:$F$121)) -> Co: FIS01206 | M33: =IF('aux gr1'!DQ16="","",LOOKUP('aux gr1'!DQ16,'aux gr1'!$A$12:$A$231,'aux gr1'!$F$12:$F$121)) -> Co: --- | P33: =IF('aux gr1'!DR16="","",LOOKUP('aux gr1'!DR16,'aux gr1'!$A$12:$A$231,'aux gr1'!$F$12:$F$121)) -> Co: --- | S33: =IF('aux gr1'!DS16="","",LOOKUP('aux gr1'!DS16,'aux gr1'!$A$12:$A$231,'aux gr1'!$F$12:$F$121)) -> Co: --- | V33: =IF('aux gr1'!DT16="","",LOOKUP('aux gr1'!DT16,'aux gr1'!$A$12:$A$231,'aux gr1'!$F$12:$F$121)) -> Co: ---
A35: =IF('aux gr1'!DM17="","",LOOKUP('aux gr1'!DM17,'aux gr1'!$A$12:$A$231,'aux gr1'!$P$12:$P$121)) -> LEL04101 | B35: =IF('aux gr1'!DM17="","",LOOKUP('aux gr1'!DM17,'aux gr1'!$A$12:$A$231,'aux gr1'!$AA$12:$AA$121)) -> 68h | D35: =IF('aux gr1'!DN17="","",LOOKUP('aux gr1'!DN17,'aux gr1'!$A$12:$A$231,'aux gr1'!$P$12:$P$121)) -> LEL04202 | E35: =IF('aux gr1'!DN17="","",LOOKUP('aux gr1'!DN17,'aux gr1'!$A$12:$A$231,'aux gr1'!$AA$12:$AA$121)) -> 68h | G35: =IF('aux gr1'!DO17="","",LOOKUP('aux gr1'!DO17,'aux gr1'!$A$12:$A$231,'aux gr1'!$P$12:$P$121)) -> MAT01106 | H35: =IF('aux gr1'!DO17="","",LOOKUP('aux gr1'!DO17,'aux gr1'!$A$12:$A$231,'aux gr1'!$AA$12:$AA$121)) -> 68h | J35: =IF('aux gr1'!DP17="","",LOOKUP('aux gr1'!DP17,'aux gr1'!$A$12:$A$231,'aux gr1'!$P$12:$P$121)) -> FIS01206 | K35: =IF('aux gr1'!DP17="","",LOOKUP('aux gr1'!DP17,'aux gr1'!$A$12:$A$231,'aux gr1'!$AA$12:$AA$121)) -> 34h | M35: =IF('aux gr1'!DQ17="","",LOOKUP('aux gr1'!DQ17,'aux gr1'!$A$12:$A$231,'aux gr1'!$P$12:$P$121)) -> CCT01332 | N35: =IF('aux gr1'!DQ17="","",LOOKUP('aux gr1'!DQ17,'aux gr1'!$A$12:$A$231,'aux gr1'!$AA$12:$AA$121)) -> 17h | P35: =IF('aux gr1'!DR17="","",LOOKUP('aux gr1'!DR17,'aux gr1'!$A$12:$A$231,'aux gr1'!$P$12:$P$121)) -> CIV01331 | Q35: =IF('aux gr1'!DR17="","",LOOKUP('aux gr1'!DR17,'aux gr1'!$A$12:$A$231,'aux gr1'!$AA$12:$AA$121)) -> 85h | S35: =IF('aux gr1'!DS17="","",LOOKUP('aux gr1'!DS17,'aux gr1'!$A$12:$A$231,'aux gr1'!$P$12:$P$121)) -> PRO01321 | T35: =IF('aux gr1'!DS17="","",LOOKUP('aux gr1'!DS17,'aux gr1'!$A$12:$A$231,'aux gr1'!$AA$12:$AA$121)) -> 68h | V35: =IF('aux gr1'!DT17="","",LOOKUP('aux gr1'!DT17,'aux gr1'!$A$12:$A$231,'aux gr1'!$P$12:$P$121)) -> PRO01441 | W35: =IF('aux gr1'!DT17="","",LOOKUP('aux gr1'!DT17,'aux gr1'!$A$12:$A$231,'aux gr1'!$AA$12:$AA$121)) -> 34h
A36: =IF('aux gr1'!DM17="","",LOOKUP('aux gr1'!DM17,'aux gr1'!$A$12:$A$231,'aux gr1'!$B$12:$B$121)) -> Português Instrumental I | D36: =IF('aux gr1'!DN17="","",LOOKUP('aux gr1'!DN17,'aux gr1'!$A$12:$A$231,'aux gr1'!$B$12:$B$121)) -> Português Instrumental II | G36: =IF('aux gr1'!DO17="","",LOOKUP('aux gr1'!DO17,'aux gr1'!$A$12:$A$231,'aux gr1'!$B$12:$B$121)) -> Métodos Matemáticos para Engenheiros | J36: =IF('aux gr1'!DP17="","",LOOKUP('aux gr1'!DP17,'aux gr1'!$A$12:$A$231,'aux gr1'!$B$12:$B$121)) -> Laboratório de Física Geral III | M36: =IF('aux gr1'!DQ17="","",LOOKUP('aux gr1'!DQ17,'aux gr1'!$A$12:$A$231,'aux gr1'!$B$12:$B$121)) -> Ética Profissional | P36: =IF('aux gr1'!DR17="","",LOOKUP('aux gr1'!DR17,'aux gr1'!$A$12:$A$231,'aux gr1'!$B$12:$B$121)) -> Estradas e Pavimentação | S36: =IF('aux gr1'!DS17="","",LOOKUP('aux gr1'!DS17,'aux gr1'!$A$12:$A$231,'aux gr1'!$B$12:$B$121)) -> Pesquisa Operacional | V36: =IF('aux gr1'!DT17="","",LOOKUP('aux gr1'!DT17,'aux gr1'!$A$12:$A$231,'aux gr1'!$B$12:$B$121)) -> Higiene e Segurança do Trabalho
A37: =IF('aux gr1'!DM17="","",LOOKUP('aux gr1'!DM17,'aux gr1'!$A$12:$A$231,'aux gr1'!$AC$12:$AC$121)) -> 2cr/2p | B37: =IF('aux gr1'!DM17="","",LOOKUP('aux gr1'!DM17,'aux gr1'!$A$12:$A$231,'aux gr1'!$V$12:$V$121)) -> Bás. | D37: =IF('aux gr1'!DN17="","",LOOKUP('aux gr1'!DN17,'aux gr1'!$A$12:$A$231,'aux gr1'!$AC$12:$AC$121)) -> 2cr/2p | E37: =IF('aux gr1'!DN17="","",LOOKUP('aux gr1'!DN17,'aux gr1'!$A$12:$A$231,'aux gr1'!$V$12:$V$121)) -> Bás. | G37: =IF('aux gr1'!DO17="","",LOOKUP('aux gr1'!DO17,'aux gr1'!$A$12:$A$231,'aux gr1'!$AC$12:$AC$121)) -> 4cr/4t | H37: =IF('aux gr1'!DO17="","",LOOKUP('aux gr1'!DO17,'aux gr1'!$A$12:$A$231,'aux gr1'!$V$12:$V$121)) -> Pro. | J37: =IF('aux gr1'!DP17="","",LOOKUP('aux gr1'!DP17,'aux gr1'!$A$12:$A$231,'aux gr1'!$AC$12:$AC$121)) -> 1cr/1p | K37: =IF('aux gr1'!DP17="","",LOOKUP('aux gr1'!DP17,'aux gr1'!$A$12:$A$231,'aux gr1'!$V$12:$V$121)) -> Bás. | M37: =IF('aux gr1'!DQ17="","",LOOKUP('aux gr1'!DQ17,'aux gr1'!$A$12:$A$231,'aux gr1'!$AC$12:$AC$121)) -> 1cr/1t | N37: =IF('aux gr1'!DQ17="","",LOOKUP('aux gr1'!DQ17,'aux gr1'!$A$12:$A$231,'aux gr1'!$V$12:$V$121)) -> Pro. | P37: =IF('aux gr1'!DR17="","",LOOKUP('aux gr1'!DR17,'aux gr1'!$A$12:$A$231,'aux gr1'!$AC$12:$AC$121)) -> 4cr/3t + 1p | Q37: =IF('aux gr1'!DR17="","",LOOKUP('aux gr1'!DR17,'aux gr1'!$A$12:$A$231,'aux gr1'!$V$12:$V$121)) -> Esp. | S37: =IF('aux gr1'!DS17="","",LOOKUP('aux gr1'!DS17,'aux gr1'!$A$12:$A$231,'aux gr1'!$AC$12:$AC$121)) -> 4cr/4t | T37: =IF('aux gr1'!DS17="","",LOOKUP('aux gr1'!DS17,'aux gr1'!$A$12:$A$231,'aux gr1'!$V$12:$V$121)) -> Pro. | V37: =IF('aux gr1'!DT17="","",LOOKUP('aux gr1'!DT17,'aux gr1'!$A$12:$A$231,'aux gr1'!$AC$12:$AC$121)) -> 2cr/2t | W37: =IF('aux gr1'!DT17="","",LOOKUP('aux gr1'!DT17,'aux gr1'!$A$12:$A$231,'aux gr1'!$V$12:$V$121)) -> Pro.
A38: =IF('aux gr1'!DM17="","",LOOKUP('aux gr1'!DM17,'aux gr1'!$A$12:$A$231,'aux gr1'!$E$12:$E$121)) -> Pré: --- | D38: =IF('aux gr1'!DN17="","",LOOKUP('aux gr1'!DN17,'aux gr1'!$A$12:$A$231,'aux gr1'!$E$12:$E$121)) -> Pré: LEL04101 | G38: =IF('aux gr1'!DO17="","",LOOKUP('aux gr1'!DO17,'aux gr1'!$A$12:$A$231,'aux gr1'!$E$12:$E$121)) -> Pré: MAT01203 | J38: =IF('aux gr1'!DP17="","",LOOKUP('aux gr1'!DP17,'aux gr1'!$A$12:$A$231,'aux gr1'!$E$12:$E$121)) -> Pré: FIS01103 FIS01109 MAT01105 | M38: =IF('aux gr1'!DQ17="","",LOOKUP('aux gr1'!DQ17,'aux gr1'!$A$12:$A$231,'aux gr1'!$E$12:$E$121)) -> Pré: --- | P38: =IF('aux gr1'!DR17="","",LOOKUP('aux gr1'!DR17,'aux gr1'!$A$12:$A$231,'aux gr1'!$E$12:$E$121)) -> Pré: CIV01423 CIV01426 | S38: =IF('aux gr1'!DS17="","",LOOKUP('aux gr1'!DS17,'aux gr1'!$A$12:$A$231,'aux gr1'!$E$12:$E$121)) -> Pré: PRO01121 | V38: =IF('aux gr1'!DT17="","",LOOKUP('aux gr1'!DT17,'aux gr1'!$A$12:$A$231,'aux gr1'!$E$12:$E$121)) -> Pré: ---
A39: =IF('aux gr1'!DM17="","",LOOKUP('aux gr1'!DM17,'aux gr1'!$A$12:$A$231,'aux gr1'!$F$12:$F$121)) -> Co: --- | D39: =IF('aux gr1'!DN17="","",LOOKUP('aux gr1'!DN17,'aux gr1'!$A$12:$A$231,'aux gr1'!$F$12:$F$121)) -> Co: --- | G39: =IF('aux gr1'!DO17="","",LOOKUP('aux gr1'!DO17,'aux gr1'!$A$12:$A$231,'aux gr1'!$F$12:$F$121)) -> Co: --- | J39: =IF('aux gr1'!DP17="","",LOOKUP('aux gr1'!DP17,'aux gr1'!$A$12:$A$231,'aux gr1'!$F$12:$F$121)) -> Co: FIS01205 | M39: =IF('aux gr1'!DQ17="","",LOOKUP('aux gr1'!DQ17,'aux gr1'!$A$12:$A$231,'aux gr1'!$F$12:$F$121)) -> Co: --- | P39: =IF('aux gr1'!DR17="","",LOOKUP('aux gr1'!DR17,'aux gr1'!$A$12:$A$231,'aux gr1'!$F$12:$F$121)) -> Co: --- | S39: =IF('aux gr1'!DS17="","",LOOKUP('aux gr1'!DS17,'aux gr1'!$A$12:$A$231,'aux gr1'!$F$12:$F$121)) -> Co: --- | V39: =IF('aux gr1'!DT17="","",LOOKUP('aux gr1'!DT17,'aux gr1'!$A$12:$A$231,'aux gr1'!$F$12:$F$121)) -> Co: ---
A41: =IF('aux gr1'!DM18="","",LOOKUP('aux gr1'!DM18,'aux gr1'!$A$12:$A$231,'aux gr1'!$P$12:$P$121)) | B41: =IF('aux gr1'!DM18="","",LOOKUP('aux gr1'!DM18,'aux gr1'!$A$12:$A$231,'aux gr1'!$AA$12:$AA$121)) -> 34h | D41: =IF('aux gr1'!DN18="","",LOOKUP('aux gr1'!DN18,'aux gr1'!$A$12:$A$231,'aux gr1'!$P$12:$P$121)) -> PRO01121 | E41: =IF('aux gr1'!DN18="","",LOOKUP('aux gr1'!DN18,'aux gr1'!$A$12:$A$231,'aux gr1'!$AA$12:$AA$121)) -> 68h | G41: =IF('aux gr1'!DO18="","",LOOKUP('aux gr1'!DO18,'aux gr1'!$A$12:$A$231,'aux gr1'!$P$12:$P$121)) -> MAT01102 | H41: =E35 -> 68h | J41: =IF('aux gr1'!DP18="","",LOOKUP('aux gr1'!DP18,'aux gr1'!$A$12:$A$231,'aux gr1'!$P$12:$P$121)) -> MAT01207 | K41: =IF('aux gr1'!DP18="","",LOOKUP('aux gr1'!DP18,'aux gr1'!$A$12:$A$231,'aux gr1'!$AA$12:$AA$121)) -> 68h | M41: =IF('aux gr1'!DQ18="","",LOOKUP('aux gr1'!DQ18,'aux gr1'!$A$12:$A$231,'aux gr1'!$P$12:$P$121)) -> CIV01562 | N41: =IF('aux gr1'!DQ18="","",LOOKUP('aux gr1'!DQ18,'aux gr1'!$A$12:$A$231,'aux gr1'!$AA$12:$AA$121)) -> 136h | P41: =IF('aux gr1'!DR18="","",LOOKUP('aux gr1'!DR18,'aux gr1'!$A$12:$A$231,'aux gr1'!$P$12:$P$121)) | Q41: =IF('aux gr1'!DR18="","",LOOKUP('aux gr1'!DR18,'aux gr1'!$A$12:$A$231,'aux gr1'!$AA$12:$AA$121)) | S41: =IF('aux gr1'!DS18="","",LOOKUP('aux gr1'!DS18,'aux gr1'!$A$12:$A$231,'aux gr1'!$P$12:$P$121)) | T41: =IF('aux gr1'!DS18="","",LOOKUP('aux gr1'!DS18,'aux gr1'!$A$12:$A$231,'aux gr1'!$AA$12:$AA$121)) -> 34h | V41: =IF('aux gr1'!DT18="","",LOOKUP('aux gr1'!DT18,'aux gr1'!$A$12:$A$231,'aux gr1'!$P$12:$P$121)) -> PRO01341 | W41: =IF('aux gr1'!DT18="","",LOOKUP('aux gr1'!DT18,'aux gr1'!$A$12:$A$231,'aux gr1'!$AA$12:$AA$121)) -> 51h
A42: =IF('aux gr1'!DM18="","",LOOKUP('aux gr1'!DM18,'aux gr1'!$A$12:$A$231,'aux gr1'!$B$12:$B$121)) -> Optativa Humanas | D42: =IF('aux gr1'!DN18="","",LOOKUP('aux gr1'!DN18,'aux gr1'!$A$12:$A$231,'aux gr1'!$B$12:$B$121)) -> Introdução à Probabilidade e Estatística | G42: =IF('aux gr1'!DO18="","",LOOKUP('aux gr1'!DO18,'aux gr1'!$A$12:$A$231,'aux gr1'!$B$12:$B$121)) -> Fundamentos da Ciência da Computação | J42: =IF('aux gr1'!DP18="","",LOOKUP('aux gr1'!DP18,'aux gr1'!$A$12:$A$231,'aux gr1'!$B$12:$B$121)) -> Cálculo Numérico | M42: =IF('aux gr1'!DQ18="","",LOOKUP('aux gr1'!DQ18,'aux gr1'!$A$12:$A$231,'aux gr1'!$B$12:$B$121)) -> Atividades Acadêmicas Científicas e Culturais - AACC I | P42: =IF('aux gr1'!DR18="","",LOOKUP('aux gr1'!DR18,'aux gr1'!$A$12:$A$231,'aux gr1'!$B$12:$B$121)) | S42: =IF('aux gr1'!DS18="","",LOOKUP('aux gr1'!DS18,'aux gr1'!$A$12:$A$231,'aux gr1'!$B$12:$B$121)) -> Optativa Tecnológicas | V42: =IF('aux gr1'!DT18="","",LOOKUP('aux gr1'!DT18,'aux gr1'!$A$12:$A$231,'aux gr1'!$B$12:$B$121)) -> Sistemas de Transportes
A43: =IF('aux gr1'!DM18="","",LOOKUP('aux gr1'!DM18,'aux gr1'!$A$12:$A$231,'aux gr1'!$AC$12:$AC$121)) -> 2cr/2t | B43: =IF('aux gr1'!DM18="","",LOOKUP('aux gr1'!DM18,'aux gr1'!$A$12:$A$231,'aux gr1'!$V$12:$V$121)) -> Out. | D43: =IF('aux gr1'!DN18="","",LOOKUP('aux gr1'!DN18,'aux gr1'!$A$12:$A$231,'aux gr1'!$AC$12:$AC$121)) -> 4cr/4t | E43: =IF('aux gr1'!DN18="","",LOOKUP('aux gr1'!DN18,'aux gr1'!$A$12:$A$231,'aux gr1'!$V$12:$V$121)) -> Pro. | G43: =IF('aux gr1'!DO18="","",LOOKUP('aux gr1'!DO18,'aux gr1'!$A$12:$A$231,'aux gr1'!$AC$12:$AC$121)) -> 4cr/3t + 1p | H43: =IF('aux gr1'!DO18="","",LOOKUP('aux gr1'!DO18,'aux gr1'!$A$12:$A$231,'aux gr1'!$V$12:$V$121)) -> Bás. | J43: =IF('aux gr1'!DP18="","",LOOKUP('aux gr1'!DP18,'aux gr1'!$A$12:$A$231,'aux gr1'!$AC$12:$AC$121)) -> 4cr/4t | K43: =IF('aux gr1'!DP18="","",LOOKUP('aux gr1'!DP18,'aux gr1'!$A$12:$A$231,'aux gr1'!$V$12:$V$121)) -> Bás. | M43: =IF('aux gr1'!DQ18="","",LOOKUP('aux gr1'!DQ18,'aux gr1'!$A$12:$A$231,'aux gr1'!$AC$12:$AC$121)) -> 2cr/2e | N43: =IF('aux gr1'!DQ18="","",LOOKUP('aux gr1'!DQ18,'aux gr1'!$A$12:$A$231,'aux gr1'!$V$12:$V$121)) -> ---- | P43: =IF('aux gr1'!DR18="","",LOOKUP('aux gr1'!DR18,'aux gr1'!$A$12:$A$231,'aux gr1'!$AC$12:$AC$121)) | S43: =IF('aux gr1'!DS18="","",LOOKUP('aux gr1'!DS18,'aux gr1'!$A$12:$A$231,'aux gr1'!$AC$12:$AC$121)) -> 2cr/2t | T43: =IF('aux gr1'!DS18="","",LOOKUP('aux gr1'!DS18,'aux gr1'!$A$12:$A$231,'aux gr1'!$V$12:$V$121)) -> Out. | V43: =IF('aux gr1'!DT18="","",LOOKUP('aux gr1'!DT18,'aux gr1'!$A$12:$A$231,'aux gr1'!$AC$12:$AC$121)) -> 3cr/3t | W43: =IF('aux gr1'!DT18="","",LOOKUP('aux gr1'!DT18,'aux gr1'!$A$12:$A$231,'aux gr1'!$V$12:$V$121)) -> Pro.
A44: =IF('aux gr1'!DM18="","",LOOKUP('aux gr1'!DM18,'aux gr1'!$A$12:$A$231,'aux gr1'!$E$12:$E$121)) -> Pré: --- | D44: =IF('aux gr1'!DN18="","",LOOKUP('aux gr1'!DN18,'aux gr1'!$A$12:$A$231,'aux gr1'!$E$12:$E$121)) -> Pré: MAT01101 | G44: =IF('aux gr1'!DO18="","",LOOKUP('aux gr1'!DO18,'aux gr1'!$A$12:$A$231,'aux gr1'!$E$12:$E$121)) -> Pré: --- | J44: =IF('aux gr1'!DP18="","",LOOKUP('aux gr1'!DP18,'aux gr1'!$A$12:$A$231,'aux gr1'!$E$12:$E$121)) -> Pré: MAT01102 MAT01204 | M44: =IF('aux gr1'!DQ18="","",LOOKUP('aux gr1'!DQ18,'aux gr1'!$A$12:$A$231,'aux gr1'!$E$12:$E$121)) -> Pré: --- | P44: =IF('aux gr1'!DR18="","",LOOKUP('aux gr1'!DR18,'aux gr1'!$A$12:$A$231,'aux gr1'!$E$12:$E$121)) | S44: =IF('aux gr1'!DS18="","",LOOKUP('aux gr1'!DS18,'aux gr1'!$A$12:$A$231,'aux gr1'!$E$12:$E$121)) -> Pré: --- | V44: =IF('aux gr1'!DT18="","",LOOKUP('aux gr1'!DT18,'aux gr1'!$A$12:$A$231,'aux gr1'!$E$12:$E$121)) -> Pré: PRO01321
A45: =IF('aux gr1'!DM18="","",LOOKUP('aux gr1'!DM18,'aux gr1'!$A$12:$A$231,'aux gr1'!$F$12:$F$121)) -> Co: --- | D45: =IF('aux gr1'!DN18="","",LOOKUP('aux gr1'!DN18,'aux gr1'!$A$12:$A$231,'aux gr1'!$F$12:$F$121)) -> Co: --- | G45: =IF('aux gr1'!DO18="","",LOOKUP('aux gr1'!DO18,'aux gr1'!$A$12:$A$231,'aux gr1'!$F$12:$F$121)) -> Co: --- | J45: =IF('aux gr1'!DP18="","",LOOKUP('aux gr1'!DP18,'aux gr1'!$A$12:$A$231,'aux gr1'!$F$12:$F$121)) -> Co: --- | M45: =IF('aux gr1'!DQ18="","",LOOKUP('aux gr1'!DQ18,'aux gr1'!$A$12:$A$231,'aux gr1'!$F$12:$F$121)) -> Co: --- | P45: =IF('aux gr1'!DR18="","",LOOKUP('aux gr1'!DR18,'aux gr1'!$A$12:$A$231,'aux gr1'!$F$12:$F$121)) | S45: =IF('aux gr1'!DS18="","",LOOKUP('aux gr1'!DS18,'aux gr1'!$A$12:$A$231,'aux gr1'!$F$12:$F$121)) -> Co: --- | V45: =IF('aux gr1'!DT18="","",LOOKUP('aux gr1'!DT18,'aux gr1'!$A$12:$A$231,'aux gr1'!$F$12:$F$121)) -> Co: CIV01331
D47: =IF('aux gr1'!DN19="","",LOOKUP('aux gr1'!DN19,'aux gr1'!$A$12:$A$231,'aux gr1'!$P$12:$P$121)) | E47: =IF('aux gr1'!DN19="","",LOOKUP('aux gr1'!DN19,'aux gr1'!$A$12:$A$231,'aux gr1'!$AA$12:$AA$121)) | G47: =IF('aux gr1'!DO19="","",LOOKUP('aux gr1'!DO19,'aux gr1'!$A$12:$A$231,'aux gr1'!$P$12:$P$121)) | H47: =IF('aux gr1'!DO19="","",LOOKUP('aux gr1'!DO19,'aux gr1'!$A$12:$A$231,'aux gr1'!$AA$12:$AA$121)) | J47: =IF('aux gr1'!DP19="","",LOOKUP('aux gr1'!DP19,'aux gr1'!$A$12:$A$231,'aux gr1'!$P$12:$P$121)) | K47: =IF('aux gr1'!DP19="","",LOOKUP('aux gr1'!DP19,'aux gr1'!$A$12:$A$231,'aux gr1'!$AA$12:$AA$121)) | M47: =IF('aux gr1'!DQ19="","",LOOKUP('aux gr1'!DQ19,'aux gr1'!$A$12:$A$231,'aux gr1'!$P$12:$P$121)) | N47: =IF('aux gr1'!DQ19="","",LOOKUP('aux gr1'!DQ19,'aux gr1'!$A$12:$A$231,'aux gr1'!$AA$12:$AA$121)) -> 34h | P47: =IF('aux gr1'!DR19="","",LOOKUP('aux gr1'!DR19,'aux gr1'!$A$12:$A$231,'aux gr1'!$P$12:$P$121)) | Q47: =IF('aux gr1'!DR19="","",LOOKUP('aux gr1'!DR19,'aux gr1'!$A$12:$A$231,'aux gr1'!$AA$12:$AA$121)) | S47: =IF('aux gr1'!DS19="","",LOOKUP('aux gr1'!DS19,'aux gr1'!$A$12:$A$231,'aux gr1'!$P$12:$P$121)) | T47: =IF('aux gr1'!DS19="","",LOOKUP('aux gr1'!DS19,'aux gr1'!$A$12:$A$231,'aux gr1'!$AA$12:$AA$121)) | V47: =IF('aux gr1'!DT19="","",LOOKUP('aux gr1'!DT19,'aux gr1'!$A$12:$A$231,'aux gr1'!$P$12:$P$121)) | W47: =IF('aux gr1'!DT19="","",LOOKUP('aux gr1'!DT19,'aux gr1'!$A$12:$A$231,'aux gr1'!$AA$12:$AA$121)) -> 34h
D48: =IF('aux gr1'!DN19="","",LOOKUP('aux gr1'!DN19,'aux gr1'!$A$12:$A$231,'aux gr1'!$B$12:$B$121)) | G48: =IF('aux gr1'!DO19="","",LOOKUP('aux gr1'!DO19,'aux gr1'!$A$12:$A$231,'aux gr1'!$B$12:$B$121)) | J48: =IF('aux gr1'!DP19="","",LOOKUP('aux gr1'!DP19,'aux gr1'!$A$12:$A$231,'aux gr1'!$B$12:$B$121)) | M48: =IF('aux gr1'!DQ19="","",LOOKUP('aux gr1'!DQ19,'aux gr1'!$A$12:$A$231,'aux gr1'!$B$12:$B$121)) -> Optativa Humanas | P48: =IF('aux gr1'!DR19="","",LOOKUP('aux gr1'!DR19,'aux gr1'!$A$12:$A$231,'aux gr1'!$B$12:$B$121)) | S48: =IF('aux gr1'!DS19="","",LOOKUP('aux gr1'!DS19,'aux gr1'!$A$12:$A$231,'aux gr1'!$B$12:$B$121)) | V48: =IF('aux gr1'!DT19="","",LOOKUP('aux gr1'!DT19,'aux gr1'!$A$12:$A$231,'aux gr1'!$B$12:$B$121)) -> Optativa Tecnológicas
D49: =IF('aux gr1'!DN19="","",LOOKUP('aux gr1'!DN19,'aux gr1'!$A$12:$A$231,'aux gr1'!$AC$12:$AC$121)) | G49: =IF('aux gr1'!DO19="","",LOOKUP('aux gr1'!DO19,'aux gr1'!$A$12:$A$231,'aux gr1'!$AC$12:$AC$121)) | J49: =IF('aux gr1'!DP19="","",LOOKUP('aux gr1'!DP19,'aux gr1'!$A$12:$A$231,'aux gr1'!$AC$12:$AC$121)) | M49: =IF('aux gr1'!DQ19="","",LOOKUP('aux gr1'!DQ19,'aux gr1'!$A$12:$A$231,'aux gr1'!$AC$12:$AC$121)) -> 2cr/2t | N49: =IF('aux gr1'!DQ19="","",LOOKUP('aux gr1'!DQ19,'aux gr1'!$A$12:$A$231,'aux gr1'!$V$12:$V$121)) -> Out. | P49: =IF('aux gr1'!DR19="","",LOOKUP('aux gr1'!DR19,'aux gr1'!$A$12:$A$231,'aux gr1'!$AC$12:$AC$121)) | S49: =IF('aux gr1'!DS19="","",LOOKUP('aux gr1'!DS19,'aux gr1'!$A$12:$A$231,'aux gr1'!$AC$12:$AC$121)) | V49: =IF('aux gr1'!DT19="","",LOOKUP('aux gr1'!DT19,'aux gr1'!$A$12:$A$231,'aux gr1'!$AC$12:$AC$121)) -> 2cr/2t | W49: =IF('aux gr1'!DT19="","",LOOKUP('aux gr1'!DT19,'aux gr1'!$A$12:$A$231,'aux gr1'!$V$12:$V$121)) -> Out.
...

Sheet Formulário
A1: =CONCATENATE(Instrucoes!C2," - ",Instrucoes!C3," - ",Instrucoes!C4," (","vs.",Instrucoes!C5,")") -> Formulário de Matrícula - Engenharia Civil - 2016-02 (vs.5.0)
C3: Matrícula:
C4: Aluno: | D4: =IFERROR(IF(D3="","",LOOKUP(MATCH(D3,'aux 3'!B2:B500,0),'aux 3'!A2:A500,'aux 3'!C2:C500)),'aux 7'!C8)
C5: =CONCATENATE("Provável formando no período ",Instrucoes!C4) -> Provável formando no período 2016-02
A7: 1 | C7: =IF(LOOKUP(A7,'aux 7'!$C$22:$C$41,'aux 7'!$D$22:$D$41)="","",LOOKUP(A7,'aux 7'!$C$22:$C$41,'aux 7'!$D$22:$D$41)) -> 1º Período Civil | D7: 3 | F7: =IF(LOOKUP(D7,'aux 7'!$C$22:$C$41,'aux 7'!$D$22:$D$41)="","",LOOKUP(D7,'aux 7'!$C$22:$C$41,'aux 7'!$D$22:$D$41)) -> 3º Período Civil | G7: 5 | I7: =IF(LOOKUP(G7,'aux 7'!$C$22:$C$41,'aux 7'!$D$22:$D$41)="","",LOOKUP(G7,'aux 7'!$C$22:$C$41,'aux 7'!$D$22:$D$41)) -> 5º Período Civil | J7: 7 | L7: =IF(LOOKUP(J7,'aux 7'!$C$22:$C$41,'aux 7'!$D$22:$D$41)="","",LOOKUP(J7,'aux 7'!$C$22:$C$41,'aux 7'!$D$22:$D$41)) -> 7º Período Civil
B9: =IF(C9="","","1 - ") -> 1 - | C9: =IF(LOOKUP(A$7,'aux 1'!$KN$11:$LG$11,'aux 1'!$KN12:$LG12)="","",LOOKUP(LOOKUP(A$7,'aux 1'!$KN$11:$LG$11,'aux 1'!$KN12:$LG12),'aux 1'!$A$12:$A$231,'aux 1'!$AQ$12:$AQ$231)) -> Cálculo Diferencial e Integral I | E9: =IF(F9="","","1 - ") -> 1 - | F9: =IF(LOOKUP(D$7,'aux 1'!$KN$11:$LG$11,'aux 1'!$KN12:$LG12)="","",LOOKUP(LOOKUP(D$7,'aux 1'!$KN$11:$LG$11,'aux 1'!$KN12:$LG12),'aux 1'!$A$12:$A$231,'aux 1'!$AQ$12:$AQ$231)) -> Física Geral II | H9: =IF(I9="","","1 - ") -> 1 - | I9: =IF(LOOKUP(G$7,'aux 1'!$KN$11:$LG$11,'aux 1'!$KN12:$LG12)="","",LOOKUP(LOOKUP(G$7,'aux 1'!$KN$11:$LG$11,'aux 1'!$KN12:$LG12),'aux 1'!$A$12:$A$231,'aux 1'!$AQ$12:$AQ$231)) -> Atividades Acadêmicas Científicas e Culturais - AACC I | K9: =IF(L9="","","1 - ") -> 1 - | L9: =IF(LOOKUP(J$7,'aux 1'!$KN$11:$LG$11,'aux 1'!$KN12:$LG12)="","",LOOKUP(LOOKUP(J$7,'aux 1'!$KN$11:$LG$11,'aux 1'!$KN12:$LG12),'aux 1'!$A$12:$A$231,'aux 1'!$AQ$12:$AQ$231)) -> Proposta de Projeto Final
B10: =IF(C10="","","2 - ") -> 2 - | C10: =IF(LOOKUP(A$7,'aux 1'!$KN$11:$LG$11,'aux 1'!$KN13:$LG13)="","",LOOKUP(LOOKUP(A$7,'aux 1'!$KN$11:$LG$11,'aux 1'!$KN13:$LG13),'aux 1'!$A$12:$A$231,'aux 1'!$AQ$12:$AQ$231)) -> Química Geral I | E10: =IF(F10="","","2 - ") -> 2 - | F10: =IF(LOOKUP(D$7,'aux 1'!$KN$11:$LG$11,'aux 1'!$KN13:$LG13)="","",LOOKUP(LOOKUP(D$7,'aux 1'!$KN$11:$LG$11,'aux 1'!$KN13:$LG13),'aux 1'!$A$12:$A$231,'aux 1'!$AQ$12:$AQ$231)) -> Laboratório de Física Geral II | H10: =IF(I10="","","2 - ") | I10: =IF(LOOKUP(G$7,'aux 1'!$KN$11:$LG$11,'aux 1'!$KN13:$LG13)="","",LOOKUP(LOOKUP(G$7,'aux 1'!$KN$11:$LG$11,'aux 1'!$KN13:$LG13),'aux 1'!$A$12:$A$231,'aux 1'!$AQ$12:$AQ$231)) | K10: =IF(L10="","","2 - ") | L10: =IF(LOOKUP(J$7,'aux 1'!$KN$11:$LG$11,'aux 1'!$KN13:$LG13)="","",LOOKUP(LOOKUP(J$7,'aux 1'!$KN$11:$LG$11,'aux 1'!$KN13:$LG13),'aux 1'!$A$12:$A$231,'aux 1'!$AQ$12:$AQ$231))
B11: =IF(C11="","","3 - ") -> 3 - | C11: =IF(LOOKUP(A$7,'aux 1'!$KN$11:$LG$11,'aux 1'!$KN14:$LG14)="","",LOOKUP(LOOKUP(A$7,'aux 1'!$KN$11:$LG$11,'aux 1'!$KN14:$LG14),'aux 1'!$A$12:$A$231,'aux 1'!$AQ$12:$AQ$231)) -> Português Instrumental I | E11: =IF(F11="","","3 - ") -> 3 - | F11: =IF(LOOKUP(D$7,'aux 1'!$KN$11:$LG$11,'aux 1'!$KN14:$LG14)="","",LOOKUP(LOOKUP(D$7,'aux 1'!$KN$11:$LG$11,'aux 1'!$KN14:$LG14),'aux 1'!$A$12:$A$231,'aux 1'!$AQ$12:$AQ$231)) -> Cálculo Diferencial e Integral III | H11: =IF(I11="","","3 - ") | I11: =IF(LOOKUP(G$7,'aux 1'!$KN$11:$LG$11,'aux 1'!$KN14:$LG14)="","",LOOKUP(LOOKUP(G$7,'aux 1'!$KN$11:$LG$11,'aux 1'!$KN14:$LG14),'aux 1'!$A$12:$A$231,'aux 1'!$AQ$12:$AQ$231)) | K11: =IF(L11="","","3 - ") | L11: =IF(LOOKUP(J$7,'aux 1'!$KN$11:$LG$11,'aux 1'!$KN14:$LG14)="","",LOOKUP(LOOKUP(J$7,'aux 1'!$KN$11:$LG$11,'aux 1'!$KN14:$LG14),'aux 1'!$A$12:$A$231,'aux 1'!$AQ$12:$AQ$231))
B12: =IF(C12="","","4 - ") | C12: =IF(LOOKUP(A$7,'aux 1'!$KN$11:$LG$11,'aux 1'!$KN15:$LG15)="","",LOOKUP(LOOKUP(A$7,'aux 1'!$KN$11:$LG$11,'aux 1'!$KN15:$LG15),'aux 1'!$A$12:$A$231,'aux 1'!$AQ$12:$AQ$231)) | E12: =IF(F12="","","4 - ") -> 4 - | F12: =IF(LOOKUP(D$7,'aux 1'!$KN$11:$LG$11,'aux 1'!$KN15:$LG15)="","",LOOKUP(LOOKUP(D$7,'aux 1'!$KN$11:$LG$11,'aux 1'!$KN15:$LG15),'aux 1'!$A$12:$A$231,'aux 1'!$AQ$12:$AQ$231)) -> Métodos Matemáticos para Engenheiros | H12: =IF(I12="","","4 - ") | I12: =IF(LOOKUP(G$7,'aux 1'!$KN$11:$LG$11,'aux 1'!$KN15:$LG15)="","",LOOKUP(LOOKUP(G$7,'aux 1'!$KN$11:$LG$11,'aux 1'!$KN15:$LG15),'aux 1'!$A$12:$A$231,'aux 1'!$AQ$12:$AQ$231)) | K12: =IF(L12="","","4 - ") | L12: =IF(LOOKUP(J$7,'aux 1'!$KN$11:$LG$11,'aux 1'!$KN15:$LG15)="","",LOOKUP(LOOKUP(J$7,'aux 1'!$KN$11:$LG$11,'aux 1'!$KN15:$LG15),'aux 1'!$A$12:$A$231,'aux 1'!$AQ$12:$AQ$231))
B13: =IF(C13="","","5 - ") | C13: =IF(LOOKUP(A$7,'aux 1'!$KN$11:$LG$11,'aux 1'!$KN16:$LG16)="","",LOOKUP(LOOKUP(A$7,'aux 1'!$KN$11:$LG$11,'aux 1'!$KN16:$LG16),'aux 1'!$A$12:$A$231,'aux 1'!$AQ$12:$AQ$231)) | E13: =IF(F13="","","5 - ") -> 5 - | F13: =IF(LOOKUP(D$7,'aux 1'!$KN$11:$LG$11,'aux 1'!$KN16:$LG16)="","",LOOKUP(LOOKUP(D$7,'aux 1'!$KN$11:$LG$11,'aux 1'!$KN16:$LG16),'aux 1'!$A$12:$A$231,'aux 1'!$AQ$12:$AQ$231)) -> Fundamentos da Ciência da Computação | H13: =IF(I13="","","5 - ") | I13: =IF(LOOKUP(G$7,'aux 1'!$KN$11:$LG$11,'aux 1'!$KN16:$LG16)="","",LOOKUP(LOOKUP(G$7,'aux 1'!$KN$11:$LG$11,'aux 1'!$KN16:$LG16),'aux 1'!$A$12:$A$231,'aux 1'!$AQ$12:$AQ$231)) | K13: =IF(L13="","","5 - ") | L13: =IF(LOOKUP(J$7,'aux 1'!$KN$11:$LG$11,'aux 1'!$KN16:$LG16)="","",LOOKUP(LOOKUP(J$7,'aux 1'!$KN$11:$LG$11,'aux 1'!$KN16:$LG16),'aux 1'!$A$12:$A$231,'aux 1'!$AQ$12:$AQ$231))
B14: =IF(C14="","","6 - ") | C14: =IF(LOOKUP(A$7,'aux 1'!$KN$11:$LG$11,'aux 1'!$KN17:$LG17)="","",LOOKUP(LOOKUP(A$7,'aux 1'!$KN$11:$LG$11,'aux 1'!$KN17:$LG17),'aux 1'!$A$12:$A$231,'aux 1'!$AQ$12:$AQ$231)) | E14: =IF(F14="","","6 - ") | F14: =IF(LOOKUP(D$7,'aux 1'!$KN$11:$LG$11,'aux 1'!$KN17:$LG17)="","",LOOKUP(LOOKUP(D$7,'aux 1'!$KN$11:$LG$11,'aux 1'!$KN17:$LG17),'aux 1'!$A$12:$A$231,'aux 1'!$AQ$12:$AQ$231)) | H14: =IF(I14="","","6 - ") | I14: =IF(LOOKUP(G$7,'aux 1'!$KN$11:$LG$11,'aux 1'!$KN17:$LG17)="","",LOOKUP(LOOKUP(G$7,'aux 1'!$KN$11:$LG$11,'aux 1'!$KN17:$LG17),'aux 1'!$A$12:$A$231,'aux 1'!$AQ$12:$AQ$231)) | K14: =IF(L14="","","6 - ") | L14: =IF(LOOKUP(J$7,'aux 1'!$KN$11:$LG$11,'aux 1'!$KN17:$LG17)="","",LOOKUP(LOOKUP(J$7,'aux 1'!$KN$11:$LG$11,'aux 1'!$KN17:$LG17),'aux 1'!$A$12:$A$231,'aux 1'!$AQ$12:$AQ$231))
B15: =IF(C15="","","7 - ") | C15: =IF(LOOKUP(A$7,'aux 1'!$KN$11:$LG$11,'aux 1'!$KN18:$LG18)="","",LOOKUP(LOOKUP(A$7,'aux 1'!$KN$11:$LG$11,'aux 1'!$KN18:$LG18),'aux 1'!$A$12:$A$231,'aux 1'!$AQ$12:$AQ$231)) | E15: =IF(F15="","","7 - ") | F15: =IF(LOOKUP(D$7,'aux 1'!$KN$11:$LG$11,'aux 1'!$KN18:$LG18)="","",LOOKUP(LOOKUP(D$7,'aux 1'!$KN$11:$LG$11,'aux 1'!$KN18:$LG18),'aux 1'!$A$12:$A$231,'aux 1'!$AQ$12:$AQ$231)) | H15: =IF(I15="","","7 - ") | I15: =IF(LOOKUP(G$7,'aux 1'!$KN$11:$LG$11,'aux 1'!$KN18:$LG18)="","",LOOKUP(LOOKUP(G$7,'aux 1'!$KN$11:$LG$11,'aux 1'!$KN18:$LG18),'aux 1'!$A$12:$A$231,'aux 1'!$AQ$12:$AQ$231)) | K15: =IF(L15="","","7 - ") | L15: =IF(LOOKUP(J$7,'aux 1'!$KN$11:$LG$11,'aux 1'!$KN18:$LG18)="","",LOOKUP(LOOKUP(J$7,'aux 1'!$KN$11:$LG$11,'aux 1'!$KN18:$LG18),'aux 1'!$A$12:$A$231,'aux 1'!$AQ$12:$AQ$231))
B16: =IF(C16="","","8 - ") | C16: =IF(LOOKUP(A$7,'aux 1'!$KN$11:$LG$11,'aux 1'!$KN19:$LG19)="","",LOOKUP(LOOKUP(A$7,'aux 1'!$KN$11:$LG$11,'aux 1'!$KN19:$LG19),'aux 1'!$A$12:$A$231,'aux 1'!$AQ$12:$AQ$231)) | E16: =IF(F16="","","8 - ") | F16: =IF(LOOKUP(D$7,'aux 1'!$KN$11:$LG$11,'aux 1'!$KN19:$LG19)="","",LOOKUP(LOOKUP(D$7,'aux 1'!$KN$11:$LG$11,'aux 1'!$KN19:$LG19),'aux 1'!$A$12:$A$231,'aux 1'!$AQ$12:$AQ$231)) | H16: =IF(I16="","","8 - ") | I16: =IF(LOOKUP(G$7,'aux 1'!$KN$11:$LG$11,'aux 1'!$KN19:$LG19)="","",LOOKUP(LOOKUP(G$7,'aux 1'!$KN$11:$LG$11,'aux 1'!$KN19:$LG19),'aux 1'!$A$12:$A$231,'aux 1'!$AQ$12:$AQ$231)) | K16: =IF(L16="","","8 - ") | L16: =IF(LOOKUP(J$7,'aux 1'!$KN$11:$LG$11,'aux 1'!$KN19:$LG19)="","",LOOKUP(LOOKUP(J$7,'aux 1'!$KN$11:$LG$11,'aux 1'!$KN19:$LG19),'aux 1'!$A$12:$A$231,'aux 1'!$AQ$12:$AQ$231))
