Workbook

Sheet Instrucoes
A1: Graduação - Engenharia Civil - UENF/CCT/LECIV
B2: Referente: | C2: Formulário de Matrícula
B3: Curso: | C3: Engenharia Civil
B4: Período: | C4: 2016-02
B5: Versão: | C5: 5.0
B6: Instruções: | C6: Leia atentamente as instruções antes de preencher essa planilha
B7: 1 - | C7: Antes de iniciar o preenchimento desse formulário salve-o em seu computador utilizando como nome do arquivo o número da sua matrícula (onze caracteres, sem espaços), um espaço, seguido do seu nome completo (ex: ; 000000000 Paulo Maia)
B8: 2 - | C8: A planilha é composta por: Grade, Formulário de pré-matrícula,
D9: Grade: é a grade que está em vigor no curso de Engenharia a Civil da UENF;
D10: Formulário: é o formulário onde serão selecionadas as disciplinas que você pretende se matricular
D11: Horário: é o horário das disciplinas que serão oferecidas nesse semestre (destaca-se que a oferta dessas disciplinas dependem da demanda de alunos para se formar turma e da disponibilidade de professores);
D12: Seu horário: é o horário montado a partir das disciplinas que você escolheu;
D13: Relatório: é o resumo das disciplinas selecionadas que será usado para fazer o planejamento do curso e a sua matrícula.
D14: aux…: são abas auxiliares para o funcionamento dessa planilha (não devem ser mexidas)
B15: 3 - | C15: Para iniciar o preenchimento do formulário proceda da seguinte forma:
B16: 3.1 - | C16: Digite o número da sua matricula no local indicado (sem espaços ou caracteres especiais). A planilha irá incluir o seu nome utilizando banco de dados da secretaria acadêmica;
B17: 3.2 - | C17: Se o seu nome não aparecer automaticamente, verifique o número de matrícula digitado. Caso seu nome continue não aparecendo, digite seu nome completo no campo indicado;
B18: 3.3 - | C18: Indique se será formando no próximo período;
B19: 4 - | C19: Seleção das disciplinas:
B20: 4.1 - | C20: Marque as disciplinas que pretende cursar no próximo semestre utilizando os quadros de seleção situados ao lado do nome da disciplina;
B21: 4.2 - | C21: Procure marcar somente as disciplinas que você tem possibilidade cursa, inclusive no caso de possibilidade de repetência;
B22: 4.3 - | C22: Caso exista conflito de horário as células que indicam os períodos ficarão em vermelho. Nesse caso o relatório de pré-matrícula não será gerado. Verifique os horários na parta correspondente;
B23: 4.4 - | C23: Você poderá ver na pasta "seu horário" as disciplinas, os horários e os possíveis conflitos;
B24: 4.5 - | C24: Após a seleção das disciplinas verifique o relatório gerado na pasta "relatório". O relatório não será gerado se houver alguma inconsistência nos dados de entrada;
B25: 5 - | C25: Para o encaminhamento do formulário à secretaria do CCT proceda da seguinte forma:
B26: 5.1 - | C26: Grave esse formulário em um dispositivo remoto (Pendrive, CD, HD Externo ou outro);
... B30: 5.5 - | C30: A Coordenação informa que as cópias dos arquivos serão vinculadas ao nome ou matrícula do aluno através do nome do arquivo. Por isso lembre-se de gravar a planilha como indicado no item 1.
B31: Lembre-se de gravar a sua planilha após cada modificação

Sheet Gradre
A1: Matriz Curricular de 2004 à 2016 - Graduação em Engenharia Civil - UENF/CCT/LECIV
A3: 1º PERÍODO | D3: 2º PERÍODO | G3: 3º PERÍODO | J3: 4º PERÍODO | M3: 5º PERÍODO | P3: 6º PERÍODO | S3: 7º PERÍODO | V3: 8º PERÍODO
A5: =IF('aux gr1'!DM12="","",LOOKUP('aux gr1'!DM12,'aux gr1'!$A$12:$A$231,'aux gr1'!$P$12:$P$121)) -> CIV01151 | B5: =IF('aux gr1'!DM12="","",LOOKUP('aux gr1'!DM12,'aux gr1'!$A$12:$A$231,'aux gr1'!$AA$12:$AA$121)) -> 85h | D5: =IF('aux gr1'!DN12="","",LOOKUP('aux gr1'!DN12,'aux gr1'!$A$12:$A$231,'aux gr1'!$P$12:$P$121)) -> FIS01202 | E5: =IF('aux gr1'!DN12="","",LOOKUP('aux gr1'!DN12,'aux gr1'!$A$12:$A$231,'aux gr1'!$AA$12:$AA$121)) -> 68h | G5: =IF('aux gr1'!DO12="","",LOOKUP('aux gr1'!DO12,'aux gr1'!$A$12:$A$231,'aux gr1'!$P$12:$P$121)) -> CIV01320 | H5: =IF('aux gr1'!DO12="","",LOOKUP('aux gr1'!DO12,'aux gr1'!$A$12:$A$231,'aux gr1'!$AA$12:$AA$121)) -> 68h | J5: =IF('aux gr1'!DP12="","",LOOKUP('aux gr1'!DP12,'aux gr1'!$A$12:$A$231,'aux gr1'!$P$12:$P$121)) -> CIV01425 | K5: =IF('aux gr1'!DP12="","",LOOKUP('aux gr1'!DP12,'aux gr1'!$A$12:$A$231,'aux gr1'!$AA$12:$AA$121)) -> 85h | M5: =IF('aux gr1'!DQ12="","",LOOKUP('aux gr1'!DQ12,'aux gr1'!$A$12:$A$231,'aux gr1'!$P$12:$P$121)) -> CIV01330 | N5: =IF('aux gr1'!DQ12="","",LOOKUP('aux gr1'!DQ12,'aux gr1'!$A$12:$A$231,'aux gr1'!$AA$12:$AA$121)) -> 85h | P5: =IF('aux gr1'!DR12="","",LOOKUP('aux gr1'!DR12,'aux gr1'!$A$12:$A$231,'aux gr1'!$P$12:$P$121)) -> CIV01447 | Q5: =IF('aux gr1'!DR12="","",LOOKUP('aux gr1'!DR12,'aux gr1'!$A$12:$A$231,'aux gr1'!$AA$12:$AA$121)) -> 68h | S5: =IF('aux gr1'!DS12="","",LOOKUP('aux gr1'!DS12,'aux gr1'!$A$12:$A$231,'aux gr1'!$P$12:$P$121)) -> CIV01340 | T5: =IF('aux gr1'!DS12="","",LOOKUP('aux gr1'!DS12,'aux gr1'!$A$12:$A$231,'aux gr1'!$AA$12:$AA$121)) -> 85h | V5: =IF('aux gr1'!DT12="","",LOOKUP('aux gr1'!DT12,'aux gr1'!$A$12:$A$231,'aux gr1'!$P$12:$P$121)) -> CIV01342 | W5: =IF('aux gr1'!DT12="","",LOOKUP('aux gr1'!DT12,'aux gr1'!$A$12:$A$231,'aux gr1'!$AA$12:$AA$121)) -> 85h
A6: =IF('aux gr1'!DM12="","",LOOKUP('aux gr1'!DM12,'aux gr1'!$A$12:$A$231,'aux gr1'!$B$12:$B$121)) -> Desenho Técnico | D6: =IF('aux gr1'!DN12="","",LOOKUP('aux gr1'!DN12,'aux gr1'!$A$12:$A$231,'aux gr1'!$B$12:$B$121)) -> Física Geral I | G6: =IF('aux gr1'!DO12="","",LOOKUP('aux gr1'!DO12,'aux gr1'!$A$12:$A$231,'aux gr1'!$B$12:$B$121)) -> Materiais de Construção I | J6: =IF('aux gr1'!DP12="","",LOOKUP('aux gr1'!DP12,'aux gr1'!$A$12:$A$231,'aux gr1'!$B$12:$B$121)) -> Materiais de Construção II | M6: =IF('aux gr1'!DQ12="","",LOOKUP('aux gr1'!DQ12,'aux gr1'!$A$12:$A$231,'aux gr1'!$B$12:$B$121)) -> Hidráulica | P6: =IF('aux gr1'!DR12="","",LOOKUP('aux gr1'!DR12,'aux gr1'!$A$12:$A$231,'aux gr1'!$B$12:$B$121)) -> Saneamento e Engenharia Ambiental | S6: =IF('aux gr1'!DS12="","",LOOKUP('aux gr1'!DS12,'aux gr1'!$A$12:$A$231,'aux gr1'!$B$12:$B$121)) -> Concreto Armado II | V6: =IF('aux gr1'!DT12="","",LOOKUP('aux gr1'!DT12,'aux gr1'!$A$12:$A$231,'aux gr1'!$B$12:$B$121)) -> Obras Geotécnicas
A7: =IF('aux gr1'!DM12="","",LOOKUP('aux gr1'!DM12,'aux gr1'!$A$12:$A$231,'aux gr1'!$AC$12:$AC$121)) -> 4cr/3t + 1p | B7: =IF('aux gr1'!DM12="","",LOOKUP('aux gr1'!DM12,'aux gr1'!$A$12:$A$231,'aux gr1'!$V$12:$V$121)) -> Bás. | D7: =IF('aux gr1'!DN12="","",LOOKUP('aux gr1'!DN12,'aux gr1'!$A$12:$A$231,'aux gr1'!$AC$12:$AC$121)) -> 4cr/4t | E7: =IF('aux gr1'!DN12="","",LOOKUP('aux gr1'!DN12,'aux gr1'!$A$12:$A$231,'aux gr1'!$V$12:$V$121)) -> Bás. | G7: =IF('aux gr1'!DO12="","",LOOKUP('aux gr1'!DO12,'aux gr1'!$A$12:$A$231,'aux gr1'!$AC$12:$AC$121)) -> 4cr/4t | H7: =IF('aux gr1'!DO12="","",LOOKUP('aux gr1'!DO12,'aux gr1'!$A$12:$A$231,'aux gr1'!$V$12:$V$121)) -> Bás. | J7: =IF('aux gr1'!DP12="","",LOOKUP('aux gr1'!DP12,'aux gr1'!$A$12:$A$231,'aux gr1'!$AC$12:$AC$121)) -> 4cr/3t + 1p | K7: =IF('aux gr1'!DP12="","",LOOKUP('aux gr1'!DP12,'aux gr1'!$A$12:$A$231,'aux gr1'!$V$12:$V$121)) -> Esp. | M7: =IF('aux gr1'!DQ12="","",LOOKUP('aux gr1'!DQ12,'aux gr1'!$A$12:$A$231,'aux gr1'!$AC$12:$AC$121)) -> 4cr/3t + 1p | N7: =IF('aux gr1'!DQ12="","",LOOKUP('aux gr1'!DQ12,'aux gr1'!$A$12:$A$231,'aux gr1'!$V$12:$V$121)) -> Pro. | P7: =IF('aux gr1'!DR12="","",LOOKUP('aux gr1'!DR12,'aux gr1'!$A$12:$A$231,'aux gr1'!$AC$12:$AC$121)) -> 4cr/4t | Q7: =IF('aux gr1'!DR12="","",LOOKUP('aux gr1'!DR12,'aux gr1'!$A$12:$A$231,'aux gr1'!$V$12:$V$121)) -> Esp. | S7: =IF('aux gr1'!DS12="","",LOOKUP('aux gr1'!DS12,'aux gr1'!$A$12:$A$231,'aux gr1'!$AC$12:$AC$121)) -> 5cr/5t | T7: =IF('aux gr1'!DS12="","",LOOKUP('aux gr1'!DS12,'aux gr1'!$A$12:$A$231,'aux gr1'!$V$12:$V$121)) -> Esp. | V7: =IF('aux gr1'!DT12="","",LOOKUP('aux gr1'!DT12,'aux gr1'!$A$12:$A$231,'aux gr1'!$AC$12:$AC$121)) -> 5cr/5t | W7: =IF('aux gr1'!DT12="","",LOOKUP('aux gr1'!DT12,'aux gr1'!$A$12:$A$231,'aux gr1'!$V$12:$V$121)) -> Esp.
A8: =IF('aux gr1'!DM12="","",LOOKUP('aux gr1'!DM12,'aux gr1'!$A$12:$A$231,'aux gr1'!$E$12:$E$121)) -> Pré: --- | D8: =IF('aux gr1'!DN12="","",LOOKUP('aux gr1'!DN12,'aux gr1'!$A$12:$A$231,'aux gr1'!$E$12:$E$121)) -> Pré: MAT01101 | G8: =IF('aux gr1'!DO12="","",LOOKUP('aux gr1'!DO12,'aux gr1'!$A$12:$A$231,'aux gr1'!$E$12:$E$121)) -> Pré: QUI01201 | J8: =IF('aux gr1'!DP12="","",LOOKUP('aux gr1'!DP12,'aux gr1'!$A$12:$A$231,'aux gr1'!$E$12:$E$121)) -> Pré: CIV01320 | M8: =IF('aux gr1'!DQ12="","",LOOKUP('aux gr1'!DQ12,'aux gr1'!$A$12:$A$231,'aux gr1'!$E$12:$E$121)) -> Pré: CCT01221 | P8: =IF('aux gr1'!DR12="","",LOOKUP('aux gr1'!DR12,'aux gr1'!$A$12:$A$231,'aux gr1'!$E$12:$E$121)) -> Pré: CIV01330 | S8: =IF('aux gr1'!DS12="","",LOOKUP('aux gr1'!DS12,'aux gr1'!$A$12:$A$231,'aux gr1'!$E$12:$E$121)) -> Pré: CIV01434 | V8: =IF('aux gr1'!DT12="","",LOOKUP('aux gr1'!DT12,'aux gr1'!$A$12:$A$231,'aux gr1'!$E$12:$E$121)) -> Pré: CIV01329
A9: =IF('aux gr1'!DM12="","",LOOKUP('aux gr1'!DM12,'aux gr1'!$A$12:$A$231,'aux gr1'!$F$12:$F$121)) -> Co: --- | D9: =IF('aux gr1'!DN12="","",LOOKUP('aux gr1'!DN12,'aux gr1'!$A$12:$A$231,'aux gr1'!$F$12:$F$121)) -> Co: FIS01204 | G9: =IF('aux gr1'!DO12="","",LOOKUP('aux gr1'!DO12,'aux gr1'!$A$12:$A$231,'aux gr1'!$F$12:$F$121)) -> Co: --- | J9: =IF('aux gr1'!DP12="","",LOOKUP('aux gr1'!DP12,'aux gr1'!$A$12:$A$231,'aux gr1'!$F$12:$F$121)) -> Co: --- | M9: =IF('aux gr1'!DQ12="","",LOOKUP('aux gr1'!DQ12,'aux gr1'!$A$12:$A$231,'aux gr1'!$F$12:$F$121)) -> Co: --- | P9: =IF('aux gr1'!DR12="","",LOOKUP('aux gr1'!DR12,'aux gr1'!$A$12:$A$231,'aux gr1'!$F$12:$F$121)) -> Co: --- | S9: =IF('aux gr1'!DS12="","",LOOKUP('aux gr1'!DS12,'aux gr1'!$A$12:$A$231,'aux gr1'!$F$12:$F$121)) -> Co: --- | V9: =IF('aux gr1'!DT12="","",LOOKUP('aux gr1'!DT12,'aux gr1'!$A$12:$A$231,'aux gr1'!$F$12:$F$121)) -> Co: ---
A11: =IF('aux gr1'!DM13="","",LOOKUP('aux gr1'!DM13,'aux gr1'!$A$12:$A$231,'aux gr1'!$P$12:$P$121)) -> CCT01111 | B11: =IF('aux gr1'!DM13="","",LOOKUP('aux gr1'!DM13,'aux gr1'!$A$12:$A$231,'aux gr1'!$AA$12:$AA$121)) -> 34h | D11: =IF('aux gr1'!DN13="","",LOOKUP('aux gr1'!DN13,'aux gr1'!$A$12:$A$231,'aux gr1'!$P$12:$P$121)) -> FIS01204 | E11: =IF('aux gr1'!DN13="","",LOOKUP('aux gr1'!DN13,'aux gr1'!$A$12:$A$231,'aux gr1'!$AA$12:$AA$121)) -> 34h | G11: =IF('aux gr1'!DO13="","",LOOKUP('aux gr1'!DO13,'aux gr1'!$A$12:$A$231,'aux gr1'!$P$12:$P$121)) -> CIV01317 | H11: =IF('aux gr1'!DO13="","",LOOKUP('aux gr1'!DO13,'aux gr1'!$A$12:$A$231,'aux gr1'!$AA$12:$AA$121)) -> 68h | J11: =IF('aux gr1'!DP13="","",LOOKUP('aux gr1'!DP13,'aux gr1'!$A$12:$A$231,'aux gr1'!$P$12:$P$121)) -> CIV01318 | K11: =IF('aux gr1'!DP13="","",LOOKUP('aux gr1'!DP13,'aux gr1'!$A$12:$A$231,'aux gr1'!$AA$12:$AA$121)) -> 85h | M11: =IF('aux gr1'!DQ13="","",LOOKUP('aux gr1'!DQ13,'aux gr1'!$A$12:$A$231,'aux gr1'!$P$12:$P$121)) -> CIV01423 | N11: =IF('aux gr1'!DQ13="","",LOOKUP('aux gr1'!DQ13,'aux gr1'!$A$12:$A$231,'aux gr1'!$AA$12:$AA$121)) -> 85h | P11: =IF('aux gr1'!DR13="","",LOOKUP('aux gr1'!DR13,'aux gr1'!$A$12:$A$231,'aux gr1'!$P$12:$P$121)) -> CIV01434 | Q11: =IF('aux gr1'!DR13="","",LOOKUP('aux gr1'!DR13,'aux gr1'!$A$12:$A$231,'aux gr1'!$AA$12:$AA$121)) -> 85h | S11: =IF('aux gr1'!DS13="","",LOOKUP('aux gr1'!DS13,'aux gr1'!$A$12:$A$231,'aux gr1'!$P$12:$P$121)) -> CIV01341 | T11: =IF('aux gr1'!DS13="","",LOOKUP('aux gr1'!DS13,'aux gr1'!$A$12:$A$231,'aux gr1'!$AA$12:$AA$121)) -> 85h | V11: =IF('aux gr1'!DT13="","",LOOKUP('aux gr1'!DT13,'aux gr1'!$A$12:$A$231,'aux gr1'!$P$12:$P$121)) -> CIV01445 | W11: =IF('aux gr1'!DT13="","",LOOKUP('aux gr1'!DT13,'aux gr1'!$A$12:$A$231,'aux gr1'!$AA$12:$AA$121)) -> 204h
A12: =IF('aux gr1'!DM13="","",LOOKUP('aux gr1'!DM13,'aux gr1'!$A$12:$A$231,'aux gr1'!$B$12:$B$121)) -> Introdução à Engenharia | D12: =IF('aux gr1'!DN13="","",LOOKUP('aux gr1'!DN13,'aux gr1'!$A$12:$A$231,'aux gr1'!$B$12:$B$121)) -> Laboratório de Física Geral I | G12: =IF('aux gr1'!DO13="","",LOOKUP('aux gr1'!DO13,'aux gr1'!$A$12:$A$231,'aux gr1'!$B$12:$B$121)) -> Análise Estrutural I | J12: =IF('aux gr1'!DP13="","",LOOKUP('aux gr1'!DP13,'aux gr1'!$A$12:$A$231,'aux gr1'!$B$12:$B$121)) -> Geologia Geral | M12: =IF('aux gr1'!DQ13="","",LOOKUP('aux gr1'!DQ13,'aux gr1'!$A$12:$A$231,'aux gr1'!$B$12:$B$121)) -> Mecânica dos Solos I | P12: =IF('aux gr1'!DR13="","",LOOKUP('aux gr1'!DR13,'aux gr1'!$A$12:$A$231,'aux gr1'!$B$12:$B$121)) -> Concreto Armado I | S12: =IF('aux gr1'!DS13="","",LOOKUP('aux gr1'!DS13,'aux gr1'!$A$12:$A$231,'aux gr1'!$B$12:$B$121)) -> Fundações e Contenções | V12: =IF('aux gr1'!DT13="","",LOOKUP('aux gr1'!DT13,'aux gr1'!$A$12:$A$231,'aux gr1'!$B$12:$B$121)) -> Estágio Supervisionado
A13: =IF('aux gr1'!DM13="","",LOOKUP('aux gr1'!DM13,'aux gr1'!$A$12:$A$231,'aux gr1'!$AC$12:$AC$121)) -> 2cr/2t | B13: =IF('aux gr1'!DM13="","",LOOKUP('aux gr1'!DM13,'aux gr1'!$A$12:$A$231,'aux gr1'!$V$12:$V$121)) -> Pro. | D13: =IF('aux gr1'!DN13="","",LOOKUP('aux gr1'!DN13,'aux gr1'!$A$12:$A$231,'aux gr1'!$AC$12:$AC$121)) -> 1cr/1p | E13: =IF('aux gr1'!DN13="","",LOOKUP('aux gr1'!DN13,'aux gr1'!$A$12:$A$231,'aux gr1'!$V$12:$V$121)) -> Bás. | G13: =IF('aux gr1'!DO13="","",LOOKUP('aux gr1'!DO13,'aux gr1'!$A$12:$A$231,'aux gr1'!$AC$12:$AC$121)) -> 4cr/4t | H13: =IF('aux gr1'!DO13="","",LOOKUP('aux gr1'!DO13,'aux gr1'!$A$12:$A$231,'aux gr1'!$V$12:$V$121)) -> Esp. | J13: =IF('aux gr1'!DP13="","",LOOKUP('aux gr1'!DP13,'aux gr1'!$A$12:$A$231,'aux gr1'!$AC$12:$AC$121)) -> 4cr/3t + 1p | K13: =IF('aux gr1'!DP13="","",LOOKUP('aux gr1'!DP13,'aux gr1'!$A$12:$A$231,'aux gr1'!$V$12:$V$121)) -> Esp. | M13: =IF('aux gr1'!DQ13="","",LOOKUP('aux gr1'!DQ13,'aux gr1'!$A$12:$A$231,'aux gr1'!$AC$12:$AC$121)) -> 4cr/3t + 1p | N13: =IF('aux gr1'!DQ13="","",LOOKUP('aux gr1'!DQ13,'aux gr1'!$A$12:$A$231,'aux gr1'!$V$12:$V$121)) -> Esp. | P13: =IF('aux gr1'!DR13="","",LOOKUP('aux gr1'!DR13,'aux gr1'!$A$12:$A$231,'aux gr1'!$AC$12:$AC$121)) -> 5cr/5t | Q13: =IF('aux gr1'!DR13="","",LOOKUP('aux gr1'!DR13,'aux gr1'!$A$12:$A$231,'aux gr1'!$V$12:$V$121)) -> Esp. | S13: =IF('aux gr1'!DS13="","",LOOKUP('aux gr1'!DS13,'aux gr1'!$A$12:$A$231,'aux gr1'!$AC$12:$AC$121)) -> 4cr/3t + 1p | T13: =IF('aux gr1'!DS13="","",LOOKUP('aux gr1'!DS13,'aux gr1'!$A$12:$A$231,'aux gr1'!$V$12:$V$121)) -> Esp. | V13: =IF('aux gr1'!DT13="","",LOOKUP('aux gr1'!DT13,'aux gr1'!$A$12:$A$231,'aux gr1'!$AC$12:$AC$121)) -> 3cr/3e | W13: =IF('aux gr1'!DT13="","",LOOKUP('aux gr1'!DT13,'aux gr1'!$A$12:$A$231,'aux gr1'!$V$12:$V$121)) -> Esp.
A14: =IF('aux gr1'!DM13="","",LOOKUP('aux gr1'!DM13,'aux gr1'!$A$12:$A$231,'aux gr1'!$E$12:$E$121)) -> Pré: --- | D14: =IF('aux gr1'!DN13="","",LOOKUP('aux gr1'!DN13,'aux gr1'!$A$12:$A$231,'aux gr1'!$E$12:$E$121)) -> Pré: MAT01101 | G14: =IF('aux gr1'!DO13="","",LOOKUP('aux gr1'!DO13,'aux gr1'!$A$12:$A$231,'aux gr1'!$E$12:$E$121)) -> Pré: FIS01201 FIS01204 | J14: =IF('aux gr1'!DP13="","",LOOKUP('aux gr1'!DP13,'aux gr1'!$A$12:$A$231,'aux gr1'!$E$12:$E$121)) -> Pré: --- | M14: =IF('aux gr1'!DQ13="","",LOOKUP('aux gr1'!DQ13,'aux gr1'!$A$12:$A$231,'aux gr1'!$E$12:$E$121)) -> Pré: CCT01221 CIV01318 CIV01422 | P14: =IF('aux gr1'!DR13="","",LOOKUP('aux gr1'!DR13,'aux gr1'!$A$12:$A$231,'aux gr1'!$E$12:$E$121)) -> Pré: CIV01328 CIV01425 | S14: =IF('aux gr1'!DS13="","",LOOKUP('aux gr1'!DS13,'aux gr1'!$A$12:$A$231,'aux gr1'!$E$12:$E$121)) -> Pré: CIV01329 | V14: =IF('aux gr1'!DT13="","",LOOKUP('aux gr1'!DT13,'aux gr1'!$A$12:$A$231,'aux gr1'!$E$12:$E$121)) -> Pré: ---
A15: =IF('aux gr1'!DM13="","",LOOKUP('aux gr1'!DM13,'aux gr1'!$A$12:$A$231,'aux gr1'!$F$12:$F$121)) -> Co: --- | D15: =IF('aux gr1'!DN13="","",LOOKUP('aux gr1'!DN13,'aux gr1'!$A$12:$A$231,'aux gr1'!$F$12:$F$121)) -> Co: FIS01202 | G15: =IF('aux gr1'!DO13="","",LOOKUP('aux gr1'!DO13,'aux gr1'!$A$12:$A$231,'aux gr1'!$F$12:$F$121)) -> Co: --- | J15: =IF('aux gr1'!DP13="","",LOOKUP('aux gr1'!DP13,'aux gr1'!$A$12:$A$231,'aux gr1'!$F$12:$F$121)) -> Co: --- | M15: =IF('aux gr1'!DQ13="","",LOOKUP('aux gr1'!DQ13,'aux gr1'!$A$12:$A$231,'aux gr1'!$F$12:$F$121)) -> Co: --- | P15: =IF('aux gr1'!DR13="","",LOOKUP('aux gr1'!DR13,'aux gr1'!$A$12:$A$231,'aux gr1'!$F$12:$F$121)) -> Co: --- | S15: =IF('aux gr1'!DS13="","",LOOKUP('aux gr1'!DS13,'aux gr1'!$A$12:$A$231,'aux gr1'!$F$12:$F$121)) -> Co: --- | V15: =IF('aux gr1'!DT13="","",LOOKUP('aux gr1'!DT13,'aux gr1'!$A$12:$A$231,'aux gr1'!$F$12:$F$121)) -> Co: ---
A17: =IF('aux gr1'!DM14="","",LOOKUP('aux gr1'!DM14,'aux gr1'!$A$12:$A$231,'aux gr1'!$P$12:$P$121)) -> CCT01113 | B17: =IF('aux gr1'!DM14="","",LOOKUP('aux gr1'!DM14,'aux gr1'!$A$12:$A$231,'aux gr1'!$AA$12:$AA$121)) -> 51h | D17: =IF('aux gr1'!DN14="","",LOOKUP('aux gr1'!DN14,'aux gr1'!$A$12:$A$231,'aux gr1'!$P$12:$P$121)) -> MAT01203 | E17: =IF('aux gr1'!DN14="","",LOOKUP('aux gr1'!DN14,'aux gr1'!$A$12:$A$231,'aux gr1'!$AA$12:$AA$121)) -> 85h | G17: =IF('aux gr1'!DO14="","",LOOKUP('aux gr1'!DO14,'aux gr1'!$A$12:$A$231,'aux gr1'!$P$12:$P$121)) -> FIS01103 | H17: =IF('aux gr1'!DO14="","",LOOKUP('aux gr1'!DO14,'aux gr1'!$A$12:$A$231,'aux gr1'!$AA$12:$AA$121)) -> 68h | J17: =IF('aux gr1'!DP14="","",LOOKUP('aux gr1'!DP14,'aux gr1'!$A$12:$A$231,'aux gr1'!$P$12:$P$121)) -> CIV01422 | K17: =IF('aux gr1'!DP14="","",LOOKUP('aux gr1'!DP14,'aux gr1'!$A$12:$A$231,'aux gr1'!$AA$12:$AA$121)) -> 68h | M17: =IF('aux gr1'!DQ14="","",LOOKUP('aux gr1'!DQ14,'aux gr1'!$A$12:$A$231,'aux gr1'!$P$12:$P$121)) -> CIV01437 | N17: =IF('aux gr1'!DQ14="","",LOOKUP('aux gr1'!DQ14,'aux gr1'!$A$12:$A$231,'aux gr1'!$AA$12:$AA$121)) -> 68h | P17: =IF('aux gr1'!DR14="","",LOOKUP('aux gr1'!DR14,'aux gr1'!$A$12:$A$231,'aux gr1'!$P$12:$P$121)) -> CIV01436 | Q17: =IF('aux gr1'!DR14="","",LOOKUP('aux gr1'!DR14,'aux gr1'!$A$12:$A$231,'aux gr1'!$AA$12:$AA$121)) -> 68h | S17: =IF('aux gr1'!DS14="","",LOOKUP('aux gr1'!DS14,'aux gr1'!$A$12:$A$231,'aux gr1'!$P$12:$P$121)) -> CIV01343 | T17: =IF('aux gr1'!DS14="","",LOOKUP('aux gr1'!DS14,'aux gr1'!$A$12:$A$231,'aux gr1'!$AA$12:$AA$121)) -> 68h | V17: =IF('aux gr1'!DT14="","",LOOKUP('aux gr1'!DT14,'aux gr1'!$A$12:$A$231,'aux gr1'!$P$12:$P$121)) -> CIV01446 | W17: =IF('aux gr1'!DT14="","",LOOKUP('aux gr1'!DT14,'aux gr1'!$A$12:$A$231,'aux gr1'!$AA$12:$AA$121)) -> 85h
A18: =IF('aux gr1'!DM14="","",LOOKUP('aux gr1'!DM14,'aux gr1'!$A$12:$A$231,'aux gr1'!$B$12:$B$121)) -> Introdução à Engenharia Ambiental | D18: =IF('aux gr1'!DN14="","",LOOKUP('aux gr1'!DN14,'aux gr1'!$A$12:$A$231,'aux gr1'!$B$12:$B$121)) -> Cálculo Diferencial e Integral II | G18: =IF('aux gr1'!DO14="","",LOOKUP('aux gr1'!DO14,'aux gr1'!$A$12:$A$231,'aux gr1'!$B$12:$B$121)) -> Física Geral II | J18: =IF('aux gr1'!DP14="","",LOOKUP('aux gr1'!DP14,'aux gr1'!$A$12:$A$231,'aux gr1'!$B$12:$B$121)) -> Resistência dos Materiais | M18: =IF('aux gr1'!DQ14="","",LOOKUP('aux gr1'!DQ14,'aux gr1'!$A$12:$A$231,'aux gr1'!$B$12:$B$121)) -> Instalações Prediais | P18: =IF('aux gr1'!DR14="","",LOOKUP('aux gr1'!DR14,'aux gr1'!$A$12:$A$231,'aux gr1'!$B$12:$B$121)) -> Construção Civil | S18: =IF('aux gr1'!DS14="","",LOOKUP('aux gr1'!DS14,'aux gr1'!$A$12:$A$231,'aux gr1'!$B$12:$B$121)) -> Hidrologia e Recursos Hídricos | V18: =IF('aux gr1'!DT14="","",LOOKUP('aux gr1'!DT14,'aux gr1'!$A$12:$A$231,'aux gr1'!$B$12:$B$121)) -> Seminários de Engenharia
A19: =IF('aux gr1'!DM14="","",LOOKUP('aux gr1'!DM14,'aux gr1'!$A$12:$A$231,'aux gr1'!$AC$12:$AC$121)) -> 3cr/3t | B19: =IF('aux gr1'!DM14="","",LOOKUP('aux gr1'!DM14,'aux gr1'!$A$12:$A$231,'aux gr1'!$V$12:$V$121)) -> Pro. | D19: =IF('aux gr1'!DN14="","",LOOKUP('aux gr1'!DN14,'aux gr1'!$A$12:$A$231,'aux gr1'!$AC$12:$AC$121)) -> 5cr/5t | E19: =IF('aux gr1'!DN14="","",LOOKUP('aux gr1'!DN14,'aux gr1'!$A$12:$A$231,'aux gr1'!$V$12:$V$121)) -> Bás. | G19: =IF('aux gr1'!DO14="","",LOOKUP('aux gr1'!DO14,'aux gr1'!$A$12:$A$231,'aux gr1'!$AC$12:$AC$121)) -> 4cr/4t | H19: =IF('aux gr1'!DO14="","",LOOKUP('aux gr1'!DO14,'aux gr1'!$A$12:$A$231,'aux gr1'!$V$12:$V$121)) -> Bás. | J19: =IF('aux gr1'!DP14="","",LOOKUP('aux gr1'!DP14,'aux gr1'!$A$12:$A$231,'aux gr1'!$AC$12:$AC$121)) -> 4cr/4t | K19: =IF('aux gr1'!DP14="","",LOOKUP('aux gr1'!DP14,'aux gr1'!$A$12:$A$231,'aux gr1'!$V$12:$V$121)) -> Pro. | M19: =IF('aux gr1'!DQ14="","",LOOKUP('aux gr1'!DQ14,'aux gr1'!$A$12:$A$231,'aux gr1'!$AC$12:$AC$121)) -> 4cr/4t | N19: =IF('aux gr1'!DQ14="","",LOOKUP('aux gr1'!DQ14,'aux gr1'!$A$12:$A$231,'aux gr1'!$V$12:$V$121)) -> Esp. | P19: =IF('aux gr1'!DR14="","",LOOKUP('aux gr1'!DR14,'aux gr1'!$A$12:$A$231,'aux gr1'!$AC$12:$AC$121)) -> 4cr/4t | Q19: =IF('aux gr1'!DR14="","",LOOKUP('aux gr1'!DR14,'aux gr1'!$A$12:$A$231,'aux gr1'!$V$12:$V$121)) -> Esp. | S19: =IF('aux gr1'!DS14="","",LOOKUP('aux gr1'!DS14,'aux gr1'!$A$12:$A$231,'aux gr1'!$AC$12:$AC$121)) -> 4cr/4t | T19: =IF('aux gr1'!DS14="","",LOOKUP('aux gr1'!DS14,'aux gr1'!$A$12:$A$231,'aux gr1'!$V$12:$V$121)) -> Pro. | V19: =IF('aux gr1'!DT14="","",LOOKUP('aux gr1'!DT14,'aux gr1'!$A$12:$A$231,'aux gr1'!$AC$12:$AC$121)) -> 2cr/1t + 1e | W19: =IF('aux gr1'!DT14="","",LOOKUP('aux gr1'!DT14,'aux gr1'!$A$12:$A$231,'aux gr1'!$V$12:$V$121)) -> ----
A20: =IF('aux gr1'!DM14="","",LOOKUP('aux gr1'!DM14,'aux gr1'!$A$12:$A$231,'aux gr1'!$E$12:$E$121)) -> Pré: --- | D20: =IF('aux gr1'!DN14="","",LOOKUP('aux gr1'!DN14,'aux gr1'!$A$12:$A$231,'aux gr1'!$E$12:$E$121)) -> Pré: MAT01101 | G20: =IF('aux gr1'!DO14="","",LOOKUP('aux gr1'!DO14,'aux gr1'!$A$12:$A$231,'aux gr1'!$E$12:$E$121)) -> Pré: FIS01201 FIS01204 MAT01203 | J20: =IF('aux gr1'!DP14="","",LOOKUP('aux gr1'!DP14,'aux gr1'!$A$12:$A$231,'aux gr1'!$E$12:$E$121)) -> Pré: CIV01317 | M20: =IF('aux gr1'!DQ14="","",LOOKUP('aux gr1'!DQ14,'aux gr1'!$A$12:$A$231,'aux gr1'!$E$12:$E$121)) -> Pré: FIS01205 FIS01206 | P20: =IF('aux gr1'!DR14="","",LOOKUP('aux gr1'!DR14,'aux gr1'!$A$12:$A$231,'aux gr1'!$E$12:$E$121)) -> Pré: CIV01425 CIV01437 | S20: =IF('aux gr1'!DS14="","",LOOKUP('aux gr1'!DS14,'aux gr1'!$A$12:$A$231,'aux gr1'!$E$12:$E$121)) -> Pré: PRO01121 CIV01426 | V20: =IF('aux gr1'!DT14="","",LOOKUP('aux gr1'!DT14,'aux gr1'!$A$12:$A$231,'aux gr1'!$E$12:$E$121)) -> Pré: ---
A21: =IF('aux gr1'!DM14="","",LOOKUP('aux gr1'!DM14,'aux gr1'!$A$12:$A$231,'aux gr1'!$F$12:$F$121)) -> Co: --- | D21: =IF('aux gr1'!DN14="","",LOOKUP('aux gr1'!DN14,'aux gr1'!$A$12:$A$231,'aux gr1'!$F$12:$F$121)) -> Co: MAT01105 | G21: =IF('aux gr1'!DO14="","",LOOKUP('aux gr1'!DO14,'aux gr1'!$A$12:$A$231,'aux gr1'!$F$12:$F$121)) -> Co: FIS01109 | J21: =IF('aux gr1'!DP14="","",LOOKUP('aux gr1'!DP14,'aux gr1'!$A$12:$A$231,'aux gr1'!$F$12:$F$121)) -> Co: --- | M21: =IF('aux gr1'!DQ14="","",LOOKUP('aux gr1'!DQ14,'aux gr1'!$A$12:$A$231,'aux gr1'!$F$12:$F$121)) -> Co: --- | P21: =IF('aux gr1'!DR14="","",LOOKUP('aux gr1'!DR14,'aux gr1'!$A$12:$A$231,'aux gr1'!$F$12:$F$121)) -> Co: --- | S21: =IF('aux gr1'!DS14="","",LOOKUP('aux gr1'!DS14,'aux gr1'!$A$12:$A$231,'aux gr1'!$F$12:$F$121)) -> Co: --- | V21: =IF('aux gr1'!DT14="","",LOOKUP('aux gr1'!DT14,'aux gr1'!$A$12:$A$231,'aux gr1'!$F$12:$F$121)) -> Co: ---
A23: =IF('aux gr1'!DM15="","",LOOKUP('aux gr1'!DM15,'aux gr1'!$A$12:$A$231,'aux gr1'!$P$12:$P$121)) -> MAT01101 | B23: =IF('aux gr1'!DM15="","",LOOKUP('aux gr1'!DM15,'aux gr1'!$A$12:$A$231,'aux gr1'!$AA$12:$AA$121)) -> 102h | D23: =IF('aux gr1'!DN15="","",LOOKUP('aux gr1'!DN15,'aux gr1'!$A$12:$A$231,'aux gr1'!$P$12:$P$121)) -> MAT01204 | E23: =IF('aux gr1'!DN15="","",LOOKUP('aux gr1'!DN15,'aux gr1'!$A$12:$A$231,'aux gr1'!$AA$12:$AA$121)) -> 68h | G23: =IF('aux gr1'!DO15="","",LOOKUP('aux gr1'!DO15,'aux gr1'!$A$12:$A$231,'aux gr1'!$P$12:$P$121)) -> FIS01109 | H23: =IF('aux gr1'!DO15="","",LOOKUP('aux gr1'!DO15,'aux gr1'!$A$12:$A$231,'aux gr1'!$AA$12:$AA$121)) -> 34h | J23: =IF('aux gr1'!DP15="","",LOOKUP('aux gr1'!DP15,'aux gr1'!$A$12:$A$231,'aux gr1'!$P$12:$P$121)) -> CCT01221 | K23: =IF('aux gr1'!DP15="","",LOOKUP('aux gr1'!DP15,'aux gr1'!$A$12:$A$231,'aux gr1'!$AA$12:$AA$121)) -> 85h | M23: =IF('aux gr1'!DQ15="","",LOOKUP('aux gr1'!DQ15,'aux gr1'!$A$12:$A$231,'aux gr1'!$P$12:$P$121)) -> CIV01328 | N23: =IF('aux gr1'!DQ15="","",LOOKUP('aux gr1'!DQ15,'aux gr1'!$A$12:$A$231,'aux gr1'!$AA$12:$AA$121)) -> 68h | P23: =IF('aux gr1'!DR15="","",LOOKUP('aux gr1'!DR15,'aux gr1'!$A$12:$A$231,'aux gr1'!$P$12:$P$121)) -> CIV01433 | Q23: =IF('aux gr1'!DR15="","",LOOKUP('aux gr1'!DR15,'aux gr1'!$A$12:$A$231,'aux gr1'!$AA$12:$AA$121)) -> 68h | S23: =IF('aux gr1'!DS15="","",LOOKUP('aux gr1'!DS15,'aux gr1'!$A$12:$A$231,'aux gr1'!$P$12:$P$121)) -> CIV01339 | T23: =IF('aux gr1'!DS15="","",LOOKUP('aux gr1'!DS15,'aux gr1'!$A$12:$A$231,'aux gr1'!$AA$12:$AA$121)) -> 102h | V23: =IF('aux gr1'!DT15="","",LOOKUP('aux gr1'!DT15,'aux gr1'!$A$12:$A$231,'aux gr1'!$P$12:$P$121)) -> CIV01444 | W23: =IF('aux gr1'!DT15="","",LOOKUP('aux gr1'!DT15,'aux gr1'!$A$12:$A$231,'aux gr1'!$AA$12:$AA$121)) -> 136h
A24: =IF('aux gr1'!DM15="","",LOOKUP('aux gr1'!DM15,'aux gr1'!$A$12:$A$231,'aux gr1'!$B$12:$B$121)) -> Cálculo Diferencial e Integral I | D24: =IF('aux gr1'!DN15="","",LOOKUP('aux gr1'!DN15,'aux gr1'!$A$12:$A$231,'aux gr1'!$B$12:$B$121)) -> Álgebra Linear | G24: =IF('aux gr1'!DO15="","",LOOKUP('aux gr1'!DO15,'aux gr1'!$A$12:$A$231,'aux gr1'!$B$12:$B$121)) -> Laboratório de Física Geral II | J24: =IF('aux gr1'!DP15="","",LOOKUP('aux gr1'!DP15,'aux gr1'!$A$12:$A$231,'aux gr1'!$B$12:$B$121)) -> Fenômenos de Transporte | M24: =IF('aux gr1'!DQ15="","",LOOKUP('aux gr1'!DQ15,'aux gr1'!$A$12:$A$231,'aux gr1'!$B$12:$B$121)) -> Análise Estrutural II | P24: =IF('aux gr1'!DR15="","",LOOKUP('aux gr1'!DR15,'aux gr1'!$A$12:$A$231,'aux gr1'!$B$12:$B$121)) -> Análise Estrutural III | S24: =IF('aux gr1'!DS15="","",LOOKUP('aux gr1'!DS15,'aux gr1'!$A$12:$A$231,'aux gr1'!$B$12:$B$121)) -> Estruturas de Aço e Madeira | V24: =IF('aux gr1'!DT15="","",LOOKUP('aux gr1'!DT15,'aux gr1'!$A$12:$A$231,'aux gr1'!$B$12:$B$121)) -> Projeto Final
A25: =IF('aux gr1'!DM15="","",LOOKUP('aux gr1'!DM15,'aux gr1'!$A$12:$A$231,'aux gr1'!$AC$12:$AC$121)) -> 6cr/6t | B25: =IF('aux gr1'!DM15="","",LOOKUP('aux gr1'!DM15,'aux gr1'!$A$12:$A$231,'aux gr1'!$V$12:$V$121)) -> Bás. | D25: =IF('aux gr1'!DN15="","",LOOKUP('aux gr1'!DN15,'aux gr1'!$A$12:$A$231,'aux gr1'!$AC$12:$AC$121)) -> 4cr/4t | E25: =IF('aux gr1'!DN15="","",LOOKUP('aux gr1'!DN15,'aux gr1'!$A$12:$A$231,'aux gr1'!$V$12:$V$121)) -> Bás. | G25: =IF('aux gr1'!DO15="","",LOOKUP('aux gr1'!DO15,'aux gr1'!$A$12:$A$231,'aux gr1'!$AC$12:$AC$121)) -> 1cr/1p | H25: =IF('aux gr1'!DO15="","",LOOKUP('aux gr1'!DO15,'aux gr1'!$A$12:$A$231,'aux gr1'!$V$12:$V$121)) -> Bás. | J25: =IF('aux gr1'!DP15="","",LOOKUP('aux gr1'!DP15,'aux gr1'!$A$12:$A$231,'aux gr1'!$AC$12:$AC$121)) -> 4cr/3t + 1p | K25: =IF('aux gr1'!DP15="","",LOOKUP('aux gr1'!DP15,'aux gr1'!$A$12:$A$231,'aux gr1'!$V$12:$V$121)) -> Pro. | M25: =IF('aux gr1'!DQ15="","",LOOKUP('aux gr1'!DQ15,'aux gr1'!$A$12:$A$231,'aux gr1'!$AC$12:$AC$121)) -> 4cr/4t | N25: =IF('aux gr1'!DQ15="","",LOOKUP('aux gr1'!DQ15,'aux gr1'!$A$12:$A$231,'aux gr1'!$V$12:$V$121)) -> Esp. | P25: =IF('aux gr1'!DR15="","",LOOKUP('aux gr1'!DR15,'aux gr1'!$A$12:$A$231,'aux gr1'!$AC$12:$AC$121)) -> 4cr/4t | Q25: =IF('aux gr1'!DR15="","",LOOKUP('aux gr1'!DR15,'aux gr1'!$A$12:$A$231,'aux gr1'!$V$12:$V$121)) -> Esp. | S25: =IF('aux gr1'!DS15="","",LOOKUP('aux gr1'!DS15,'aux gr1'!$A$12:$A$231,'aux gr1'!$AC$12:$AC$121)) -> 6cr/6t | T25: =IF('aux gr1'!DS15="","",LOOKUP('aux gr1'!DS15,'aux gr1'!$A$12:$A$231,'aux gr1'!$V$12:$V$121)) -> Esp. | V25: =IF('aux gr1'!DT15="","",LOOKUP('aux gr1'!DT15,'aux gr1'!$A$12:$A$231,'aux gr1'!$AC$12:$AC$121)) -> 2cr/2e | W25: =IF('aux gr1'!DT15="","",LOOKUP('aux gr1'!DT15,'aux gr1'!$A$12:$A$231,'aux gr1'!$V$12:$V$121)) -> Esp.
A26: =IF('aux gr1'!DM15="","",LOOKUP('aux gr1'!DM15,'aux gr1'!$A$12:$A$231,'aux gr1'!$E$12:$E$121)) -> Pré: --- | D26: =IF('aux gr1'!DN15="","",LOOKUP('aux gr1'!DN15,'aux gr1'!$A$12:$A$231,'aux gr1'!$E$12:$E$121)) -> Pré: --- | G26: =IF('aux gr1'!DO15="","",LOOKUP('aux gr1'!DO15,'aux gr1'!$A$12:$A$231,'aux gr1'!$E$12:$E$121)) -> Pré: FIS01201 FIS01204 MAT01203 | J26: =IF('aux gr1'!DP15="","",LOOKUP('aux gr1'!DP15,'aux gr1'!$A$12:$A$231,'aux gr1'!$E$12:$E$121)) -> Pré: MAT01106 | M26: =IF('aux gr1'!DQ15="","",LOOKUP('aux gr1'!DQ15,'aux gr1'!$A$12:$A$231,'aux gr1'!$E$12:$E$121)) -> Pré: CIV01422 MAT01207 | P26: =IF('aux gr1'!DR15="","",LOOKUP('aux gr1'!DR15,'aux gr1'!$A$12:$A$231,'aux gr1'!$E$12:$E$121)) -> Pré: CIV01328 | S26: =IF('aux gr1'!DS15="","",LOOKUP('aux gr1'!DS15,'aux gr1'!$A$12:$A$231,'aux gr1'!$E$12:$E$121)) -> Pré: CIV01328 | V26: =IF('aux gr1'!DT15="","",LOOKUP('aux gr1'!DT15,'aux gr1'!$A$12:$A$231,'aux gr1'!$E$12:$E$121)) -> Pré: CIV01350
A27: =IF('aux gr1'!DM15="","",LOOKUP('aux gr1'!DM15,'aux gr1'!$A$12:$A$231,'aux gr1'!$F$12:$F$121)) -> Co: --- | D27: =IF('aux gr1'!DN15="","",LOOKUP('aux gr1'!DN15,'aux gr1'!$A$12:$A$231,'aux gr1'!$F$12:$F$121)) -> Co: --- | G27: =IF('aux gr1'!DO15="","",LOOKUP('aux gr1'!DO15,'aux gr1'!$A$12:$A$231,'aux gr1'!$F$12:$F$121)) -> Co: FIS01203 | J27: =IF('aux gr1'!DP15="","",LOOKUP('aux gr1'!DP15,'aux gr1'!$A$12:$A$231,'aux gr1'!$F$12:$F$121)) -> Co: --- | M27: =IF('aux gr1'!DQ15="","",LOOKUP('aux gr1'!DQ15,'aux gr1'!$A$12:$A$231,'aux gr1'!$F$12:$F$121)) -> Co: --- | P27: =IF('aux gr1'!DR15="","",LOOKUP('aux gr1'!DR15,'aux gr1'!$A$12:$A$231,'aux gr1'!$F$12:$F$121)) -> Co: --- | S27: =IF('aux gr1'!DS15="","",LOOKUP('aux gr1'!DS15,'aux gr1'!$A$12:$A$231,'aux gr1'!$F$12:$F$121)) -> Co: --- | V27: =IF('aux gr1'!DT15="","",LOOKUP('aux gr1'!DT15,'aux gr1'!$A$12:$A$231,'aux gr1'!$F$12:$F$121)) -> Co: ---
A29: =IF('aux gr1'!DM16="","",LOOKUP('aux gr1'!DM16,'aux gr1'!$A$12:$A$231,'aux gr1'!$P$12:$P$121)) -> QUI01104 | B29: =IF('aux gr1'!DM16="","",LOOKUP('aux gr1'!DM16,'aux gr1'!$A$12:$A$231,'aux gr1'!$AA$12:$AA$121)) -> 51h | D29: =IF('aux gr1'!DN16="","",LOOKUP('aux gr1'!DN16,'aux gr1'!$A$12:$A$231,'aux gr1'!$P$12:$P$121)) -> QUI01203 | E29: =IF('aux gr1'!DN16="","",LOOKUP('aux gr1'!DN16,'aux gr1'!$A$12:$A$231,'aux gr1'!$AA$12:$AA$121)) -> 51h | G29: =IF('aux gr1'!DO16="","",LOOKUP('aux gr1'!DO16,'aux gr1'!$A$12:$A$231,'aux gr1'!$P$12:$P$121)) -> MAT01105 | H29: =E35 -> 68h | J29: =IF('aux gr1'!DP16="","",LOOKUP('aux gr1'!DP16,'aux gr1'!$A$12:$A$231,'aux gr1'!$P$12:$P$121)) -> FIS01205 | K29: =IF('aux gr1'!DP16="","",LOOKUP('aux gr1'!DP16,'aux gr1'!$A$12:$A$231,'aux gr1'!$AA$12:$AA$121)) -> 68h | M29: =IF('aux gr1'!DQ16="","",LOOKUP('aux gr1'!DQ16,'aux gr1'!$A$12:$A$231,'aux gr1'!$P$12:$P$121)) -> CIV01426 | N29: =IF('aux gr1'!DQ16="","",LOOKUP('aux gr1'!DQ16,'aux gr1'!$A$12:$A$231,'aux gr1'!$AA$12:$AA$121)) -> 102h | P29: =IF('aux gr1'!DR16="","",LOOKUP('aux gr1'!DR16,'aux gr1'!$A$12:$A$231,'aux gr1'!$P$12:$P$121)) -> CIV01329 | Q29: =IF('aux gr1'!DR16="","",LOOKUP('aux gr1'!DR16,'aux gr1'!$A$12:$A$231,'aux gr1'!$AA$12:$AA$121)) -> 85h | S29: =IF('aux gr1'!DS16="","",LOOKUP('aux gr1'!DS16,'aux gr1'!$A$12:$A$231,'aux gr1'!$P$12:$P$121)) -> CIV01350 | T29: =IF('aux gr1'!DS16="","",LOOKUP('aux gr1'!DS16,'aux gr1'!$A$12:$A$231,'aux gr1'!$AA$12:$AA$121)) -> 68h | V29: =IF('aux gr1'!DT16="","",LOOKUP('aux gr1'!DT16,'aux gr1'!$A$12:$A$231,'aux gr1'!$P$12:$P$121)) -> CIV01563 | W29: =IF('aux gr1'!DT16="","",LOOKUP('aux gr1'!DT16,'aux gr1'!$A$12:$A$231,'aux gr1'!$AA$12:$AA$121)) -> 136h
A30: =IF('aux gr1'!DM16="","",LOOKUP('aux gr1'!DM16,'aux gr1'!$A$12:$A$231,'aux gr1'!$B$12:$B$121)) -> Química Geral I | D30: =IF('aux gr1'!DN16="","",LOOKUP('aux gr1'!DN16,'aux gr1'!$A$12:$A$231,'aux gr1'!$B$12:$B$121)) -> Química Geral II | G30: =IF('aux gr1'!DO16="","",LOOKUP('aux gr1'!DO16,'aux gr1'!$A$12:$A$231,'aux gr1'!$B$12:$B$121)) -> Cálculo Diferencial e Integral III | J30: =IF('aux gr1'!DP16="","",LOOKUP('aux gr1'!DP16,'aux gr1'!$A$12:$A$231,'aux gr1'!$B$12:$B$121)) -> Física Geral III | M30: =IF('aux gr1'!DQ16="","",LOOKUP('aux gr1'!DQ16,'aux gr1'!$A$12:$A$231,'aux gr1'!$B$12:$B$121)) -> Topografia | P30: =IF('aux gr1'!DR16="","",LOOKUP('aux gr1'!DR16,'aux gr1'!$A$12:$A$231,'aux gr1'!$B$12:$B$121)) -> Mecânica dos Solos II | S30: =IF('aux gr1'!DS16="","",LOOKUP('aux gr1'!DS16,'aux gr1'!$A$12:$A$231,'aux gr1'!$B$12:$B$121)) -> Proposta de Projeto Final | V30: =IF('aux gr1'!DT16="","",LOOKUP('aux gr1'!DT16,'aux gr1'!$A$12:$A$231,'aux gr1'!$B$12:$B$121)) -> Atividades Acadêmicas Científicas e Culturais - AACC II
A31: =IF('aux gr1'!DM16="","",LOOKUP('aux gr1'!DM16,'aux gr1'!$A$12:$A$231,'aux gr1'!$AC$12:$AC$121)) -> 3cr/3t | B31: =IF('aux gr1'!DM16="","",LOOKUP('aux gr1'!DM16,'aux gr1'!$A$12:$A$231,'aux gr1'!$V$12:$V$121)) -> Bás. | D31: =IF('aux gr1'!DN16="","",LOOKUP('aux gr1'!DN16,'aux gr1'!$A$12:$A$231,'aux gr1'!$AC$12:$AC$121)) -> 3cr/3t | E31: =IF('aux gr1'!DN16="","",LOOKUP('aux gr1'!DN16,'aux gr1'!$A$12:$A$231,'aux gr1'!$V$12:$V$121)) -> Bás. | G31: =IF('aux gr1'!DO16="","",LOOKUP('aux gr1'!DO16,'aux gr1'!$A$12:$A$231,'aux gr1'!$AC$12:$AC$121)) -> 4cr/4t | H31: =IF('aux gr1'!DO16="","",LOOKUP('aux gr1'!DO16,'aux gr1'!$A$12:$A$231,'aux gr1'!$V$12:$V$121)) -> Pro. | J31: =IF('aux gr1'!DP16="","",LOOKUP('aux gr1'!DP16,'aux gr1'!$A$12:$A$231,'aux gr1'!$AC$12:$AC$121)) -> 4cr/4t | K31: =IF('aux gr1'!DP16="","",LOOKUP('aux gr1'!DP16,'aux gr1'!$A$12:$A$231,'aux gr1'!$V$12:$V$121)) -> Bás. | M31: =IF('aux gr1'!DQ16="","",LOOKUP('aux gr1'!DQ16,'aux gr1'!$A$12:$A$231,'aux gr1'!$AC$12:$AC$121)) -> 5cr/4t + 1p | N31: =IF('aux gr1'!DQ16="","",LOOKUP('aux gr1'!DQ16,'aux gr1'!$A$12:$A$231,'aux gr1'!$V$12:$V$121)) -> Pro. | P31: =IF('aux gr1'!DR16="","",LOOKUP('aux gr1'!DR16,'aux gr1'!$A$12:$A$231,'aux gr1'!$AC$12:$AC$121)) -> 4cr/3t + 1p | Q31: =IF('aux gr1'!DR16="","",LOOKUP('aux gr1'!DR16,'aux gr1'!$A$12:$A$231,'aux gr1'!$V$12:$V$121)) -> Esp. | S31: =IF('aux gr1'!DS16="","",LOOKUP('aux gr1'!DS16,'aux gr1'!$A$12:$A$231,'aux gr1'!$AC$12:$AC$121)) -> 1cr/1e | T31: =IF('aux gr1'!DS16="","",LOOKUP('aux gr1'!DS16,'aux gr1'!$A$12:$A$231,'aux gr1'!$V$12:$V$121)) -> Esp. | V31: =IF('aux gr1'!DT16="","",LOOKUP('aux gr1'!DT16,'aux gr1'!$A$12:$A$231,'aux gr1'!$AC$12:$AC$121)) -> 2cr/2e | W31: =IF('aux gr1'!DT16="","",LOOKUP('aux gr1'!DT16,'aux gr1'!$A$12:$A$231,'aux gr1'!$V$12:$V$121)) -> ----
A32: =IF('aux gr1'!DM16="","",LOOKUP('aux gr1'!DM16,'aux gr1'!$A$12:$A$231,'aux gr1'!$E$12:$E$121)) -> Pré: --- | D32: =IF('aux gr1'!DN16="","",LOOKUP('aux gr1'!DN16,'aux gr1'!$A$12:$A$231,'aux gr1'!$E$12:$E$121)) -> Pré: QUI01104 | G32: =IF('aux gr1'!DO16="","",LOOKUP('aux gr1'!DO16,'aux gr1'!$A$12:$A$231,'aux gr1'!$E$12:$E$121)) -> Pré: MAT01203 | J32: =IF('aux gr1'!DP16="","",LOOKUP('aux gr1'!DP16,'aux gr1'!$A$12:$A$231,'aux gr1'!$E$12:$E$121)) -> Pré: FIS01103 FIS01109 MAT01105 | M32: =IF('aux gr1'!DQ16="","",LOOKUP('aux gr1'!DQ16,'aux gr1'!$A$12:$A$231,'aux gr1'!$E$12:$E$121)) -> Pré: --- | P32: =IF('aux gr1'!DR16="","",LOOKUP('aux gr1'!DR16,'aux gr1'!$A$12:$A$231,'aux gr1'!$E$12:$E$121)) -> Pré: CIV01423 | S32: =IF('aux gr1'!DS16="","",LOOKUP('aux gr1'!DS16,'aux gr1'!$A$12:$A$231,'aux gr1'!$E$12:$E$121)) -> Pré: --- | V32: =IF('aux gr1'!DT16="","",LOOKUP('aux gr1'!DT16,'aux gr1'!$A$12:$A$231,'aux gr1'!$E$12:$E$121)) -> Pré: ---
A33: =IF('aux gr1'!DM16="","",LOOKUP('aux gr1'!DM16,'aux gr1'!$A$12:$A$231,'aux gr1'!$F$12:$F$121)) -> Co: --- | D33: =IF('aux gr1'!DN16="","",LOOKUP('aux gr1'!DN16,'aux gr1'!$A$12:$A$231,'aux gr1'!$F$12:$F$121)) -> Co: --- | G33: =IF('aux gr1'!DO16="","",LOOKUP('aux gr1'!DO16,'aux gr1'!$A$12:$A$231,'aux gr1'!$F$12:$F$121)) -> Co: --- | J33: =IF('aux gr1'!DP16="","",LOOKUP('aux gr1'!DP16,'aux gr1'!$A$12:$A$231,'aux gr1'!$F$12:$F$121)) -> Co: FIS01206 | M33: =IF('aux gr1'!DQ16="","",LOOKUP('aux gr1'!DQ16,'aux gr1'!$A$12:$A$231,'aux gr1'!$F$12:$F$121)) -> Co: --- | P33: =IF('aux gr1'!DR16="","",LOOKUP('aux gr1'!DR16,'aux gr1'!$A$12:$A$231,'aux gr1'!$F$12:$F$121)) -> Co: --- | S33: =IF('aux gr1'!DS16="","",LOOKUP('aux gr1'!DS16,'aux gr1'!$A$12:$A$231,'aux gr1'!$F$12:$F$121)) -> Co: --- | V33: =IF('aux gr1'!DT16="","",LOOKUP('aux gr1'!DT16,'aux gr1'!$A$12:$A$231,'aux gr1'!$F$12:$F$121)) -> Co: ---
A35: =IF('aux gr1'!DM17="","",LOOKUP('aux gr1'!DM17,'aux gr1'!$A$12:$A$231,'aux gr1'!$P$12:$P$121)) -> LEL04101 | B35: =IF('aux gr1'!DM17="","",LOOKUP('aux gr1'!DM17,'aux gr1'!$A$12:$A$231,'aux gr1'!$AA$12:$AA$121)) -> 68h | D35: =IF('aux gr1'!DN17="","",LOOKUP('aux gr1'!DN17,'aux gr1'!$A$12:$A$231,'aux gr1'!$P$12:$P$121)) -> LEL04202 | E35: =IF('aux gr1'!DN17="","",LOOKUP('aux gr1'!DN17,'aux gr1'!$A$12:$A$231,'aux gr1'!$AA$12:$AA$121)) -> 68h | G35: =IF('aux gr1'!DO17="","",LOOKUP('aux gr1'!DO17,'aux gr1'!$A$12:$A$231,'aux gr1'!$P$12:$P$121)) -> MAT01106 | H35: =IF('aux gr1'!DO17="","",LOOKUP('aux gr1'!DO17,'aux gr1'!$A$12:$A$231,'aux gr1'!$AA$12:$AA$121)) -> 68h | J35: =IF('aux gr1'!DP17="","",LOOKUP('aux gr1'!DP17,'aux gr1'!$A$12:$A$231,'aux gr1'!$P$12:$P$121)) -> FIS01206 | K35: =IF('aux gr1'!DP17="","",LOOKUP('aux gr1'!DP17,'aux gr1'!$A$12:$A$231,'aux gr1'!$AA$12:$AA$121)) -> 34h | M35: =IF('aux gr1'!DQ17="","",LOOKUP('aux gr1'!DQ17,'aux gr1'!$A$12:$A$231,'aux gr1'!$P$12:$P$121)) -> CCT01332 | N35: =IF('aux gr1'!DQ17="","",LOOKUP('aux gr1'!DQ17,'aux gr1'!$A$12:$A$231,'aux gr1'!$AA$12:$AA$121)) -> 17h | P35: =IF('aux gr1'!DR17="","",LOOKUP('aux gr1'!DR17,'aux gr1'!$A$12:$A$231,'aux gr1'!$P$12:$P$121)) -> CIV01331 | Q35: =IF('aux gr1'!DR17="","",LOOKUP('aux gr1'!DR17,'aux gr1'!$A$12:$A$231,'aux gr1'!$AA$12:$AA$121)) -> 85h | S35: =IF('aux gr1'!DS17="","",LOOKUP('aux gr1'!DS17,'aux gr1'!$A$12:$A$231,'aux gr1'!$P$12:$P$121)) -> PRO01321 | T35: =IF('aux gr1'!DS17="","",LOOKUP('aux gr1'!DS17,'aux gr1'!$A$12:$A$231,'aux gr1'!$AA$12:$AA$121)) -> 68h | V35: =IF('aux gr1'!DT17="","",LOOKUP('aux gr1'!DT17,'aux gr1'!$A$12:$A$231,'aux gr1'!$P$12:$P$121)) -> PRO01441 | W35: =IF('aux gr1'!DT17="","",LOOKUP('aux gr1'!DT17,'aux gr1'!$A$12:$A$231,'aux gr1'!$AA$12:$AA$121)) -> 34h
A36: =IF('aux gr1'!DM17="","",LOOKUP('aux gr1'!DM17,'aux gr1'!$A$12:$A$231,'aux gr1'!$B$12:$B$121)) -> Português Instrumental I | D36: =IF('aux gr1'!DN17="","",LOOKUP('aux gr1'!DN17,'aux gr1'!$A$12:$A$231,'aux gr1'!$B$12:$B$121)) -> Português Instrumental II | G36: =IF('aux gr1'!DO17="","",LOOKUP('aux gr1'!DO17,'aux gr1'!$A$12:$A$231,'aux gr1'!$B$12:$B$121)) -> Métodos Matemáticos para Engenheiros | J36: =IF('aux gr1'!DP17="","",LOOKUP('aux gr1'!DP17,'aux gr1'!$A$12:$A$231,'aux gr1'!$B$12:$B$121)) -> Laboratório de Física Geral III | M36: =IF('aux gr1'!DQ17="","",LOOKUP('aux gr1'!DQ17,'aux gr1'!$A$12:$A$231,'aux gr1'!$B$12:$B$121)) -> Ética Profissional | P36: =IF('aux gr1'!DR17="","",LOOKUP('aux gr1'!DR17,'aux gr1'!$A$12:$A$231,'aux gr1'!$B$12:$B$121)) -> Estradas e Pavimentação | S36: =IF('aux gr1'!DS17="","",LOOKUP('aux gr1'!DS17,'aux gr1'!$A$12:$A$231,'aux gr1'!$B$12:$B$121)) -> Pesquisa Operacional | V36: =IF('aux gr1'!DT17="","",LOOKUP('aux gr1'!DT17,'aux gr1'!$A$12:$A$231,'aux gr1'!$B$12:$B$121)) -> Higiene e Segurança do Trabalho
A37: =IF('aux gr1'!DM17="","",LOOKUP('aux gr1'!DM17,'aux gr1'!$A$12:$A$231,'aux gr1'!$AC$12:$AC$121)) -> 2cr/2p | B37: =IF('aux gr1'!DM17="","",LOOKUP('aux gr1'!DM17,'aux gr1'!$A$12:$A$231,'aux gr1'!$V$12:$V$121)) -> Bás. | D37: =IF('aux gr1'!DN17="","",LOOKUP('aux gr1'!DN17,'aux gr1'!$A$12:$A$231,'aux gr1'!$AC$12:$AC$121)) -> 2cr/2p | E37: =IF('aux gr1'!DN17="","",LOOKUP('aux gr1'!DN17,'aux gr1'!$A$12:$A$231,'aux gr1'!$V$12:$V$121)) -> Bás. | G37: =IF('aux gr1'!DO17="","",LOOKUP('aux gr1'!DO17,'aux gr1'!$A$12:$A$231,'aux gr1'!$AC$12:$AC$121)) -> 4cr/4t | H37: =IF('aux gr1'!DO17="","",LOOKUP('aux gr1'!DO17,'aux gr1'!$A$12:$A$231,'aux gr1'!$V$12:$V$121)) -> Pro. | J37: =IF('aux gr1'!DP17="","",LOOKUP('aux gr1'!DP17,'aux gr1'!$A$12:$A$231,'aux gr1'!$AC$12:$AC$121)) -> 1cr/1p | K37: =IF('aux gr1'!DP17="","",LOOKUP('aux gr1'!DP17,'aux gr1'!$A$12:$A$231,'aux gr1'!$V$12:$V$121)) -> Bás. | M37: =IF('aux gr1'!DQ17="","",LOOKUP('aux gr1'!DQ17,'aux gr1'!$A$12:$A$231,'aux gr1'!$AC$12:$AC$121)) -> 1cr/1t | N37: =IF('aux gr1'!DQ17="","",LOOKUP('aux gr1'!DQ17,'aux gr1'!$A$12:$A$231,'aux gr1'!$V$12:$V$121)) -> Pro. | P37: =IF('aux gr1'!DR17="","",LOOKUP('aux gr1'!DR17,'aux gr1'!$A$12:$A$231,'aux gr1'!$AC$12:$AC$121)) -> 4cr/3t + 1p | Q37: =IF('aux gr1'!DR17="","",LOOKUP('aux gr1'!DR17,'aux gr1'!$A$12:$A$231,'aux gr1'!$V$12:$V$121)) -> Esp. | S37: =IF('aux gr1'!DS17="","",LOOKUP('aux gr1'!DS17,'aux gr1'!$A$12:$A$231,'aux gr1'!$AC$12:$AC$121)) -> 4cr/4t | T37: =IF('aux gr1'!DS17="","",LOOKUP('aux gr1'!DS17,'aux gr1'!$A$12:$A$231,'aux gr1'!$V$12:$V$121)) -> Pro. | V37: =IF('aux gr1'!DT17="","",LOOKUP('aux gr1'!DT17,'aux gr1'!$A$12:$A$231,'aux gr1'!$AC$12:$AC$121)) -> 2cr/2t | W37: =IF('aux gr1'!DT17="","",LOOKUP('aux gr1'!DT17,'aux gr1'!$A$12:$A$231,'aux gr1'!$V$12:$V$121)) -> Pro.
A38: =IF('aux gr1'!DM17="","",LOOKUP('aux gr1'!DM17,'aux gr1'!$A$12:$A$231,'aux gr1'!$E$12:$E$121)) -> Pré: --- | D38: =IF('aux gr1'!DN17="","",LOOKUP('aux gr1'!DN17,'aux gr1'!$A$12:$A$231,'aux gr1'!$E$12:$E$121)) -> Pré: LEL04101 | G38: =IF('aux gr1'!DO17="","",LOOKUP('aux gr1'!DO17,'aux gr1'!$A$12:$A$231,'aux gr1'!$E$12:$E$121)) -> Pré: MAT01203 | J38: =IF('aux gr1'!DP17="","",LOOKUP('aux gr1'!DP17,'aux gr1'!$A$12:$A$231,'aux gr1'!$E$12:$E$121)) -> Pré: FIS01103 FIS01109 MAT01105 | M38: =IF('aux gr1'!DQ17="","",LOOKUP('aux gr1'!DQ17,'aux gr1'!$A$12:$A$231,'aux gr1'!$E$12:$E$121)) -> Pré: --- | P38: =IF('aux gr1'!DR17="","",LOOKUP('aux gr1'!DR17,'aux gr1'!$A$12:$A$231,'aux gr1'!$E$12:$E$121)) -> Pré: CIV01423 CIV01426 | S38: =IF('aux gr1'!DS17="","",LOOKUP('aux gr1'!DS17,'aux gr1'!$A$12:$A$231,'aux gr1'!$E$12:$E$121)) -> Pré: PRO01121 | V38: =IF('aux gr1'!DT17="","",LOOKUP('aux gr1'!DT17,'aux gr1'!$A$12:$A$231,'aux gr1'!$E$12:$E$121)) -> Pré: ---
A39: =IF('aux gr1'!DM17="","",LOOKUP('aux gr1'!DM17,'aux gr1'!$A$12:$A$231,'aux gr1'!$F$12:$F$121)) -> Co: --- | D39: =IF('aux gr1'!DN17="","",LOOKUP('aux gr1'!DN17,'aux gr1'!$A$12:$A$231,'aux gr1'!$F$12:$F$121)) -> Co: --- | G39: =IF('aux gr1'!DO17="","",LOOKUP('aux gr1'!DO17,'aux gr1'!$A$12:$A$231,'aux gr1'!$F$12:$F$121)) -> Co: --- | J39: =IF('aux gr1'!DP17="","",LOOKUP('aux gr1'!DP17,'aux gr1'!$A$12:$A$231,'aux gr1'!$F$12:$F$121)) -> Co: FIS01205 | M39: =IF('aux gr1'!DQ17="","",LOOKUP('aux gr1'!DQ17,'aux gr1'!$A$12:$A$231,'aux gr1'!$F$12:$F$121)) -> Co: --- | P39: =IF('aux gr1'!DR17="","",LOOKUP('aux gr1'!DR17,'aux gr1'!$A$12:$A$231,'aux gr1'!$F$12:$F$121)) -> Co: --- | S39: =IF('aux gr1'!DS17="","",LOOKUP('aux gr1'!DS17,'aux gr1'!$A$12:$A$231,'aux gr1'!$F$12:$F$121)) -> Co: --- | V39: =IF('aux gr1'!DT17="","",LOOKUP('aux gr1'!DT17,'aux gr1'!$A$12:$A$231,'aux gr1'!$F$12:$F$121)) -> Co: ---
A41: =IF('aux gr1'!DM18="","",LOOKUP('aux gr1'!DM18,'aux gr1'!$A$12:$A$231,'aux gr1'!$P$12:$P$121)) | B41: =IF('aux gr1'!DM18="","",LOOKUP('aux gr1'!DM18,'aux gr1'!$A$12:$A$231,'aux gr1'!$AA$12:$AA$121)) -> 34h | D41: =IF('aux gr1'!DN18="","",LOOKUP('aux gr1'!DN18,'aux gr1'!$A$12:$A$231,'aux gr1'!$P$12:$P$121)) -> PRO01121 | E41: =IF('aux gr1'!DN18="","",LOOKUP('aux gr1'!DN18,'aux gr1'!$A$12:$A$231,'aux gr1'!$AA$12:$AA$121)) -> 68h | G41: =IF('aux gr1'!DO18="","",LOOKUP('aux gr1'!DO18,'aux gr1'!$A$12:$A$231,'aux gr1'!$P$12:$P$121)) -> MAT01102 | H41: =E35 -> 68h | J41: =IF('aux gr1'!DP18="","",LOOKUP('aux gr1'!DP18,'aux gr1'!$A$12:$A$231,'aux gr1'!$P$12:$P$121)) -> MAT01207 | K41: =IF('aux gr1'!DP18="","",LOOKUP('aux gr1'!DP18,'aux gr1'!$A$12:$A$231,'aux gr1'!$AA$12:$AA$121)) -> 68h | M41: =IF('aux gr1'!DQ18="","",LOOKUP('aux gr1'!DQ18,'aux gr1'!$A$12:$A$231,'aux gr1'!$P$12:$P$121)) -> CIV01562 | N41: =IF('aux gr1'!DQ18="","",LOOKUP('aux gr1'!DQ18,'aux gr1'!$A$12:$A$231,'aux gr1'!$AA$12:$AA$121)) -> 136h | P41: =IF('aux gr1'!DR18="","",LOOKUP('aux gr1'!DR18,'aux gr1'!$A$12:$A$231,'aux gr1'!$P$12:$P$121)) | Q41: =IF('aux gr1'!DR18="","",LOOKUP('aux gr1'!DR18,'aux gr1'!$A$12:$A$231,'aux gr1'!$AA$12:$AA$121)) | S41: =IF('aux gr1'!DS18="","",LOOKUP('aux gr1'!DS18,'aux gr1'!$A$12:$A$231,'aux gr1'!$P$12:$P$121)) | T41: =IF('aux gr1'!DS18="","",LOOKUP('aux gr1'!DS18,'aux gr1'!$A$12:$A$231,'aux gr1'!$AA$12:$AA$121)) -> 34h | V41: =IF('aux gr1'!DT18="","",LOOKUP('aux gr1'!DT18,'aux gr1'!$A$12:$A$231,'aux gr1'!$P$12:$P$121)) -> PRO01341 | W41: =IF('aux gr1'!DT18="","",LOOKUP('aux gr1'!DT18,'aux gr1'!$A$12:$A$231,'aux gr1'!$AA$12:$AA$121)) -> 51h
A42: =IF('aux gr1'!DM18="","",LOOKUP('aux gr1'!DM18,'aux gr1'!$A$12:$A$231,'aux gr1'!$B$12:$B$121)) -> Optativa Humanas | D42: =IF('aux gr1'!DN18="","",LOOKUP('aux gr1'!DN18,'aux gr1'!$A$12:$A$231,'aux gr1'!$B$12:$B$121)) -> Introdução à Probabilidade e Estatística | G42: =IF('aux gr1'!DO18="","",LOOKUP('aux gr1'!DO18,'aux gr1'!$A$12:$A$231,'aux gr1'!$B$12:$B$121)) -> Fundamentos da Ciência da Computação | J42: =IF('aux gr1'!DP18="","",LOOKUP('aux gr1'!DP18,'aux gr1'!$A$12:$A$231,'aux gr1'!$B$12:$B$121)) -> Cálculo Numérico | M42: =IF('aux gr1'!DQ18="","",LOOKUP('aux gr1'!DQ18,'aux gr1'!$A$12:$A$231,'aux gr1'!$B$12:$B$121)) -> Atividades Acadêmicas Científicas e Culturais - AACC I | P42: =IF('aux gr1'!DR18="","",LOOKUP('aux gr1'!DR18,'aux gr1'!$A$12:$A$231,'aux gr1'!$B$12:$B$121)) | S42: =IF('aux gr1'!DS18="","",LOOKUP('aux gr1'!DS18,'aux gr1'!$A$12:$A$231,'aux gr1'!$B$12:$B$121)) -> Optativa Tecnológicas | V42: =IF('aux gr1'!DT18="","",LOOKUP('aux gr1'!DT18,'aux gr1'!$A$12:$A$231,'aux gr1'!$B$12:$B$121)) -> Sistemas de Transportes
A43: =IF('aux gr1'!DM18="","",LOOKUP('aux gr1'!DM18,'aux gr1'!$A$12:$A$231,'aux gr1'!$AC$12:$AC$121)) -> 2cr/2t | B43: =IF('aux gr1'!DM18="","",LOOKUP('aux gr1'!DM18,'aux gr1'!$A$12:$A$231,'aux gr1'!$V$12:$V$121)) -> Out. | D43: =IF('aux gr1'!DN18="","",LOOKUP('aux gr1'!DN18,'aux gr1'!$A$12:$A$231,'aux gr1'!$AC$12:$AC$121)) -> 4cr/4t | E43: =IF('aux gr1'!DN18="","",LOOKUP('aux gr1'!DN18,'aux gr1'!$A$12:$A$231,'aux gr1'!$V$12:$V$121)) -> Pro. | G43: =IF('aux gr1'!DO18="","",LOOKUP('aux gr1'!DO18,'aux gr1'!$A$12:$A$231,'aux gr1'!$AC$12:$AC$121)) -> 4cr/3t + 1p | H43: =IF('aux gr1'!DO18="","",LOOKUP('aux gr1'!DO18,'aux gr1'!$A$12:$A$231,'aux gr1'!$V$12:$V$121)) -> Bás. | J43: =IF('aux gr1'!DP18="","",LOOKUP('aux gr1'!DP18,'aux gr1'!$A$12:$A$231,'aux gr1'!$AC$12:$AC$121)) -> 4cr/4t | K43: =IF('aux gr1'!DP18="","",LOOKUP('aux gr1'!DP18,'aux gr1'!$A$12:$A$231,'aux gr1'!$V$12:$V$121)) -> Bás. | M43: =IF('aux gr1'!DQ18="","",LOOKUP('aux gr1'!DQ18,'aux gr1'!$A$12:$A$231,'aux gr1'!$AC$12:$AC$121)) -> 2cr/2e | N43: =IF('aux gr1'!DQ18="","",LOOKUP('aux gr1'!DQ18,'aux gr1'!$A$12:$A$231,'aux gr1'!$V$12:$V$121)) -> ---- | P43: =IF('aux gr1'!DR18="","",LOOKUP('aux gr1'!DR18,'aux gr1'!$A$12:$A$231,'aux gr1'!$AC$12:$AC$121)) | S43: =IF('aux gr1'!DS18="","",LOOKUP('aux gr1'!DS18,'aux gr1'!$A$12:$A$231,'aux gr1'!$AC$12:$AC$121)) -> 2cr/2t | T43: =IF('aux gr1'!DS18="","",LOOKUP('aux gr1'!DS18,'aux gr1'!$A$12:$A$231,'aux gr1'!$V$12:$V$121)) -> Out. | V43: =IF('aux gr1'!DT18="","",LOOKUP('aux gr1'!DT18,'aux gr1'!$A$12:$A$231,'aux gr1'!$AC$12:$AC$121)) -> 3cr/3t | W43: =IF('aux gr1'!DT18="","",LOOKUP('aux gr1'!DT18,'aux gr1'!$A$12:$A$231,'aux gr1'!$V$12:$V$121)) -> Pro.
A44: =IF('aux gr1'!DM18="","",LOOKUP('aux gr1'!DM18,'aux gr1'!$A$12:$A$231,'aux gr1'!$E$12:$E$121)) -> Pré: --- | D44: =IF('aux gr1'!DN18="","",LOOKUP('aux gr1'!DN18,'aux gr1'!$A$12:$A$231,'aux gr1'!$E$12:$E$121)) -> Pré: MAT01101 | G44: =IF('aux gr1'!DO18="","",LOOKUP('aux gr1'!DO18,'aux gr1'!$A$12:$A$231,'aux gr1'!$E$12:$E$121)) -> Pré: --- | J44: =IF('aux gr1'!DP18="","",LOOKUP('aux gr1'!DP18,'aux gr1'!$A$12:$A$231,'aux gr1'!$E$12:$E$121)) -> Pré: MAT01102 MAT01204 | M44: =IF('aux gr1'!DQ18="","",LOOKUP('aux gr1'!DQ18,'aux gr1'!$A$12:$A$231,'aux gr1'!$E$12:$E$121)) -> Pré: --- | P44: =IF('aux gr1'!DR18="","",LOOKUP('aux gr1'!DR18,'aux gr1'!$A$12:$A$231,'aux gr1'!$E$12:$E$121)) | S44: =IF('aux gr1'!DS18="","",LOOKUP('aux gr1'!DS18,'aux gr1'!$A$12:$A$231,'aux gr1'!$E$12:$E$121)) -> Pré: --- | V44: =IF('aux gr1'!DT18="","",LOOKUP('aux gr1'!DT18,'aux gr1'!$A$12:$A$231,'aux gr1'!$E$12:$E$121)) -> Pré: PRO01321
A45: =IF('aux gr1'!DM18="","",LOOKUP('aux gr1'!DM18,'aux gr1'!$A$12:$A$231,'aux gr1'!$F$12:$F$121)) -> Co: --- | D45: =IF('aux gr1'!DN18="","",LOOKUP('aux gr1'!DN18,'aux gr1'!$A$12:$A$231,'aux gr1'!$F$12:$F$121)) -> Co: --- | G45: =IF('aux gr1'!DO18="","",LOOKUP('aux gr1'!DO18,'aux gr1'!$A$12:$A$231,'aux gr1'!$F$12:$F$121)) -> Co: --- | J45: =IF('aux gr1'!DP18="","",LOOKUP('aux gr1'!DP18,'aux gr1'!$A$12:$A$231,'aux gr1'!$F$12:$F$121)) -> Co: --- | M45: =IF('aux gr1'!DQ18="","",LOOKUP('aux gr1'!DQ18,'aux gr1'!$A$12:$A$231,'aux gr1'!$F$12:$F$121)) -> Co: --- | P45: =IF('aux gr1'!DR18="","",LOOKUP('aux gr1'!DR18,'aux gr1'!$A$12:$A$231,'aux gr1'!$F$12:$F$121)) | S45: =IF('aux gr1'!DS18="","",LOOKUP('aux gr1'!DS18,'aux gr1'!$A$12:$A$231,'aux gr1'!$F$12:$F$121)) -> Co: --- | V45: =IF('aux gr1'!DT18="","",LOOKUP('aux gr1'!DT18,'aux gr1'!$A$12:$A$231,'aux gr1'!$F$12:$F$121)) -> Co: CIV01331
D47: =IF('aux gr1'!DN19="","",LOOKUP('aux gr1'!DN19,'aux gr1'!$A$12:$A$231,'aux gr1'!$P$12:$P$121)) | E47: =IF('aux gr1'!DN19="","",LOOKUP('aux gr1'!DN19,'aux gr1'!$A$12:$A$231,'aux gr1'!$AA$12:$AA$121)) | G47: =IF('aux gr1'!DO19="","",LOOKUP('aux gr1'!DO19,'aux gr1'!$A$12:$A$231,'aux gr1'!$P$12:$P$121)) | H47: =IF('aux gr1'!DO19="","",LOOKUP('aux gr1'!DO19,'aux gr1'!$A$12:$A$231,'aux gr1'!$AA$12:$AA$121)) | J47: =IF('aux gr1'!DP19="","",LOOKUP('aux gr1'!DP19,'aux gr1'!$A$12:$A$231,'aux gr1'!$P$12:$P$121)) | K47: =IF('aux gr1'!DP19="","",LOOKUP('aux gr1'!DP19,'aux gr1'!$A$12:$A$231,'aux gr1'!$AA$12:$AA$121)) | M47: =IF('aux gr1'!DQ19="","",LOOKUP('aux gr1'!DQ19,'aux gr1'!$A$12:$A$231,'aux gr1'!$P$12:$P$121)) | N47: =IF('aux gr1'!DQ19="","",LOOKUP('aux gr1'!DQ19,'aux gr1'!$A$12:$A$231,'aux gr1'!$AA$12:$AA$121)) -> 34h | P47: =IF('aux gr1'!DR19="","",LOOKUP('aux gr1'!DR19,'aux gr1'!$A$12:$A$231,'aux gr1'!$P$12:$P$121)) | Q47: =IF('aux gr1'!DR19="","",LOOKUP('aux gr1'!DR19,'aux gr1'!$A$12:$A$231,'aux gr1'!$AA$12:$AA$121)) | S47: =IF('aux gr1'!DS19="","",LOOKUP('aux gr1'!DS19,'aux gr1'!$A$12:$A$231,'aux gr1'!$P$12:$P$121)) | T47: =IF('aux gr1'!DS19="","",LOOKUP('aux gr1'!DS19,'aux gr1'!$A$12:$A$231,'aux gr1'!$AA$12:$AA$121)) | V47: =IF('aux gr1'!DT19="","",LOOKUP('aux gr1'!DT19,'aux gr1'!$A$12:$A$231,'aux gr1'!$P$12:$P$121)) | W47: =IF('aux gr1'!DT19="","",LOOKUP('aux gr1'!DT19,'aux gr1'!$A$12:$A$231,'aux gr1'!$AA$12:$AA$121)) -> 34h
D48: =IF('aux gr1'!DN19="","",LOOKUP('aux gr1'!DN19,'aux gr1'!$A$12:$A$231,'aux gr1'!$B$12:$B$121)) | G48: =IF('aux gr1'!DO19="","",LOOKUP('aux gr1'!DO19,'aux gr1'!$A$12:$A$231,'aux gr1'!$B$12:$B$121)) | J48: =IF('aux gr1'!DP19="","",LOOKUP('aux gr1'!DP19,'aux gr1'!$A$12:$A$231,'aux gr1'!$B$12:$B$121)) | M48: =IF('aux gr1'!DQ19="","",LOOKUP('aux gr1'!DQ19,'aux gr1'!$A$12:$A$231,'aux gr1'!$B$12:$B$121)) -> Optativa Humanas | P48: =IF('aux gr1'!DR19="","",LOOKUP('aux gr1'!DR19,'aux gr1'!$A$12:$A$231,'aux gr1'!$B$12:$B$121)) | S48: =IF('aux gr1'!DS19="","",LOOKUP('aux gr1'!DS19,'aux gr1'!$A$12:$A$231,'aux gr1'!$B$12:$B$121)) | V48: =IF('aux gr1'!DT19="","",LOOKUP('aux gr1'!DT19,'aux gr1'!$A$12:$A$231,'aux gr1'!$B$12:$B$121)) -> Optativa Tecnológicas
D49: =IF('aux gr1'!DN19="","",LOOKUP('aux gr1'!DN19,'aux gr1'!$A$12:$A$231,'aux gr1'!$AC$12:$AC$121)) | G49: =IF('aux gr1'!DO19="","",LOOKUP('aux gr1'!DO19,'aux gr1'!$A$12:$A$231,'aux gr1'!$AC$12:$AC$121)) | J49: =IF('aux gr1'!DP19="","",LOOKUP('aux gr1'!DP19,'aux gr1'!$A$12:$A$231,'aux gr1'!$AC$12:$AC$121)) | M49: =IF('aux gr1'!DQ19="","",LOOKUP('aux gr1'!DQ19,'aux gr1'!$A$12:$A$231,'aux gr1'!$AC$12:$AC$121)) -> 2cr/2t | N49: =IF('aux gr1'!DQ19="","",LOOKUP('aux gr1'!DQ19,'aux gr1'!$A$12:$A$231,'aux gr1'!$V$12:$V$121)) -> Out. | P49: =IF('aux gr1'!DR19="","",LOOKUP('aux gr1'!DR19,'aux gr1'!$A$12:$A$231,'aux gr1'!$AC$12:$AC$121)) | S49: =IF('aux gr1'!DS19="","",LOOKUP('aux gr1'!DS19,'aux gr1'!$A$12:$A$231,'aux gr1'!$AC$12:$AC$121)) | V49: =IF('aux gr1'!DT19="","",LOOKUP('aux gr1'!DT19,'aux gr1'!$A$12:$A$231,'aux gr1'!$AC$12:$AC$121)) -> 2cr/2t | W49: =IF('aux gr1'!DT19="","",LOOKUP('aux gr1'!DT19,'aux gr1'!$A$12:$A$231,'aux gr1'!$V$12:$V$121)) -> Out.
D50: =IF('aux gr1'!DN19="","",LOOKUP('aux gr1'!DN19,'aux gr1'!$A$12:$A$231,'aux gr1'!$E$12:$E$121)) | G50: =IF('aux gr1'!DO19="","",LOOKUP('aux gr1'!DO19,'aux gr1'!$A$12:$A$231,'aux gr1'!$E$12:$E$121)) | J50: =IF('aux gr1'!DP19="","",LOOKUP('aux gr1'!DP19,'aux gr1'!$A$12:$A$231,'aux gr1'!$E$12:$E$121)) | M50: =IF('aux gr1'!DQ19="","",LOOKUP('aux gr1'!DQ19,'aux gr1'!$A$12:$A$231,'aux gr1'!$E$12:$E$121)) -> Pré: --- | P50: =IF('aux gr1'!DR19="","",LOOKUP('aux gr1'!DR19,'aux gr1'!$A$12:$A$231,'aux gr1'!$E$12:$E$121)) | S50: =IF('aux gr1'!DS19="","",LOOKUP('aux gr1'!DS19,'aux gr1'!$A$12:$A$231,'aux gr1'!$E$12:$E$121)) | V50: =IF('aux gr1'!DT19="","",LOOKUP('aux gr1'!DT19,'aux gr1'!$A$12:$A$231,'aux gr1'!$E$12:$E$121)) -> Pré: ---
D51: =IF('aux gr1'!DN19="","",LOOKUP('aux gr1'!DN19,'aux gr1'!$A$12:$A$231,'aux gr1'!$F$12:$F$121)) | G51: =IF('aux gr1'!DO19="","",LOOKUP('aux gr1'!DO19,'aux gr1'!$A$12:$A$231,'aux gr1'!$F$12:$F$121)) | J51: =IF('aux gr1'!DP19="","",LOOKUP('aux gr1'!DP19,'aux gr1'!$A$12:$A$231,'aux gr1'!$F$12:$F$121)) | M51: =IF('aux gr1'!DQ19="","",LOOKUP('aux gr1'!DQ19,'aux gr1'!$A$12:$A$231,'aux gr1'!$F$12:$F$121)) -> Co: --- | P51: =IF('aux gr1'!DR19="","",LOOKUP('aux gr1'!DR19,'aux gr1'!$A$12:$A$231,'aux gr1'!$F$12:$F$121)) | S51: =IF('aux gr1'!DS19="","",LOOKUP('aux gr1'!DS19,'aux gr1'!$A$12:$A$231,'aux gr1'!$F$12:$F$121)) | V51: =IF('aux gr1'!DT19="","",LOOKUP('aux gr1'!DT19,'aux gr1'!$A$12:$A$231,'aux gr1'!$F$12:$F$121)) -> Co: ---
Z54: Carga horária (h)
Z55: Período
A56: 11 | B56: =LOOKUP(A$56,'aux 7'!$C$22:$C$41,'aux 7'!$D$22:$D$41) -> Opt. Tecnológicas - LECIV | J56: 14 | K56: =LOOKUP(J$56,'aux 7'!$C$22:$C$41,'aux 7'!$D$22:$D$41) -> Opt. Humanas - LECIV | Y56: Núcleo | Z56: =LOOKUP('aux gr1'!EH2,'aux 7'!$C$22:$C$41,'aux 7'!$G$22:$G$41) -> 1º | AA56: =LOOKUP('aux gr1'!EI2,'aux 7'!$C$22:$C$41,'aux 7'!$G$22:$G$41) -> 2º | AB56: =LOOKUP('aux gr1'!EJ2,'aux 7'!$C$22:$C$41,'aux 7'!$G$22:$G$41) -> 3º | AC56: =LOOKUP('aux gr1'!EK2,'aux 7'!$C$22:$C$41,'aux 7'!$G$22:$G$41) -> 4º | AD56: =LOOKUP('aux gr1'!EL2,'aux 7'!$C$22:$C$41,'aux 7'!$G$22:$G$41) -> 5º | AE56: =LOOKUP('aux gr1'!EM2,'aux 7'!$C$22:$C$41,'aux 7'!$G$22:$G$41) -> 6º | AF56: =LOOKUP('aux gr1'!EN2,'aux 7'!$C$22:$C$41,'aux 7'!$G$22:$G$41) -> 7º | AG56: =LOOKUP('aux gr1'!EO2,'aux 7'!$C$22:$C$41,'aux 7'!$G$22:$G$41) -> 8º | AH56: Total | AI56: %
B57: =IF(LOOKUP(A$56,'aux gr1'!$DM$11:$EF$11,'aux gr1'!$DM12:$EF12)="","",LOOKUP(LOOKUP(A$56,'aux gr1'!$DM$11:$EF$11,'aux gr1'!$DM12:$EF12),'aux gr1'!$A$12:$A$231,'aux gr1'!$B$12:$B$231)) -> Fundamentos de Arquitetura e Urbanismo | K57: =IF(LOOKUP(J$56,'aux gr1'!$DM$11:$EF$11,'aux gr1'!$DM12:$EF12)="","",LOOKUP(LOOKUP(J$56,'aux gr1'!$DM$11:$EF$11,'aux gr1'!$DM12:$EF12),'aux gr1'!$A$12:$A$231,'aux gr1'!$B$12:$B$231)) -> Matérias Jurídicas - Responsabilidade Civil do Engenheiro, do Construtor e do Incorporador | Y57: ='aux gr1'!EG3 -> Bás. | Z57: =IF('aux gr1'!EH3=0,"---",'aux gr1'!EH3) -> 306 | AA57: =IF('aux gr1'!EI3=0,"---",'aux gr1'!EI3) -> 374 | AB57: =IF('aux gr1'!EJ3=0,"---",'aux gr1'!EJ3) -> 255 | AC57: =IF('aux gr1'!EK3=0,"---",'aux gr1'!EK3) -> 170 | AD57: =IF('aux gr1'!EL3=0,"---",'aux gr1'!EL3) -> --- | AE57: =IF('aux gr1'!EM3=0,"---",'aux gr1'!EM3) -> --- | AF57: =IF('aux gr1'!EN3=0,"---",'aux gr1'!EN3) -> --- | AG57: =IF('aux gr1'!EO3=0,"---",'aux gr1'!EO3) -> --- | AH57: =SUM(Z57:AG57) -> 1105 | AI57: =AH57/$AH$62*100 -> 26.639344
B58: =IF(LOOKUP(A$56,'aux gr1'!$DM$11:$EF$11,'aux gr1'!$DM13:$EF13)="","",LOOKUP(LOOKUP(A$56,'aux gr1'!$DM$11:$EF$11,'aux gr1'!$DM13:$EF13),'aux gr1'!$A$12:$A$231,'aux gr1'!$B$12:$B$231)) -> Geotecnia de Barragens Terra e Enrocamento | K58: =IF(LOOKUP(J$56,'aux gr1'!$DM$11:$EF$11,'aux gr1'!$DM13:$EF13)="","",LOOKUP(LOOKUP(J$56,'aux gr1'!$DM$11:$EF$11,'aux gr1'!$DM13:$EF13),'aux gr1'!$A$12:$A$231,'aux gr1'!$B$12:$B$231)) -> Matérias Jurídicas - contratos | R58: =IF(LOOKUP(J$71,'aux gr1'!$DM$11:$EF$11,'aux gr1'!$DM13:$EF13)="","",LOOKUP(LOOKUP(J$71,'aux gr1'!$DM$11:$EF$11,'aux gr1'!$DM13:$EF13),'aux gr1'!$A$12:$A$231,'aux gr1'!$B$12:$B$231)) | Y58: ='aux gr1'!EG4 -> Pro. | Z58: =IF('aux gr1'!EH4=0,"---",'aux gr1'!EH4) -> 85 | AA58: =IF('aux gr1'!EI4=0,"---",'aux gr1'!EI4) -> 68 | AB58: =IF('aux gr1'!EJ4=0,"---",'aux gr1'!EJ4) -> 136 | AC58: =IF('aux gr1'!EK4=0,"---",'aux gr1'!EK4) -> 153 | AD58: =IF('aux gr1'!EL4=0,"---",'aux gr1'!EL4) -> 204 | AE58: =IF('aux gr1'!EM4=0,"---",'aux gr1'!EM4) -> --- | AF58: =IF('aux gr1'!EN4=0,"---",'aux gr1'!EN4) -> 136 | AG58: =IF('aux gr1'!EO4=0,"---",'aux gr1'!EO4) -> 85 | AH58: =SUM(Z58:AG58) -> 867 | AI58: =AH58/$AH$62*100 -> 20.901639
B59: =IF(LOOKUP(A$56,'aux gr1'!$DM$11:$EF$11,'aux gr1'!$DM14:$EF14)="","",LOOKUP(LOOKUP(A$56,'aux gr1'!$DM$11:$EF$11,'aux gr1'!$DM14:$EF14),'aux gr1'!$A$12:$A$231,'aux gr1'!$B$12:$B$231)) -> Materiais Compósitos | H59: =IF(LOOKUP(A$65,'aux gr1'!$DM$11:$EF$11,'aux gr1'!$DM14:$EF14)="","",LOOKUP(LOOKUP(A$65,'aux gr1'!$DM$11:$EF$11,'aux gr1'!$DM14:$EF14),'aux gr1'!$A$12:$A$231,'aux gr1'!$B$12:$B$231)) | K59: =IF(LOOKUP(J$56,'aux gr1'!$DM$11:$EF$11,'aux gr1'!$DM14:$EF14)="","",LOOKUP(LOOKUP(J$56,'aux gr1'!$DM$11:$EF$11,'aux gr1'!$DM14:$EF14),'aux gr1'!$A$12:$A$231,'aux gr1'!$B$12:$B$231)) | R59: =IF(LOOKUP(J$71,'aux gr1'!$DM$11:$EF$11,'aux gr1'!$DM14:$EF14)="","",LOOKUP(LOOKUP(J$71,'aux gr1'!$DM$11:$EF$11,'aux gr1'!$DM14:$EF14),'aux gr1'!$A$12:$A$231,'aux gr1'!$B$12:$B$231)) | Y59: ='aux gr1'!EG5 -> Esp. | Z59: =IF('aux gr1'!EH5=0,"---",'aux gr1'!EH5) -> --- | AA59: =IF('aux gr1'!EI5=0,"---",'aux gr1'!EI5) -> --- | AB59: =IF('aux gr1'!EJ5=0,"---",'aux gr1'!EJ5) -> 68 | AC59: =IF('aux gr1'!EK5=0,"---",'aux gr1'!EK5) -> 170 | AD59: =IF('aux gr1'!EL5=0,"---",'aux gr1'!EL5) -> 221 | AE59: =IF('aux gr1'!EM5=0,"---",'aux gr1'!EM5) -> 459 | AF59: =IF('aux gr1'!EN5=0,"---",'aux gr1'!EN5) -> 340 | AG59: =IF('aux gr1'!EO5=0,"---",'aux gr1'!EO5) -> 425 | AH59: =SUM(Z59:AG59) -> 1683 | AI59: =AH59/$AH$62*100 -> 40.57377
B60: =IF(LOOKUP(A$56,'aux gr1'!$DM$11:$EF$11,'aux gr1'!$DM15:$EF15)="","",LOOKUP(LOOKUP(A$56,'aux gr1'!$DM$11:$EF$11,'aux gr1'!$DM15:$EF15),'aux gr1'!$A$12:$A$231,'aux gr1'!$B$12:$B$231)) -> Dosagem de Materiais Cimentícios | H60: =IF(LOOKUP(A$65,'aux gr1'!$DM$11:$EF$11,'aux gr1'!$DM15:$EF15)="","",LOOKUP(LOOKUP(A$65,'aux gr1'!$DM$11:$EF$11,'aux gr1'!$DM15:$EF15),'aux gr1'!$A$12:$A$231,'aux gr1'!$B$12:$B$231)) | J60: 15 | K60: =LOOKUP(J$60,'aux 7'!$C$22:$C$41,'aux 7'!$D$22:$D$41) -> Opt. Humanas - LEEL | Y60: ='aux gr1'!EG6 -> Out. | Z60: =IF('aux gr1'!EH6=0,"---",'aux gr1'!EH6) -> 34 | AA60: =IF('aux gr1'!EI6=0,"---",'aux gr1'!EI6) -> --- | AB60: =IF('aux gr1'!EJ6=0,"---",'aux gr1'!EJ6) -> --- | AC60: =IF('aux gr1'!EK6=0,"---",'aux gr1'!EK6) -> --- | AD60: =IF('aux gr1'!EL6=0,"---",'aux gr1'!EL6) -> 34 | AE60: =IF('aux gr1'!EM6=0,"---",'aux gr1'!EM6) -> --- | AF60: =IF('aux gr1'!EN6=0,"---",'aux gr1'!EN6) -> 34 | AG60: =IF('aux gr1'!EO6=0,"---",'aux gr1'!EO6) -> 34 | AH60: =SUM(Z60:AG60) -> 136 | AI60: =AH60/$AH$62*100 -> 3.2786885
B61: =IF(LOOKUP(A$56,'aux gr1'!$DM$11:$EF$11,'aux gr1'!$DM16:$EF16)="","",LOOKUP(LOOKUP(A$56,'aux gr1'!$DM$11:$EF$11,'aux gr1'!$DM16:$EF16),'aux gr1'!$A$12:$A$231,'aux gr1'!$B$12:$B$231)) -> Análise Matricial de Estruturas | H61: =IF(LOOKUP(A$65,'aux gr1'!$DM$11:$EF$11,'aux gr1'!$DM16:$EF16)="","",LOOKUP(LOOKUP(A$65,'aux gr1'!$DM$11:$EF$11,'aux gr1'!$DM16:$EF16),'aux gr1'!$A$12:$A$231,'aux gr1'!$B$12:$B$231)) | K61: =IF(LOOKUP(J$60,'aux gr1'!$DM$11:$EF$11,'aux gr1'!$DM12:$EF12)="","",LOOKUP(LOOKUP(J$60,'aux gr1'!$DM$11:$EF$11,'aux gr1'!$DM12:$EF12),'aux gr1'!$A$12:$A$231,'aux gr1'!$B$12:$B$231)) -> Inglês Instrumental I | Y61: ='aux gr1'!EG7 -> ---- | Z61: =IF('aux gr1'!EH7=0,"---",'aux gr1'!EH7) -> --- | AA61: =IF('aux gr1'!EI7=0,"---",'aux gr1'!EI7) -> --- | AB61: =IF('aux gr1'!EJ7=0,"---",'aux gr1'!EJ7) -> --- | AC61: =IF('aux gr1'!EK7=0,"---",'aux gr1'!EK7) -> --- | AD61: =IF('aux gr1'!EL7=0,"---",'aux gr1'!EL7) -> 136 | AE61: =IF('aux gr1'!EM7=0,"---",'aux gr1'!EM7) -> --- | AF61: =IF('aux gr1'!EN7=0,"---",'aux gr1'!EN7) -> --- | AG61: =IF('aux gr1'!EO7=0,"---",'aux gr1'!EO7) -> 221 | AH61: =SUM(Z61:AG61) -> 357 | AI61: =AH61/$AH$62*100 -> 8.6065574
B62: =IF(LOOKUP(A$56,'aux gr1'!$DM$11:$EF$11,'aux gr1'!$DM17:$EF17)="","",LOOKUP(LOOKUP(A$56,'aux gr1'!$DM$11:$EF$11,'aux gr1'!$DM17:$EF17),'aux gr1'!$A$12:$A$231,'aux gr1'!$B$12:$B$231)) -> Estruturas de Fundação | H62: =IF(LOOKUP(A$65,'aux gr1'!$DM$11:$EF$11,'aux gr1'!$DM17:$EF17)="","",LOOKUP(LOOKUP(A$65,'aux gr1'!$DM$11:$EF$11,'aux gr1'!$DM17:$EF17),'aux gr1'!$A$12:$A$231,'aux gr1'!$B$12:$B$231)) | K62: =IF(LOOKUP(J$60,'aux gr1'!$DM$11:$EF$11,'aux gr1'!$DM13:$EF13)="","",LOOKUP(LOOKUP(J$60,'aux gr1'!$DM$11:$EF$11,'aux gr1'!$DM13:$EF13),'aux gr1'!$A$12:$A$231,'aux gr1'!$B$12:$B$231)) -> Inglês Instrumental II | Y62: ='aux gr1'!EG8 -> Total | Z62: ='aux gr1'!EH8 -> 425 | AA62: ='aux gr1'!EI8 -> 442 | AB62: ='aux gr1'!EJ8 -> 459 | AC62: ='aux gr1'!EK8 -> 493 | AD62: ='aux gr1'!EL8 -> 595 | AE62: ='aux gr1'!EM8 -> 459 | AF62: ='aux gr1'!EN8 -> 510 | AG62: ='aux gr1'!EO8 -> 765 | AH62: =SUM(Z62:AG62) -> 4148
B63: =IF(LOOKUP(A$56,'aux gr1'!$DM$11:$EF$11,'aux gr1'!$DM18:$EF18)="","",LOOKUP(LOOKUP(A$56,'aux gr1'!$DM$11:$EF$11,'aux gr1'!$DM18:$EF18),'aux gr1'!$A$12:$A$231,'aux gr1'!$B$12:$B$231)) -> Geossintéticos I | H63: =IF(LOOKUP(A$65,'aux gr1'!$DM$11:$EF$11,'aux gr1'!$DM18:$EF18)="","",LOOKUP(LOOKUP(A$65,'aux gr1'!$DM$11:$EF$11,'aux gr1'!$DM18:$EF18),'aux gr1'!$A$12:$A$231,'aux gr1'!$B$12:$B$231)) | K63: =IF(LOOKUP(J$60,'aux gr1'!$DM$11:$EF$11,'aux gr1'!$DM14:$EF14)="","",LOOKUP(LOOKUP(J$60,'aux gr1'!$DM$11:$EF$11,'aux gr1'!$DM14:$EF14),'aux gr1'!$A$12:$A$231,'aux gr1'!$B$12:$B$231)) -> Inglês Instrumental III | P63: =IF(LOOKUP(A$69,'aux gr1'!$DM$11:$EF$11,'aux gr1'!$DM18:$EF18)="","",LOOKUP(LOOKUP(A$69,'aux gr1'!$DM$11:$EF$11,'aux gr1'!$DM18:$EF18),'aux gr1'!$A$12:$A$231,'aux gr1'!$B$12:$B$231))
K64: =IF(LOOKUP(J$60,'aux gr1'!$DM$11:$EF$11,'aux gr1'!$DM15:$EF15)="","",LOOKUP(LOOKUP(J$60,'aux gr1'!$DM$11:$EF$11,'aux gr1'!$DM15:$EF15),'aux gr1'!$A$12:$A$231,'aux gr1'!$B$12:$B$231))
A65: 12 | B65: =LOOKUP(A$65,'aux 7'!$C$22:$C$41,'aux 7'!$D$22:$D$41) -> Opt. Tecnológicas - LEPROD | J65: 16 | K65: =LOOKUP(J$65,'aux 7'!$C$22:$C$41,'aux 7'!$D$22:$D$41) -> Opt. Humanas - LESCE
B66: =IF(LOOKUP(A$65,'aux gr1'!$DM$11:$EF$11,'aux gr1'!$DM12:$EF12)="","",LOOKUP(LOOKUP(A$65,'aux gr1'!$DM$11:$EF$11,'aux gr1'!$DM12:$EF12),'aux gr1'!$A$12:$A$231,'aux gr1'!$B$12:$B$231)) -> Análise Econômica de Sistemas de Engenharia | K66: =IF(LOOKUP(J$65,'aux gr1'!$DM$11:$EF$11,'aux gr1'!$DM12:$EF12)="","",LOOKUP(LOOKUP(J$65,'aux gr1'!$DM$11:$EF$11,'aux gr1'!$DM12:$EF12),'aux gr1'!$A$12:$A$231,'aux gr1'!$B$12:$B$231)) -> Introdução a Sociologia do Trabalho
B67: =IF(LOOKUP(A$65,'aux gr1'!$DM$11:$EF$11,'aux gr1'!$DM13:$EF13)="","",LOOKUP(LOOKUP(A$65,'aux gr1'!$DM$11:$EF$11,'aux gr1'!$DM13:$EF13),'aux gr1'!$A$12:$A$231,'aux gr1'!$B$12:$B$231)) -> Empreendedorismo | K67: =IF(LOOKUP(J$65,'aux gr1'!$DM$11:$EF$11,'aux gr1'!$DM13:$EF13)="","",LOOKUP(LOOKUP(J$65,'aux gr1'!$DM$11:$EF$11,'aux gr1'!$DM13:$EF13),'aux gr1'!$A$12:$A$231,'aux gr1'!$B$12:$B$231))
B68: =IF(LOOKUP(A$65,'aux gr1'!$DM$11:$EF$11,'aux gr1'!$DM14:$EF14)="","",LOOKUP(LOOKUP(A$65,'aux gr1'!$DM$11:$EF$11,'aux gr1'!$DM14:$EF14),'aux gr1'!$A$12:$A$231,'aux gr1'!$B$12:$B$231)) | J68: 17 | K68: =LOOKUP(J$68,'aux 7'!$C$22:$C$41,'aux 7'!$D$22:$D$41) -> Opt. Humanas - CCH
A69: 13 | B69: =LOOKUP(A$69,'aux 7'!$C$22:$C$41,'aux 7'!$D$22:$D$41) -> Opt. Tecnológicas - CCT | K69: =IF(LOOKUP(J$68,'aux gr1'!$DM$11:$EF$11,'aux gr1'!$DM12:$EF12)="","",LOOKUP(LOOKUP(J$68,'aux gr1'!$DM$11:$EF$11,'aux gr1'!$DM12:$EF12),'aux gr1'!$A$12:$A$231,'aux gr1'!$B$12:$B$231)) -> Ciência e sociedade LB
B70: =IF(LOOKUP(A$69,'aux gr1'!$DM$11:$EF$11,'aux gr1'!$DM12:$EF12)="","",LOOKUP(LOOKUP(A$69,'aux gr1'!$DM$11:$EF$11,'aux gr1'!$DM12:$EF12),'aux gr1'!$A$12:$A$231,'aux gr1'!$B$12:$B$231)) -> Eletrotécnica Geral | K70: =IF(LOOKUP(J$68,'aux gr1'!$DM$11:$EF$11,'aux gr1'!$DM13:$EF13)="","",LOOKUP(LOOKUP(J$68,'aux gr1'!$DM$11:$EF$11,'aux gr1'!$DM13:$EF13),'aux gr1'!$A$12:$A$231,'aux gr1'!$B$12:$B$231))
J71: 18 | K71: =LOOKUP(J$71,'aux 7'!$C$22:$C$41,'aux 7'!$D$22:$D$41) -> Opt. Humanas - LPROD
K72: =IF(LOOKUP(J$71,'aux gr1'!$DM$11:$EF$11,'aux gr1'!$DM12:$EF12)="","",LOOKUP(LOOKUP(J$71,'aux gr1'!$DM$11:$EF$11,'aux gr1'!$DM12:$EF12),'aux gr1'!$A$12:$A$231,'aux gr1'!$B$12:$B$231)) -> Metodologia Científica para Engenharia de Produção
B73: =IF(LOOKUP(J$56,'aux gr1'!$DM$11:$EF$11,'aux gr1'!$DM14:$EF14)="","",LOOKUP(LOOKUP(J$56,'aux gr1'!$DM$11:$EF$11,'aux gr1'!$DM14:$EF14),'aux gr1'!$A$12:$A$231,'aux gr1'!$B$12:$B$231)) | K73: =IF(LOOKUP(J$71,'aux gr1'!$DM$11:$EF$11,'aux gr1'!$DM13:$EF13)="","",LOOKUP(LOOKUP(J$71,'aux gr1'!$DM$11:$EF$11,'aux gr1'!$DM13:$EF13),'aux gr1'!$A$12:$A$231,'aux gr1'!$B$12:$B$231))

Sheet Formulário
A1: =CONCATENATE(Instrucoes!C2," - ",Instrucoes!C3," - ",Instrucoes!C4," (","vs.",Instrucoes!C5,")") -> Formulário de Matrícula - Engenharia Civil - 2016-02 (vs.5.0)
C3: Matrícula:
C4: Aluno: | D4: =IFERROR(IF(D3="","",LOOKUP(MATCH(D3,'aux 3'!B2:B500,0),'aux 3'!A2:A500,'aux 3'!C2:C500)),'aux 7'!C8)
C5: =CONCATENATE("Provável formando no período ",Instrucoes!C4) -> Provável formando no período 2016-02
A7: 1 | C7: =IF(LOOKUP(A7,'aux 7'!$C$22:$C$41,'aux 7'!$D$22:$D$41)="","",LOOKUP(A7,'aux 7'!$C$22:$C$41,'aux 7'!$D$22:$D$41)) -> 1º Período Civil | D7: 3 | F7: =IF(LOOKUP(D7,'aux 7'!$C$22:$C$41,'aux 7'!$D$22:$D$41)="","",LOOKUP(D7,'aux 7'!$C$22:$C$41,'aux 7'!$D$22:$D$41)) -> 3º Período Civil | G7: 5 | I7: =IF(LOOKUP(G7,'aux 7'!$C$22:$C$41,'aux 7'!$D$22:$D$41)="","",LOOKUP(G7,'aux 7'!$C$22:$C$41,'aux 7'!$D$22:$D$41)) -> 5º Período Civil | J7: 7 | L7: =IF(LOOKUP(J7,'aux 7'!$C$22:$C$41,'aux 7'!$D$22:$D$41)="","",LOOKUP(J7,'aux 7'!$C$22:$C$41,'aux 7'!$D$22:$D$41)) -> 7º Período Civil
B9: =IF(C9="","","1 - ") -> 1 - | C9: =IF(LOOKUP(A$7,'aux 1'!$KN$11:$LG$11,'aux 1'!$KN12:$LG12)="","",LOOKUP(LOOKUP(A$7,'aux 1'!$KN$11:$LG$11,'aux 1'!$KN12:$LG12),'aux 1'!$A$12:$A$231,'aux 1'!$AQ$12:$AQ$231)) -> Cálculo Diferencial e Integral I | E9: =IF(F9="","","1 - ") -> 1 - | F9: =IF(LOOKUP(D$7,'aux 1'!$KN$11:$LG$11,'aux 1'!$KN12:$LG12)="","",LOOKUP(LOOKUP(D$7,'aux 1'!$KN$11:$LG$11,'aux 1'!$KN12:$LG12),'aux 1'!$A$12:$A$231,'aux 1'!$AQ$12:$AQ$231)) -> Física Geral II | H9: =IF(I9="","","1 - ") -> 1 - | I9: =IF(LOOKUP(G$7,'aux 1'!$KN$11:$LG$11,'aux 1'!$KN12:$LG12)="","",LOOKUP(LOOKUP(G$7,'aux 1'!$KN$11:$LG$11,'aux 1'!$KN12:$LG12),'aux 1'!$A$12:$A$231,'aux 1'!$AQ$12:$AQ$231)) -> Atividades Acadêmicas Científicas e Culturais - AACC I | K9: =IF(L9="","","1 - ") -> 1 - | L9: =IF(LOOKUP(J$7,'aux 1'!$KN$11:$LG$11,'aux 1'!$KN12:$LG12)="","",LOOKUP(LOOKUP(J$7,'aux 1'!$KN$11:$LG$11,'aux 1'!$KN12:$LG12),'aux 1'!$A$12:$A$231,'aux 1'!$AQ$12:$AQ$231)) -> Proposta de Projeto Final
B10: =IF(C10="","","2 - ") -> 2 - | C10: =IF(LOOKUP(A$7,'aux 1'!$KN$11:$LG$11,'aux 1'!$KN13:$LG13)="","",LOOKUP(LOOKUP(A$7,'aux 1'!$KN$11:$LG$11,'aux 1'!$KN13:$LG13),'aux 1'!$A$12:$A$231,'aux 1'!$AQ$12:$AQ$231)) -> Química Geral I | E10: =IF(F10="","","2 - ") -> 2 - | F10: =IF(LOOKUP(D$7,'aux 1'!$KN$11:$LG$11,'aux 1'!$KN13:$LG13)="","",LOOKUP(LOOKUP(D$7,'aux 1'!$KN$11:$LG$11,'aux 1'!$KN13:$LG13),'aux 1'!$A$12:$A$231,'aux 1'!$AQ$12:$AQ$231)) -> Laboratório de Física Geral II | H10: =IF(I10="","","2 - ") | I10: =IF(LOOKUP(G$7,'aux 1'!$KN$11:$LG$11,'aux 1'!$KN13:$LG13)="","",LOOKUP(LOOKUP(G$7,'aux 1'!$KN$11:$LG$11,'aux 1'!$KN13:$LG13),'aux 1'!$A$12:$A$231,'aux 1'!$AQ$12:$AQ$231)) | K10: =IF(L10="","","2 - ") | L10: =IF(LOOKUP(J$7,'aux 1'!$KN$11:$LG$11,'aux 1'!$KN13:$LG13)="","",LOOKUP(LOOKUP(J$7,'aux 1'!$KN$11:$LG$11,'aux 1'!$KN13:$LG13),'aux 1'!$A$12:$A$231,'aux 1'!$AQ$12:$AQ$231))
B11: =IF(C11="","","3 - ") -> 3 - | C11: =IF(LOOKUP(A$7,'aux 1'!$KN$11:$LG$11,'aux 1'!$KN14:$LG14)="","",LOOKUP(LOOKUP(A$7,'aux 1'!$KN$11:$LG$11,'aux 1'!$KN14:$LG14),'aux 1'!$A$12:$A$231,'aux 1'!$AQ$12:$AQ$231)) -> Português Instrumental I | E11: =IF(F11="","","3 - ") -> 3 - | F11: =IF(LOOKUP(D$7,'aux 1'!$KN$11:$LG$11,'aux 1'!$KN14:$LG14)="","",LOOKUP(LOOKUP(D$7,'aux 1'!$KN$11:$LG$11,'aux 1'!$KN14:$LG14),'aux 1'!$A$12:$A$231,'aux 1'!$AQ$12:$AQ$231)) -> Cálculo Diferencial e Integral III | H11: =IF(I11="","","3 - ") | I11: =IF(LOOKUP(G$7,'aux 1'!$KN$11:$LG$11,'aux 1'!$KN14:$LG14)="","",LOOKUP(LOOKUP(G$7,'aux 1'!$KN$11:$LG$11,'aux 1'!$KN14:$LG14),'aux 1'!$A$12:$A$231,'aux 1'!$AQ$12:$AQ$231)) | K11: =IF(L11="","","3 - ") | L11: =IF(LOOKUP(J$7,'aux 1'!$KN$11:$LG$11,'aux 1'!$KN14:$LG14)="","",LOOKUP(LOOKUP(J$7,'aux 1'!$KN$11:$LG$11,'aux 1'!$KN14:$LG14),'aux 1'!$A$12:$A$231,'aux 1'!$AQ$12:$AQ$231))
B12: =IF(C12="","","4 - ") | C12: =IF(LOOKUP(A$7,'aux 1'!$KN$11:$LG$11,'aux 1'!$KN15:$LG15)="","",LOOKUP(LOOKUP(A$7,'aux 1'!$KN$11:$LG$11,'aux 1'!$KN15:$LG15),'aux 1'!$A$12:$A$231,'aux 1'!$AQ$12:$AQ$231)) | E12: =IF(F12="","","4 - ") -> 4 - | F12: =IF(LOOKUP(D$7,'aux 1'!$KN$11:$LG$11,'aux 1'!$KN15:$LG15)="","",LOOKUP(LOOKUP(D$7,'aux 1'!$KN$11:$LG$11,'aux 1'!$KN15:$LG15),'aux 1'!$A$12:$A$231,'aux 1'!$AQ$12:$AQ$231)) -> Métodos Matemáticos para Engenheiros | H12: =IF(I12="","","4 - ") | I12: =IF(LOOKUP(G$7,'aux 1'!$KN$11:$LG$11,'aux 1'!$KN15:$LG15)="","",LOOKUP(LOOKUP(G$7,'aux 1'!$KN$11:$LG$11,'aux 1'!$KN15:$LG15),'aux 1'!$A$12:$A$231,'aux 1'!$AQ$12:$AQ$231)) | K12: =IF(L12="","","4 - ") | L12: =IF(LOOKUP(J$7,'aux 1'!$KN$11:$LG$11,'aux 1'!$KN15:$LG15)="","",LOOKUP(LOOKUP(J$7,'aux 1'!$KN$11:$LG$11,'aux 1'!$KN15:$LG15),'aux 1'!$A$12:$A$231,'aux 1'!$AQ$12:$AQ$231))
B13: =IF(C13="","","5 - ") | C13: =IF(LOOKUP(A$7,'aux 1'!$KN$11:$LG$11,'aux 1'!$KN16:$LG16)="","",LOOKUP(LOOKUP(A$7,'aux 1'!$KN$11:$LG$11,'aux 1'!$KN16:$LG16),'aux 1'!$A$12:$A$231,'aux 1'!$AQ$12:$AQ$231)) | E13: =IF(F13="","","5 - ") -> 5 - | F13: =IF(LOOKUP(D$7,'aux 1'!$KN$11:$LG$11,'aux 1'!$KN16:$LG16)="","",LOOKUP(LOOKUP(D$7,'aux 1'!$KN$11:$LG$11,'aux 1'!$KN16:$LG16),'aux 1'!$A$12:$A$231,'aux 1'!$AQ$12:$AQ$231)) -> Fundamentos da Ciência da Computação | H13: =IF(I13="","","5 - ") | I13: =IF(LOOKUP(G$7,'aux 1'!$KN$11:$LG$11,'aux 1'!$KN16:$LG16)="","",LOOKUP(LOOKUP(G$7,'aux 1'!$KN$11:$LG$11,'aux 1'!$KN16:$LG16),'aux 1'!$A$12:$A$231,'aux 1'!$AQ$12:$AQ$231)) | K13: =IF(L13="","","5 - ") | L13: =IF(LOOKUP(J$7,'aux 1'!$KN$11:$LG$11,'aux 1'!$KN16:$LG16)="","",LOOKUP(LOOKUP(J$7,'aux 1'!$KN$11:$LG$11,'aux 1'!$KN16:$LG16),'aux 1'!$A$12:$A$231,'aux 1'!$AQ$12:$AQ$231))
B14: =IF(C14="","","6 - ") | C14: =IF(LOOKUP(A$7,'aux 1'!$KN$11:$LG$11,'aux 1'!$KN17:$LG17)="","",LOOKUP(LOOKUP(A$7,'aux 1'!$KN$11:$LG$11,'aux 1'!$KN17:$LG17),'aux 1'!$A$12:$A$231,'aux 1'!$AQ$12:$AQ$231)) | E14: =IF(F14="","","6 - ") | F14: =IF(LOOKUP(D$7,'aux 1'!$KN$11:$LG$11,'aux 1'!$KN17:$LG17)="","",LOOKUP(LOOKUP(D$7,'aux 1'!$KN$11:$LG$11,'aux 1'!$KN17:$LG17),'aux 1'!$A$12:$A$231,'aux 1'!$AQ$12:$AQ$231)) | H14: =IF(I14="","","6 - ") | I14: =IF(LOOKUP(G$7,'aux 1'!$KN$11:$LG$11,'aux 1'!$KN17:$LG17)="","",LOOKUP(LOOKUP(G$7,'aux 1'!$KN$11:$LG$11,'aux 1'!$KN17:$LG17),'aux 1'!$A$12:$A$231,'aux 1'!$AQ$12:$AQ$231)) | K14: =IF(L14="","","6 - ") | L14: =IF(LOOKUP(J$7,'aux 1'!$KN$11:$LG$11,'aux 1'!$KN17:$LG17)="","",LOOKUP(LOOKUP(J$7,'aux 1'!$KN$11:$LG$11,'aux 1'!$KN17:$LG17),'aux 1'!$A$12:$A$231,'aux 1'!$AQ$12:$AQ$231))
B15: =IF(C15="","","7 - ") | C15: =IF(LOOKUP(A$7,'aux 1'!$KN$11:$LG$11,'aux 1'!$KN18:$LG18)="","",LOOKUP(LOOKUP(A$7,'aux 1'!$KN$11:$LG$11,'aux 1'!$KN18:$LG18),'aux 1'!$A$12:$A$231,'aux 1'!$AQ$12:$AQ$231)) | E15: =IF(F15="","","7 - ") | F15: =IF(LOOKUP(D$7,'aux 1'!$KN$11:$LG$11,'aux 1'!$KN18:$LG18)="","",LOOKUP(LOOKUP(D$7,'aux 1'!$KN$11:$LG$11,'aux 1'!$KN18:$LG18),'aux 1'!$A$12:$A$231,'aux 1'!$AQ$12:$AQ$231)) | H15: =IF(I15="","","7 - ") | I15: =IF(LOOKUP(G$7,'aux 1'!$KN$11:$LG$11,'aux 1'!$KN18:$LG18)="","",LOOKUP(LOOKUP(G$7,'aux 1'!$KN$11:$LG$11,'aux 1'!$KN18:$LG18),'aux 1'!$A$12:$A$231,'aux 1'!$AQ$12:$AQ$231)) | K15: =IF(L15="","","7 - ") | L15: =IF(LOOKUP(J$7,'aux 1'!$KN$11:$LG$11,'aux 1'!$KN18:$LG18)="","",LOOKUP(LOOKUP(J$7,'aux 1'!$KN$11:$LG$11,'aux 1'!$KN18:$LG18),'aux 1'!$A$12:$A$231,'aux 1'!$AQ$12:$AQ$231))
B16: =IF(C16="","","8 - ") | C16: =IF(LOOKUP(A$7,'aux 1'!$KN$11:$LG$11,'aux 1'!$KN19:$LG19)="","",LOOKUP(LOOKUP(A$7,'aux 1'!$KN$11:$LG$11,'aux 1'!$KN19:$LG19),'aux 1'!$A$12:$A$231,'aux 1'!$AQ$12:$AQ$231)) | E16: =IF(F16="","","8 - ") | F16: =IF(LOOKUP(D$7,'aux 1'!$KN$11:$LG$11,'aux 1'!$KN19:$LG19)="","",LOOKUP(LOOKUP(D$7,'aux 1'!$KN$11:$LG$11,'aux 1'!$KN19:$LG19),'aux 1'!$A$12:$A$231,'aux 1'!$AQ$12:$AQ$231)) | H16: =IF(I16="","","8 - ") | I16: =IF(LOOKUP(G$7,'aux 1'!$KN$11:$LG$11,'aux 1'!$KN19:$LG19)="","",LOOKUP(LOOKUP(G$7,'aux 1'!$KN$11:$LG$11,'aux 1'!$KN19:$LG19),'aux 1'!$A$12:$A$231,'aux 1'!$AQ$12:$AQ$231)) | K16: =IF(L16="","","8 - ") | L16: =IF(LOOKUP(J$7,'aux 1'!$KN$11:$LG$11,'aux 1'!$KN19:$LG19)="","",LOOKUP(LOOKUP(J$7,'aux 1'!$KN$11:$LG$11,'aux 1'!$KN19:$LG19),'aux 1'!$A$12:$A$231,'aux 1'!$AQ$12:$AQ$231))
B17: =IF(C17="","","9 - ") | C17: =IF(LOOKUP(A$7,'aux 1'!$KN$11:$LG$11,'aux 1'!$KN20:$LG20)="","",LOOKUP(LOOKUP(A$7,'aux 1'!$KN$11:$LG$11,'aux 1'!$KN20:$LG20),'aux 1'!$A$12:$A$231,'aux 1'!$AQ$12:$AQ$231)) | E17: =IF(F17="","","9 - ") | F17: =IF(LOOKUP(D$7,'aux 1'!$KN$11:$LG$11,'aux 1'!$KN20:$LG20)="","",LOOKUP(LOOKUP(D$7,'aux 1'!$KN$11:$LG$11,'aux 1'!$KN20:$LG20),'aux 1'!$A$12:$A$231,'aux 1'!$AQ$12:$AQ$231)) | H17: =IF(I17="","","9 - ") | I17: =IF(LOOKUP(G$7,'aux 1'!$KN$11:$LG$11,'aux 1'!$KN20:$LG20)="","",LOOKUP(LOOKUP(G$7,'aux 1'!$KN$11:$LG$11,'aux 1'!$KN20:$LG20),'aux 1'!$A$12:$A$231,'aux 1'!$AQ$12:$AQ$231)) | K17: =IF(L17="","","9 - ") | L17: =IF(LOOKUP(J$7,'aux 1'!$KN$11:$LG$11,'aux 1'!$KN20:$LG20)="","",LOOKUP(LOOKUP(J$7,'aux 1'!$KN$11:$LG$11,'aux 1'!$KN20:$LG20),'aux 1'!$A$12:$A$231,'aux 1'!$AQ$12:$AQ$231))
B18: =IF(C18="","","10 - ") | C18: =IF(LOOKUP(A$7,'aux 1'!$KN$11:$LG$11,'aux 1'!$KN21:$LG21)="","",LOOKUP(LOOKUP(A$7,'aux 1'!$KN$11:$LG$11,'aux 1'!$KN21:$LG21),'aux 1'!$A$12:$A$231,'aux 1'!$AQ$12:$AQ$231)) | E18: =IF(F18="","","10 - ") | F18: =IF(LOOKUP(D$7,'aux 1'!$KN$11:$LG$11,'aux 1'!$KN21:$LG21)="","",LOOKUP(LOOKUP(D$7,'aux 1'!$KN$11:$LG$11,'aux 1'!$KN21:$LG21),'aux 1'!$A$12:$A$231,'aux 1'!$AQ$12:$AQ$231)) | H18: =IF(I18="","","10 - ") | I18: =IF(LOOKUP(G$7,'aux 1'!$KN$11:$LG$11,'aux 1'!$KN21:$LG21)="","",LOOKUP(LOOKUP(G$7,'aux 1'!$KN$11:$LG$11,'aux 1'!$KN21:$LG21),'aux 1'!$A$12:$A$231,'aux 1'!$AQ$12:$AQ$231)) | K18: =IF(L18="","","10 - ") | L18: =IF(LOOKUP(J$7,'aux 1'!$KN$11:$LG$11,'aux 1'!$KN21:$LG21)="","",LOOKUP(LOOKUP(J$7,'aux 1'!$KN$11:$LG$11,'aux 1'!$KN21:$LG21),'aux 1'!$A$12:$A$231,'aux 1'!$AQ$12:$AQ$231))
B19: =IF(C19="","","11 - ") | C19: =IF(LOOKUP(A$7,'aux 1'!$KN$11:$LG$11,'aux 1'!$KN22:$LG22)="","",LOOKUP(LOOKUP(A$7,'aux 1'!$KN$11:$LG$11,'aux 1'!$KN22:$LG22),'aux 1'!$A$12:$A$231,'aux 1'!$AQ$12:$AQ$231)) | E19: =IF(F19="","","11 - ") | F19: =IF(LOOKUP(D$7,'aux 1'!$KN$11:$LG$11,'aux 1'!$KN22:$LG22)="","",LOOKUP(LOOKUP(D$7,'aux 1'!$KN$11:$LG$11,'aux 1'!$KN22:$LG22),'aux 1'!$A$12:$A$231,'aux 1'!$AQ$12:$AQ$231)) | H19: =IF(I19="","","11 - ") | I19: =IF(LOOKUP(G$7,'aux 1'!$KN$11:$LG$11,'aux 1'!$KN22:$LG22)="","",LOOKUP(LOOKUP(G$7,'aux 1'!$KN$11:$LG$11,'aux 1'!$KN22:$LG22),'aux 1'!$A$12:$A$231,'aux 1'!$AQ$12:$AQ$231)) | K19: =IF(L19="","","11 - ") | L19: =IF(LOOKUP(J$7,'aux 1'!$KN$11:$LG$11,'aux 1'!$KN22:$LG22)="","",LOOKUP(LOOKUP(J$7,'aux 1'!$KN$11:$LG$11,'aux 1'!$KN22:$LG22),'aux 1'!$A$12:$A$231,'aux 1'!$AQ$12:$AQ$231))
B20: =IF(C20="","","12 - ") | C20: =IF(LOOKUP(A$7,'aux 1'!$KN$11:$LG$11,'aux 1'!$KN23:$LG23)="","",LOOKUP(LOOKUP(A$7,'aux 1'!$KN$11:$LG$11,'aux 1'!$KN23:$LG23),'aux 1'!$A$12:$A$231,'aux 1'!$AQ$12:$AQ$231)) | E20: =IF(F20="","","12 - ") | F20: =IF(LOOKUP(D$7,'aux 1'!$KN$11:$LG$11,'aux 1'!$KN23:$LG23)="","",LOOKUP(LOOKUP(D$7,'aux 1'!$KN$11:$LG$11,'aux 1'!$KN23:$LG23),'aux 1'!$A$12:$A$231,'aux 1'!$AQ$12:$AQ$231)) | H20: =IF(I20="","","12 - ") | I20: =IF(LOOKUP(G$7,'aux 1'!$KN$11:$LG$11,'aux 1'!$KN23:$LG23)="","",LOOKUP(LOOKUP(G$7,'aux 1'!$KN$11:$LG$11,'aux 1'!$KN23:$LG23),'aux 1'!$A$12:$A$231,'aux 1'!$AQ$12:$AQ$231)) | K20: =IF(L20="","","12 - ") | L20: =IF(LOOKUP(J$7,'aux 1'!$KN$11:$LG$11,'aux 1'!$KN23:$LG23)="","",LOOKUP(LOOKUP(J$7,'aux 1'!$KN$11:$LG$11,'aux 1'!$KN23:$LG23),'aux 1'!$A$12:$A$231,'aux 1'!$AQ$12:$AQ$231))
B21: =IF(C21="","","13 - ") | C21: =IF(LOOKUP(A$7,'aux 1'!$KN$11:$LG$11,'aux 1'!$KN24:$LG24)="","",LOOKUP(LOOKUP(A$7,'aux 1'!$KN$11:$LG$11,'aux 1'!$KN24:$LG24),'aux 1'!$A$12:$A$231,'aux 1'!$AQ$12:$AQ$231)) | E21: =IF(F21="","","13 - ") | F21: =IF(LOOKUP(D$7,'aux 1'!$KN$11:$LG$11,'aux 1'!$KN24:$LG24)="","",LOOKUP(LOOKUP(D$7,'aux 1'!$KN$11:$LG$11,'aux 1'!$KN24:$LG24),'aux 1'!$A$12:$A$231,'aux 1'!$AQ$12:$AQ$231)) | H21: =IF(I21="","","13 - ") | I21: =IF(LOOKUP(G$7,'aux 1'!$KN$11:$LG$11,'aux 1'!$KN24:$LG24)="","",LOOKUP(LOOKUP(G$7,'aux 1'!$KN$11:$LG$11,'aux 1'!$KN24:$LG24),'aux 1'!$A$12:$A$231,'aux 1'!$AQ$12:$AQ$231)) | K21: =IF(L21="","","13 - ") | L21: =IF(LOOKUP(J$7,'aux 1'!$KN$11:$LG$11,'aux 1'!$KN24:$LG24)="","",LOOKUP(LOOKUP(J$7,'aux 1'!$KN$11:$LG$11,'aux 1'!$KN24:$LG24),'aux 1'!$A$12:$A$231,'aux 1'!$AQ$12:$AQ$231))
B22: =IF(C22="","","14 - ") | C22: =IF(LOOKUP(A$7,'aux 1'!$KN$11:$LG$11,'aux 1'!$KN25:$LG25)="","",LOOKUP(LOOKUP(A$7,'aux 1'!$KN$11:$LG$11,'aux 1'!$KN25:$LG25),'aux 1'!$A$12:$A$231,'aux 1'!$AQ$12:$AQ$231)) | E22: =IF(F22="","","14 - ") | F22: =IF(LOOKUP(D$7,'aux 1'!$KN$11:$LG$11,'aux 1'!$KN25:$LG25)="","",LOOKUP(LOOKUP(D$7,'aux 1'!$KN$11:$LG$11,'aux 1'!$KN25:$LG25),'aux 1'!$A$12:$A$231,'aux 1'!$AQ$12:$AQ$231)) | H22: =IF(I22="","","14 - ") | I22: =IF(LOOKUP(G$7,'aux 1'!$KN$11:$LG$11,'aux 1'!$KN25:$LG25)="","",LOOKUP(LOOKUP(G$7,'aux 1'!$KN$11:$LG$11,'aux 1'!$KN25:$LG25),'aux 1'!$A$12:$A$231,'aux 1'!$AQ$12:$AQ$231)) | K22: =IF(L22="","","14 - ") | L22: =IF(LOOKUP(J$7,'aux 1'!$KN$11:$LG$11,'aux 1'!$KN25:$LG25)="","",LOOKUP(LOOKUP(J$7,'aux 1'!$KN$11:$LG$11,'aux 1'!$KN25:$LG25),'aux 1'!$A$12:$A$231,'aux 1'!$AQ$12:$AQ$231))
B23: =IF(C23="","","15 - ") | C23: =IF(LOOKUP(A$7,'aux 1'!$KN$11:$LG$11,'aux 1'!$KN26:$LG26)="","",LOOKUP(LOOKUP(A$7,'aux 1'!$KN$11:$LG$11,'aux 1'!$KN26:$LG26),'aux 1'!$A$12:$A$231,'aux 1'!$AQ$12:$AQ$231)) | E23: =IF(F23="","","15 - ") | F23: =IF(LOOKUP(D$7,'aux 1'!$KN$11:$LG$11,'aux 1'!$KN26:$LG26)="","",LOOKUP(LOOKUP(D$7,'aux 1'!$KN$11:$LG$11,'aux 1'!$KN26:$LG26),'aux 1'!$A$12:$A$231,'aux 1'!$AQ$12:$AQ$231)) | H23: =IF(I23="","","15 - ") | I23: =IF(LOOKUP(G$7,'aux 1'!$KN$11:$LG$11,'aux 1'!$KN26:$LG26)="","",LOOKUP(LOOKUP(G$7,'aux 1'!$KN$11:$LG$11,'aux 1'!$KN26:$LG26),'aux 1'!$A$12:$A$231,'aux 1'!$AQ$12:$AQ$231)) | K23: =IF(L23="","","15 - ") | L23: =IF(LOOKUP(J$7,'aux 1'!$KN$11:$LG$11,'aux 1'!$KN26:$LG26)="","",LOOKUP(LOOKUP(J$7,'aux 1'!$KN$11:$LG$11,'aux 1'!$KN26:$LG26),'aux 1'!$A$12:$A$231,'aux 1'!$AQ$12:$AQ$231))
B24: =IF(C24="","","16 - ") | C24: =IF(LOOKUP(A$7,'aux 1'!$KN$11:$LG$11,'aux 1'!$KN27:$LG27)="","",LOOKUP(LOOKUP(A$7,'aux 1'!$KN$11:$LG$11,'aux 1'!$KN27:$LG27),'aux 1'!$A$12:$A$231,'aux 1'!$AQ$12:$AQ$231)) | E24: =IF(F24="","","16 - ") | F24: =IF(LOOKUP(D$7,'aux 1'!$KN$11:$LG$11,'aux 1'!$KN27:$LG27)="","",LOOKUP(LOOKUP(D$7,'aux 1'!$KN$11:$LG$11,'aux 1'!$KN27:$LG27),'aux 1'!$A$12:$A$231,'aux 1'!$AQ$12:$AQ$231)) | H24: =IF(I24="","","16 - ") | I24: =IF(LOOKUP(G$7,'aux 1'!$KN$11:$LG$11,'aux 1'!$KN27:$LG27)="","",LOOKUP(LOOKUP(G$7,'aux 1'!$KN$11:$LG$11,'aux 1'!$KN27:$LG27),'aux 1'!$A$12:$A$231,'aux 1'!$AQ$12:$AQ$231)) | K24: =IF(L24="","","16 - ") | L24: =IF(LOOKUP(J$7,'aux 1'!$KN$11:$LG$11,'aux 1'!$KN27:$LG27)="","",LOOKUP(LOOKUP(J$7,'aux 1'!$KN$11:$LG$11,'aux 1'!$KN27:$LG27),'aux 1'!$A$12:$A$231,'aux 1'!$AQ$12:$AQ$231))
A26: 2 | C26: =IF(LOOKUP(A26,'aux 7'!$C$22:$C$41,'aux 7'!$D$22:$D$41)="","",LOOKUP(A26,'aux 7'!$C$22:$C$41,'aux 7'!$D$22:$D$41)) -> 2º Período Civil | D26: 4 | F26: =IF(LOOKUP(D26,'aux 7'!$C$22:$C$41,'aux 7'!$D$22:$D$41)="","",LOOKUP(D26,'aux 7'!$C$22:$C$41,'aux 7'!$D$22:$D$41)) -> 4º Período Civil | G26: 6 | I26: =IF(LOOKUP(G26,'aux 7'!$C$22:$C$41,'aux 7'!$D$22:$D$41)="","",LOOKUP(G26,'aux 7'!$C$22:$C$41,'aux 7'!$D$22:$D$41)) -> 6º Período Civil | J26: 8 | L26: =IF(LOOKUP(J26,'aux 7'!$C$22:$C$41,'aux 7'!$D$22:$D$41)="","",LOOKUP(J26,'aux 7'!$C$22:$C$41,'aux 7'!$D$22:$D$41)) -> 8º Período Civil
B28: =IF(C28="","","1 - ") -> 1 - | C28: =IF(LOOKUP(A$26,'aux 1'!$KN$11:$LG$11,'aux 1'!$KN12:$LG12)="","",LOOKUP(LOOKUP(A$26,'aux 1'!$KN$11:$LG$11,'aux 1'!$KN12:$LG12),'aux 1'!$A$12:$A$231,'aux 1'!$AQ$12:$AQ$231)) -> Física Geral I | E28: =IF(F28="","","1 - ") -> 1 - | F28: =IF(LOOKUP(D$26,'aux 1'!$KN$11:$LG$11,'aux 1'!$KN12:$LG12)="","",LOOKUP(LOOKUP(D$26,'aux 1'!$KN$11:$LG$11,'aux 1'!$KN12:$LG12),'aux 1'!$A$12:$A$231,'aux 1'!$AQ$12:$AQ$231)) -> Materiais de Construção II | H28: =IF(I28="","","1 - ") -> 1 - | I28: =IF(LOOKUP(G$26,'aux 1'!$KN$11:$LG$11,'aux 1'!$KN12:$LG12)="","",LOOKUP(LOOKUP(G$26,'aux 1'!$KN$11:$LG$11,'aux 1'!$KN12:$LG12),'aux 1'!$A$12:$A$231,'aux 1'!$AQ$12:$AQ$231)) -> Saneamento e Engenharia Ambiental | K28: =IF(L28="","","1 - ") -> 1 - | L28: =IF(LOOKUP(J$26,'aux 1'!$KN$11:$LG$11,'aux 1'!$KN12:$LG12)="","",LOOKUP(LOOKUP(J$26,'aux 1'!$KN$11:$LG$11,'aux 1'!$KN12:$LG12),'aux 1'!$A$12:$A$231,'aux 1'!$AQ$12:$AQ$231)) -> Obras Geotécnicas
B29: =IF(C29="","","2 - ") -> 2 - | C29: =IF(LOOKUP(A$26,'aux 1'!$KN$11:$LG$11,'aux 1'!$KN13:$LG13)="","",LOOKUP(LOOKUP(A$26,'aux 1'!$KN$11:$LG$11,'aux 1'!$KN13:$LG13),'aux 1'!$A$12:$A$231,'aux 1'!$AQ$12:$AQ$231)) -> Laboratório de Física Geral I | E29: =IF(F29="","","2 - ") -> 2 - | F29: =IF(LOOKUP(D$26,'aux 1'!$KN$11:$LG$11,'aux 1'!$KN13:$LG13)="","",LOOKUP(LOOKUP(D$26,'aux 1'!$KN$11:$LG$11,'aux 1'!$KN13:$LG13),'aux 1'!$A$12:$A$231,'aux 1'!$AQ$12:$AQ$231)) -> Geologia Geral | H29: =IF(I29="","","2 - ") -> 2 - | I29: =IF(LOOKUP(G$26,'aux 1'!$KN$11:$LG$11,'aux 1'!$KN13:$LG13)="","",LOOKUP(LOOKUP(G$26,'aux 1'!$KN$11:$LG$11,'aux 1'!$KN13:$LG13),'aux 1'!$A$12:$A$231,'aux 1'!$AQ$12:$AQ$231)) -> Concreto Armado I | K29: =IF(L29="","","2 - ") -> 2 - | L29: =IF(LOOKUP(J$26,'aux 1'!$KN$11:$LG$11,'aux 1'!$KN13:$LG13)="","",LOOKUP(LOOKUP(J$26,'aux 1'!$KN$11:$LG$11,'aux 1'!$KN13:$LG13),'aux 1'!$A$12:$A$231,'aux 1'!$AQ$12:$AQ$231)) -> Estágio Supervisionado
B30: =IF(C30="","","3 - ") -> 3 - | C30: =IF(LOOKUP(A$26,'aux 1'!$KN$11:$LG$11,'aux 1'!$KN14:$LG14)="","",LOOKUP(LOOKUP(A$26,'aux 1'!$KN$11:$LG$11,'aux 1'!$KN14:$LG14),'aux 1'!$A$12:$A$231,'aux 1'!$AQ$12:$AQ$231)) -> Cálculo Diferencial e Integral II | E30: =IF(F30="","","3 - ") -> 3 - | F30: =IF(LOOKUP(D$26,'aux 1'!$KN$11:$LG$11,'aux 1'!$KN14:$LG14)="","",LOOKUP(LOOKUP(D$26,'aux 1'!$KN$11:$LG$11,'aux 1'!$KN14:$LG14),'aux 1'!$A$12:$A$231,'aux 1'!$AQ$12:$AQ$231)) -> Resistência dos Materiais | H30: =IF(I30="","","3 - ") -> 3 - | I30: =IF(LOOKUP(G$26,'aux 1'!$KN$11:$LG$11,'aux 1'!$KN14:$LG14)="","",LOOKUP(LOOKUP(G$26,'aux 1'!$KN$11:$LG$11,'aux 1'!$KN14:$LG14),'aux 1'!$A$12:$A$231,'aux 1'!$AQ$12:$AQ$231)) -> Construção Civil | K30: =IF(L30="","","3 - ") -> 3 - | L30: =IF(LOOKUP(J$26,'aux 1'!$KN$11:$LG$11,'aux 1'!$KN14:$LG14)="","",LOOKUP(LOOKUP(J$26,'aux 1'!$KN$11:$LG$11,'aux 1'!$KN14:$LG14),'aux 1'!$A$12:$A$231,'aux 1'!$AQ$12:$AQ$231)) -> Seminários de Engenharia
B31: =IF(C31="","","4 - ") -> 4 - | C31: =IF(LOOKUP(A$26,'aux 1'!$KN$11:$LG$11,'aux 1'!$KN15:$LG15)="","",LOOKUP(LOOKUP(A$26,'aux 1'!$KN$11:$LG$11,'aux 1'!$KN15:$LG15),'aux 1'!$A$12:$A$231,'aux 1'!$AQ$12:$AQ$231)) -> Álgebra Linear | E31: =IF(F31="","","4 - ") -> 4 - | F31: =IF(LOOKUP(D$26,'aux 1'!$KN$11:$LG$11,'aux 1'!$KN15:$LG15)="","",LOOKUP(LOOKUP(D$26,'aux 1'!$KN$11:$LG$11,'aux 1'!$KN15:$LG15),'aux 1'!$A$12:$A$231,'aux 1'!$AQ$12:$AQ$231)) -> Fenômenos de Transporte | H31: =IF(I31="","","4 - ") -> 4 - | I31: =IF(LOOKUP(G$26,'aux 1'!$KN$11:$LG$11,'aux 1'!$KN15:$LG15)="","",LOOKUP(LOOKUP(G$26,'aux 1'!$KN$11:$LG$11,'aux 1'!$KN15:$LG15),'aux 1'!$A$12:$A$231,'aux 1'!$AQ$12:$AQ$231)) -> Análise Estrutural III | K31: =IF(L31="","","4 - ") -> 4 - | L31: =IF(LOOKUP(J$26,'aux 1'!$KN$11:$LG$11,'aux 1'!$KN15:$LG15)="","",LOOKUP(LOOKUP(J$26,'aux 1'!$KN$11:$LG$11,'aux 1'!$KN15:$LG15),'aux 1'!$A$12:$A$231,'aux 1'!$AQ$12:$AQ$231)) -> Projeto Final
B32: =IF(C32="","","5 - ") -> 5 - | C32: =IF(LOOKUP(A$26,'aux 1'!$KN$11:$LG$11,'aux 1'!$KN16:$LG16)="","",LOOKUP(LOOKUP(A$26,'aux 1'!$KN$11:$LG$11,'aux 1'!$KN16:$LG16),'aux 1'!$A$12:$A$231,'aux 1'!$AQ$12:$AQ$231)) -> Química Geral II | E32: =IF(F32="","","5 - ") -> 5 - | F32: =IF(LOOKUP(D$26,'aux 1'!$KN$11:$LG$11,'aux 1'!$KN16:$LG16)="","",LOOKUP(LOOKUP(D$26,'aux 1'!$KN$11:$LG$11,'aux 1'!$KN16:$LG16),'aux 1'!$A$12:$A$231,'aux 1'!$AQ$12:$AQ$231)) -> Física Geral III | H32: =IF(I32="","","5 - ") -> 5 - | I32: =IF(LOOKUP(G$26,'aux 1'!$KN$11:$LG$11,'aux 1'!$KN16:$LG16)="","",LOOKUP(LOOKUP(G$26,'aux 1'!$KN$11:$LG$11,'aux 1'!$KN16:$LG16),'aux 1'!$A$12:$A$231,'aux 1'!$AQ$12:$AQ$231)) -> Mecânica dos Solos II | K32: =IF(L32="","","5 - ") -> 5 - | L32: =IF(LOOKUP(J$26,'aux 1'!$KN$11:$LG$11,'aux 1'!$KN16:$LG16)="","",LOOKUP(LOOKUP(J$26,'aux 1'!$KN$11:$LG$11,'aux 1'!$KN16:$LG16),'aux 1'!$A$12:$A$231,'aux 1'!$AQ$12:$AQ$231)) -> Atividades Acadêmicas Científicas e Culturais - AACC II
B33: =IF(C33="","","6 - ") -> 6 - | C33: =IF(LOOKUP(A$26,'aux 1'!$KN$11:$LG$11,'aux 1'!$KN17:$LG17)="","",LOOKUP(LOOKUP(A$26,'aux 1'!$KN$11:$LG$11,'aux 1'!$KN17:$LG17),'aux 1'!$A$12:$A$231,'aux 1'!$AQ$12:$AQ$231)) -> Português Instrumental II | E33: =IF(F33="","","6 - ") -> 6 - | F33: =IF(LOOKUP(D$26,'aux 1'!$KN$11:$LG$11,'aux 1'!$KN17:$LG17)="","",LOOKUP(LOOKUP(D$26,'aux 1'!$KN$11:$LG$11,'aux 1'!$KN17:$LG17),'aux 1'!$A$12:$A$231,'aux 1'!$AQ$12:$AQ$231)) -> Laboratório de Física Geral III | H33: =IF(I33="","","6 - ") -> 6 - | I33: =IF(LOOKUP(G$26,'aux 1'!$KN$11:$LG$11,'aux 1'!$KN17:$LG17)="","",LOOKUP(LOOKUP(G$26,'aux 1'!$KN$11:$LG$11,'aux 1'!$KN17:$LG17),'aux 1'!$A$12:$A$231,'aux 1'!$AQ$12:$AQ$231)) -> Estradas e Pavimentação | K33: =IF(L33="","","6 - ") -> 6 - | L33: =IF(LOOKUP(J$26,'aux 1'!$KN$11:$LG$11,'aux 1'!$KN17:$LG17)="","",LOOKUP(LOOKUP(J$26,'aux 1'!$KN$11:$LG$11,'aux 1'!$KN17:$LG17),'aux 1'!$A$12:$A$231,'aux 1'!$AQ$12:$AQ$231)) -> Higiene e Segurança do Trabalho
B34: =IF(C34="","","7 - ") -> 7 - | C34: =IF(LOOKUP(A$26,'aux 1'!$KN$11:$LG$11,'aux 1'!$KN18:$LG18)="","",LOOKUP(LOOKUP(A$26,'aux 1'!$KN$11:$LG$11,'aux 1'!$KN18:$LG18),'aux 1'!$A$12:$A$231,'aux 1'!$AQ$12:$AQ$231)) -> Introdução à Probabilidade e Estatística | E34: =IF(F34="","","7 - ") -> 7 - | F34: =IF(LOOKUP(D$26,'aux 1'!$KN$11:$LG$11,'aux 1'!$KN18:$LG18)="","",LOOKUP(LOOKUP(D$26,'aux 1'!$KN$11:$LG$11,'aux 1'!$KN18:$LG18),'aux 1'!$A$12:$A$231,'aux 1'!$AQ$12:$AQ$231)) -> Cálculo Numérico | H34: =IF(I34="","","7 - ") | I34: =IF(LOOKUP(G$26,'aux 1'!$KN$11:$LG$11,'aux 1'!$KN18:$LG18)="","",LOOKUP(LOOKUP(G$26,'aux 1'!$KN$11:$LG$11,'aux 1'!$KN18:$LG18),'aux 1'!$A$12:$A$231,'aux 1'!$AQ$12:$AQ$231)) | K34: =IF(L34="","","7 - ") -> 7 - | L34: =IF(LOOKUP(J$26,'aux 1'!$KN$11:$LG$11,'aux 1'!$KN18:$LG18)="","",LOOKUP(LOOKUP(J$26,'aux 1'!$KN$11:$LG$11,'aux 1'!$KN18:$LG18),'aux 1'!$A$12:$A$231,'aux 1'!$AQ$12:$AQ$231)) -> Sistemas de Transportes
B35: =IF(C35="","","8 - ") | C35: =IF(LOOKUP(A$26,'aux 1'!$KN$11:$LG$11,'aux 1'!$KN19:$LG19)="","",LOOKUP(LOOKUP(A$26,'aux 1'!$KN$11:$LG$11,'aux 1'!$KN19:$LG19),'aux 1'!$A$12:$A$231,'aux 1'!$AQ$12:$AQ$231)) | E35: =IF(F35="","","8 - ") | F35: =IF(LOOKUP(D$26,'aux 1'!$KN$11:$LG$11,'aux 1'!$KN19:$LG19)="","",LOOKUP(LOOKUP(D$26,'aux 1'!$KN$11:$LG$11,'aux 1'!$KN19:$LG19),'aux 1'!$A$12:$A$231,'aux 1'!$AQ$12:$AQ$231)) | H35: =IF(I35="","","8 - ") | I35: =IF(LOOKUP(G$26,'aux 1'!$KN$11:$LG$11,'aux 1'!$KN19:$LG19)="","",LOOKUP(LOOKUP(G$26,'aux 1'!$KN$11:$LG$11,'aux 1'!$KN19:$LG19),'aux 1'!$A$12:$A$231,'aux 1'!$AQ$12:$AQ$231)) | K35: =IF(L35="","","8 - ") | L35: =IF(LOOKUP(J$26,'aux 1'!$KN$11:$LG$11,'aux 1'!$KN19:$LG19)="","",LOOKUP(LOOKUP(J$26,'aux 1'!$KN$11:$LG$11,'aux 1'!$KN19:$LG19),'aux 1'!$A$12:$A$231,'aux 1'!$AQ$12:$AQ$231))
B36: =IF(C36="","","9 - ") | C36: =IF(LOOKUP(A$26,'aux 1'!$KN$11:$LG$11,'aux 1'!$KN20:$LG20)="","",LOOKUP(LOOKUP(A$26,'aux 1'!$KN$11:$LG$11,'aux 1'!$KN20:$LG20),'aux 1'!$A$12:$A$231,'aux 1'!$AQ$12:$AQ$231)) | E36: =IF(F36="","","9 - ") | F36: =IF(LOOKUP(D$26,'aux 1'!$KN$11:$LG$11,'aux 1'!$KN20:$LG20)="","",LOOKUP(LOOKUP(D$26,'aux 1'!$KN$11:$LG$11,'aux 1'!$KN20:$LG20),'aux 1'!$A$12:$A$231,'aux 1'!$AQ$12:$AQ$231)) | H36: =IF(I36="","","9 - ") | I36: =IF(LOOKUP(G$26,'aux 1'!$KN$11:$LG$11,'aux 1'!$KN20:$LG20)="","",LOOKUP(LOOKUP(G$26,'aux 1'!$KN$11:$LG$11,'aux 1'!$KN20:$LG20),'aux 1'!$A$12:$A$231,'aux 1'!$AQ$12:$AQ$231)) | K36: =IF(L36="","","9 - ") | L36: =IF(LOOKUP(J$26,'aux 1'!$KN$11:$LG$11,'aux 1'!$KN20:$LG20)="","",LOOKUP(LOOKUP(J$26,'aux 1'!$KN$11:$LG$11,'aux 1'!$KN20:$LG20),'aux 1'!$A$12:$A$231,'aux 1'!$AQ$12:$AQ$231))
B37: =IF(C37="","","10 - ") | C37: =IF(LOOKUP(A$26,'aux 1'!$KN$11:$LG$11,'aux 1'!$KN21:$LG21)="","",LOOKUP(LOOKUP(A$26,'aux 1'!$KN$11:$LG$11,'aux 1'!$KN21:$LG21),'aux 1'!$A$12:$A$231,'aux 1'!$AQ$12:$AQ$231)) | E37: =IF(F37="","","10 - ") | F37: =IF(LOOKUP(D$26,'aux 1'!$KN$11:$LG$11,'aux 1'!$KN21:$LG21)="","",LOOKUP(LOOKUP(D$26,'aux 1'!$KN$11:$LG$11,'aux 1'!$KN21:$LG21),'aux 1'!$A$12:$A$231,'aux 1'!$AQ$12:$AQ$231)) | H37: =IF(I37="","","10 - ") | I37: =IF(LOOKUP(G$26,'aux 1'!$KN$11:$LG$11,'aux 1'!$KN21:$LG21)="","",LOOKUP(LOOKUP(G$26,'aux 1'!$KN$11:$LG$11,'aux 1'!$KN21:$LG21),'aux 1'!$A$12:$A$231,'aux 1'!$AQ$12:$AQ$231)) | K37: =IF(L37="","","10 - ") | L37: =IF(LOOKUP(J$26,'aux 1'!$KN$11:$LG$11,'aux 1'!$KN21:$LG21)="","",LOOKUP(LOOKUP(J$26,'aux 1'!$KN$11:$LG$11,'aux 1'!$KN21:$LG21),'aux 1'!$A$12:$A$231,'aux 1'!$AQ$12:$AQ$231))
B38: =IF(C38="","","11 - ") | C38: =IF(LOOKUP(A$26,'aux 1'!$KN$11:$LG$11,'aux 1'!$KN22:$LG22)="","",LOOKUP(LOOKUP(A$26,'aux 1'!$KN$11:$LG$11,'aux 1'!$KN22:$LG22),'aux 1'!$A$12:$A$231,'aux 1'!$AQ$12:$AQ$231)) | E38: =IF(F38="","","11 - ") | F38: =IF(LOOKUP(D$26,'aux 1'!$KN$11:$LG$11,'aux 1'!$KN22:$LG22)="","",LOOKUP(LOOKUP(D$26,'aux 1'!$KN$11:$LG$11,'aux 1'!$KN22:$LG22),'aux 1'!$A$12:$A$231,'aux 1'!$AQ$12:$AQ$231)) | H38: =IF(I38="","","11 - ") | I38: =IF(LOOKUP(G$26,'aux 1'!$KN$11:$LG$11,'aux 1'!$KN22:$LG22)="","",LOOKUP(LOOKUP(G$26,'aux 1'!$KN$11:$LG$11,'aux 1'!$KN22:$LG22),'aux 1'!$A$12:$A$231,'aux 1'!$AQ$12:$AQ$231)) | K38: =IF(L38="","","11 - ") | L38: =IF(LOOKUP(J$26,'aux 1'!$KN$11:$LG$11,'aux 1'!$KN22:$LG22)="","",LOOKUP(LOOKUP(J$26,'aux 1'!$KN$11:$LG$11,'aux 1'!$KN22:$LG22),'aux 1'!$A$12:$A$231,'aux 1'!$AQ$12:$AQ$231))
B39: =IF(C39="","","12 - ") | C39: =IF(LOOKUP(A$26,'aux 1'!$KN$11:$LG$11,'aux 1'!$KN23:$LG23)="","",LOOKUP(LOOKUP(A$26,'aux 1'!$KN$11:$LG$11,'aux 1'!$KN23:$LG23),'aux 1'!$A$12:$A$231,'aux 1'!$AQ$12:$AQ$231)) | E39: =IF(F39="","","12 - ") | F39: =IF(LOOKUP(D$26,'aux 1'!$KN$11:$LG$11,'aux 1'!$KN23:$LG23)="","",LOOKUP(LOOKUP(D$26,'aux 1'!$KN$11:$LG$11,'aux 1'!$KN23:$LG23),'aux 1'!$A$12:$A$231,'aux 1'!$AQ$12:$AQ$231)) | H39: =IF(I39="","","12 - ") | I39: =IF(LOOKUP(G$26,'aux 1'!$KN$11:$LG$11,'aux 1'!$KN23:$LG23)="","",LOOKUP(LOOKUP(G$26,'aux 1'!$KN$11:$LG$11,'aux 1'!$KN23:$LG23),'aux 1'!$A$12:$A$231,'aux 1'!$AQ$12:$AQ$231)) | K39: =IF(L39="","","12 - ") | L39: =IF(LOOKUP(J$26,'aux 1'!$KN$11:$LG$11,'aux 1'!$KN23:$LG23)="","",LOOKUP(LOOKUP(J$26,'aux 1'!$KN$11:$LG$11,'aux 1'!$KN23:$LG23),'aux 1'!$A$12:$A$231,'aux 1'!$AQ$12:$AQ$231))
B40: =IF(C40="","","13 - ") | C40: =IF(LOOKUP(A$26,'aux 1'!$KN$11:$LG$11,'aux 1'!$KN24:$LG24)="","",LOOKUP(LOOKUP(A$26,'aux 1'!$KN$11:$LG$11,'aux 1'!$KN24:$LG24),'aux 1'!$A$12:$A$231,'aux 1'!$AQ$12:$AQ$231)) | E40: =IF(F40="","","13 - ") | F40: =IF(LOOKUP(D$26,'aux 1'!$KN$11:$LG$11,'aux 1'!$KN24:$LG24)="","",LOOKUP(LOOKUP(D$26,'aux 1'!$KN$11:$LG$11,'aux 1'!$KN24:$LG24),'aux 1'!$A$12:$A$231,'aux 1'!$AQ$12:$AQ$231)) | H40: =IF(I40="","","13 - ") | I40: =IF(LOOKUP(G$26,'aux 1'!$KN$11:$LG$11,'aux 1'!$KN24:$LG24)="","",LOOKUP(LOOKUP(G$26,'aux 1'!$KN$11:$LG$11,'aux 1'!$KN24:$LG24),'aux 1'!$A$12:$A$231,'aux 1'!$AQ$12:$AQ$231)) | K40: =IF(L40="","","13 - ") | L40: =IF(LOOKUP(J$26,'aux 1'!$KN$11:$LG$11,'aux 1'!$KN24:$LG24)="","",LOOKUP(LOOKUP(J$26,'aux 1'!$KN$11:$LG$11,'aux 1'!$KN24:$LG24),'aux 1'!$A$12:$A$231,'aux 1'!$AQ$12:$AQ$231))
B41: =IF(C41="","","14 - ") | C41: =IF(LOOKUP(A$26,'aux 1'!$KN$11:$LG$11,'aux 1'!$KN25:$LG25)="","",LOOKUP(LOOKUP(A$26,'aux 1'!$KN$11:$LG$11,'aux 1'!$KN25:$LG25),'aux 1'!$A$12:$A$231,'aux 1'!$AQ$12:$AQ$231)) | E41: =IF(F41="","","14 - ") | F41: =IF(LOOKUP(D$26,'aux 1'!$KN$11:$LG$11,'aux 1'!$KN25:$LG25)="","",LOOKUP(LOOKUP(D$26,'aux 1'!$KN$11:$LG$11,'aux 1'!$KN25:$LG25),'aux 1'!$A$12:$A$231,'aux 1'!$AQ$12:$AQ$231)) | H41: =IF(I41="","","14 - ") | I41: =IF(LOOKUP(G$26,'aux 1'!$KN$11:$LG$11,'aux 1'!$KN25:$LG25)="","",LOOKUP(LOOKUP(G$26,'aux 1'!$KN$11:$LG$11,'aux 1'!$KN25:$LG25),'aux 1'!$A$12:$A$231,'aux 1'!$AQ$12:$AQ$231)) | K41: =IF(L41="","","14 - ") | L41: =IF(LOOKUP(J$26,'aux 1'!$KN$11:$LG$11,'aux 1'!$KN25:$LG25)="","",LOOKUP(LOOKUP(J$26,'aux 1'!$KN$11:$LG$11,'aux 1'!$KN25:$LG25),'aux 1'!$A$12:$A$231,'aux 1'!$AQ$12:$AQ$231))
B42: =IF(C42="","","15 - ") | C42: =IF(LOOKUP(A$26,'aux 1'!$KN$11:$LG$11,'aux 1'!$KN26:$LG26)="","",LOOKUP(LOOKUP(A$26,'aux 1'!$KN$11:$LG$11,'aux 1'!$KN26:$LG26),'aux 1'!$A$12:$A$231,'aux 1'!$AQ$12:$AQ$231)) | E42: =IF(F42="","","15 - ") | F42: =IF(LOOKUP(D$26,'aux 1'!$KN$11:$LG$11,'aux 1'!$KN26:$LG26)="","",LOOKUP(LOOKUP(D$26,'aux 1'!$KN$11:$LG$11,'aux 1'!$KN26:$LG26),'aux 1'!$A$12:$A$231,'aux 1'!$AQ$12:$AQ$231)) | H42: =IF(I42="","","15 - ") | I42: =IF(LOOKUP(G$26,'aux 1'!$KN$11:$LG$11,'aux 1'!$KN26:$LG26)="","",LOOKUP(LOOKUP(G$26,'aux 1'!$KN$11:$LG$11,'aux 1'!$KN26:$LG26),'aux 1'!$A$12:$A$231,'aux 1'!$AQ$12:$AQ$231)) | K42: =IF(L42="","","15 - ") | L42: =IF(LOOKUP(J$26,'aux 1'!$KN$11:$LG$11,'aux 1'!$KN26:$LG26)="","",LOOKUP(LOOKUP(J$26,'aux 1'!$KN$11:$LG$11,'aux 1'!$KN26:$LG26),'aux 1'!$A$12:$A$231,'aux 1'!$AQ$12:$AQ$231))
B43: =IF(C43="","","16 - ") | C43: =IF(LOOKUP(A$26,'aux 1'!$KN$11:$LG$11,'aux 1'!$KN27:$LG27)="","",LOOKUP(LOOKUP(A$26,'aux 1'!$KN$11:$LG$11,'aux 1'!$KN27:$LG27),'aux 1'!$A$12:$A$231,'aux 1'!$AQ$12:$AQ$231)) | E43: =IF(F43="","","16 - ") | F43: =IF(LOOKUP(D$26,'aux 1'!$KN$11:$LG$11,'aux 1'!$KN27:$LG27)="","",LOOKUP(LOOKUP(D$26,'aux 1'!$KN$11:$LG$11,'aux 1'!$KN27:$LG27),'aux 1'!$A$12:$A$231,'aux 1'!$AQ$12:$AQ$231)) | H43: =IF(I43="","","16 - ") | I43: =IF(LOOKUP(G$26,'aux 1'!$KN$11:$LG$11,'aux 1'!$KN27:$LG27)="","",LOOKUP(LOOKUP(G$26,'aux 1'!$KN$11:$LG$11,'aux 1'!$KN27:$LG27),'aux 1'!$A$12:$A$231,'aux 1'!$AQ$12:$AQ$231)) | K43: =IF(L43="","","16 - ") | L43: =IF(LOOKUP(J$26,'aux 1'!$KN$11:$LG$11,'aux 1'!$KN27:$LG27)="","",LOOKUP(LOOKUP(J$26,'aux 1'!$KN$11:$LG$11,'aux 1'!$KN27:$LG27),'aux 1'!$A$12:$A$231,'aux 1'!$AQ$12:$AQ$231))
A45: 11 | C45: =IF(LOOKUP(A45,'aux 7'!$C$22:$C$41,'aux 7'!$D$22:$D$41)="","",LOOKUP(A45,'aux 7'!$C$22:$C$41,'aux 7'!$D$22:$D$41)) -> Opt. Tecnológicas - LECIV | D45: 12 | F45: =IF(LOOKUP(D45,'aux 7'!$C$22:$C$41,'aux 7'!$D$22:$D$41)="","",LOOKUP(D45,'aux 7'!$C$22:$C$41,'aux 7'!$D$22:$D$41)) -> Opt. Tecnológicas - LEPROD | G45: 13 | I45: =IF(LOOKUP(G45,'aux 7'!$C$22:$C$41,'aux 7'!$D$22:$D$41)="","",LOOKUP(G45,'aux 7'!$C$22:$C$41,'aux 7'!$D$22:$D$41)) -> Opt. Tecnológicas - CCT | J45: 14 | L45: =IF(LOOKUP(J45,'aux 7'!$C$22:$C$41,'aux 7'!$D$22:$D$41)="","",LOOKUP(J45,'aux 7'!$C$22:$C$41,'aux 7'!$D$22:$D$41)) -> Opt. Humanas - LECIV
B47: =IF(C47="","","1 - ") -> 1 - | C47: =IF(LOOKUP(A$45,'aux 1'!$KN$11:$LG$11,'aux 1'!$KN12:$LG12)="","",LOOKUP(LOOKUP(A$45,'aux 1'!$KN$11:$LG$11,'aux 1'!$KN12:$LG12),'aux 1'!$A$12:$A$231,'aux 1'!$AQ$12:$AQ$231)) -> Geotecnia de Barragens Terra e Enrocamento | E47: =IF(F47="","","1 - ") -> 1 - | F47: =IF(LOOKUP(D$45,'aux 1'!$KN$11:$LG$11,'aux 1'!$KN12:$LG12)="","",LOOKUP(LOOKUP(D$45,'aux 1'!$KN$11:$LG$11,'aux 1'!$KN12:$LG12),'aux 1'!$A$12:$A$231,'aux 1'!$AQ$12:$AQ$231)) -> Empreendedorismo | H47: =IF(I47="","","1 - ") | I47: =IF(LOOKUP(G$45,'aux 1'!$KN$11:$LG$11,'aux 1'!$KN12:$LG12)="","",LOOKUP(LOOKUP(G$45,'aux 1'!$KN$11:$LG$11,'aux 1'!$KN12:$LG12),'aux 1'!$A$12:$A$231,'aux 1'!$AQ$12:$AQ$231)) | K47: =IF(L47="","","1 - ") | L47: =IF(LOOKUP(J$45,'aux 1'!$KN$11:$LG$11,'aux 1'!$KN12:$LG12)="","",LOOKUP(LOOKUP(J$45,'aux 1'!$KN$11:$LG$11,'aux 1'!$KN12:$LG12),'aux 1'!$A$12:$A$231,'aux 1'!$AQ$12:$AQ$231))
B48: =IF(C48="","","2 - ") -> 2 - | C48: =IF(LOOKUP(A$45,'aux 1'!$KN$11:$LG$11,'aux 1'!$KN13:$LG13)="","",LOOKUP(LOOKUP(A$45,'aux 1'!$KN$11:$LG$11,'aux 1'!$KN13:$LG13),'aux 1'!$A$12:$A$231,'aux 1'!$AQ$12:$AQ$231)) -> Materiais Compósitos | E48: =IF(F48="","","2 - ") | F48: =IF(LOOKUP(D$45,'aux 1'!$KN$11:$LG$11,'aux 1'!$KN13:$LG13)="","",LOOKUP(LOOKUP(D$45,'aux 1'!$KN$11:$LG$11,'aux 1'!$KN13:$LG13),'aux 1'!$A$12:$A$231,'aux 1'!$AQ$12:$AQ$231)) | H48: =IF(I48="","","2 - ") | I48: =IF(LOOKUP(G$45,'aux 1'!$KN$11:$LG$11,'aux 1'!$KN13:$LG13)="","",LOOKUP(LOOKUP(G$45,'aux 1'!$KN$11:$LG$11,'aux 1'!$KN13:$LG13),'aux 1'!$A$12:$A$231,'aux 1'!$AQ$12:$AQ$231)) | K48: =IF(L48="","","2 - ") | L48: =IF(LOOKUP(J$45,'aux 1'!$KN$11:$LG$11,'aux 1'!$KN13:$LG13)="","",LOOKUP(LOOKUP(J$45,'aux 1'!$KN$11:$LG$11,'aux 1'!$KN13:$LG13),'aux 1'!$A$12:$A$231,'aux 1'!$AQ$12:$AQ$231))
B49: =IF(C49="","","3 - ") -> 3 - | C49: =IF(LOOKUP(A$45,'aux 1'!$KN$11:$LG$11,'aux 1'!$KN14:$LG14)="","",LOOKUP(LOOKUP(A$45,'aux 1'!$KN$11:$LG$11,'aux 1'!$KN14:$LG14),'aux 1'!$A$12:$A$231,'aux 1'!$AQ$12:$AQ$231)) -> Análise Matricial de Estruturas | E49: =IF(F49="","","3 - ") | F49: =IF(LOOKUP(D$45,'aux 1'!$KN$11:$LG$11,'aux 1'!$KN14:$LG14)="","",LOOKUP(LOOKUP(D$45,'aux 1'!$KN$11:$LG$11,'aux 1'!$KN14:$LG14),'aux 1'!$A$12:$A$231,'aux 1'!$AQ$12:$AQ$231)) | H49: =IF(I49="","","3 - ") | I49: =IF(LOOKUP(G$45,'aux 1'!$KN$11:$LG$11,'aux 1'!$KN14:$LG14)="","",LOOKUP(LOOKUP(G$45,'aux 1'!$KN$11:$LG$11,'aux 1'!$KN14:$LG14),'aux 1'!$A$12:$A$231,'aux 1'!$AQ$12:$AQ$231)) | K49: =IF(L49="","","3 - ") | L49: =IF(LOOKUP(J$45,'aux 1'!$KN$11:$LG$11,'aux 1'!$KN14:$LG14)="","",LOOKUP(LOOKUP(J$45,'aux 1'!$KN$11:$LG$11,'aux 1'!$KN14:$LG14),'aux 1'!$A$12:$A$231,'aux 1'!$AQ$12:$AQ$231))
B50: =IF(C50="","","4 - ") -> 4 - | C50: =IF(LOOKUP(A$45,'aux 1'!$KN$11:$LG$11,'aux 1'!$KN15:$LG15)="","",LOOKUP(LOOKUP(A$45,'aux 1'!$KN$11:$LG$11,'aux 1'!$KN15:$LG15),'aux 1'!$A$12:$A$231,'aux 1'!$AQ$12:$AQ$231)) -> Estruturas de Fundação | E50: =IF(F50="","","4 - ") | F50: =IF(LOOKUP(D$45,'aux 1'!$KN$11:$LG$11,'aux 1'!$KN15:$LG15)="","",LOOKUP(LOOKUP(D$45,'aux 1'!$KN$11:$LG$11,'aux 1'!$KN15:$LG15),'aux 1'!$A$12:$A$231,'aux 1'!$AQ$12:$AQ$231)) | H50: =IF(I50="","","4 - ") | I50: =IF(LOOKUP(G$45,'aux 1'!$KN$11:$LG$11,'aux 1'!$KN15:$LG15)="","",LOOKUP(LOOKUP(G$45,'aux 1'!$KN$11:$LG$11,'aux 1'!$KN15:$LG15),'aux 1'!$A$12:$A$231,'aux 1'!$AQ$12:$AQ$231)) | K50: =IF(L50="","","4 - ") | L50: =IF(LOOKUP(J$45,'aux 1'!$KN$11:$LG$11,'aux 1'!$KN15:$LG15)="","",LOOKUP(LOOKUP(J$45,'aux 1'!$KN$11:$LG$11,'aux 1'!$KN15:$LG15),'aux 1'!$A$12:$A$231,'aux 1'!$AQ$12:$AQ$231))
B51: =IF(C51="","","5 - ") -> 5 - | C51: =IF(LOOKUP(A$45,'aux 1'!$KN$11:$LG$11,'aux 1'!$KN16:$LG16)="","",LOOKUP(LOOKUP(A$45,'aux 1'!$KN$11:$LG$11,'aux 1'!$KN16:$LG16),'aux 1'!$A$12:$A$231,'aux 1'!$AQ$12:$AQ$231)) -> Geossintéticos I | E51: =IF(F51="","","5 - ") | F51: =IF(LOOKUP(D$45,'aux 1'!$KN$11:$LG$11,'aux 1'!$KN16:$LG16)="","",LOOKUP(LOOKUP(D$45,'aux 1'!$KN$11:$LG$11,'aux 1'!$KN16:$LG16),'aux 1'!$A$12:$A$231,'aux 1'!$AQ$12:$AQ$231)) | H51: =IF(I51="","","5 - ") | I51: =IF(LOOKUP(G$45,'aux 1'!$KN$11:$LG$11,'aux 1'!$KN16:$LG16)="","",LOOKUP(LOOKUP(G$45,'aux 1'!$KN$11:$LG$11,'aux 1'!$KN16:$LG16),'aux 1'!$A$12:$A$231,'aux 1'!$AQ$12:$AQ$231)) | K51: =IF(L51="","","5 - ") | L51: =IF(LOOKUP(J$45,'aux 1'!$KN$11:$LG$11,'aux 1'!$KN16:$LG16)="","",LOOKUP(LOOKUP(J$45,'aux 1'!$KN$11:$LG$11,'aux 1'!$KN16:$LG16),'aux 1'!$A$12:$A$231,'aux 1'!$AQ$12:$AQ$231))
B52: =IF(C52="","","6 - ") -> 6 - | C52: =IF(LOOKUP(A$45,'aux 1'!$KN$11:$LG$11,'aux 1'!$KN17:$LG17)="","",LOOKUP(LOOKUP(A$45,'aux 1'!$KN$11:$LG$11,'aux 1'!$KN17:$LG17),'aux 1'!$A$12:$A$231,'aux 1'!$AQ$12:$AQ$231)) -> Aterros Sobre Solo Mole | E52: =IF(F52="","","6 - ") | F52: =IF(LOOKUP(D$45,'aux 1'!$KN$11:$LG$11,'aux 1'!$KN17:$LG17)="","",LOOKUP(LOOKUP(D$45,'aux 1'!$KN$11:$LG$11,'aux 1'!$KN17:$LG17),'aux 1'!$A$12:$A$231,'aux 1'!$AQ$12:$AQ$231)) | H52: =IF(I52="","","6 - ") | I52: =IF(LOOKUP(G$45,'aux 1'!$KN$11:$LG$11,'aux 1'!$KN17:$LG17)="","",LOOKUP(LOOKUP(G$45,'aux 1'!$KN$11:$LG$11,'aux 1'!$KN17:$LG17),'aux 1'!$A$12:$A$231,'aux 1'!$AQ$12:$AQ$231)) | K52: =IF(L52="","","6 - ") | L52: =IF(LOOKUP(J$45,'aux 1'!$KN$11:$LG$11,'aux 1'!$KN17:$LG17)="","",LOOKUP(LOOKUP(J$45,'aux 1'!$KN$11:$LG$11,'aux 1'!$KN17:$LG17),'aux 1'!$A$12:$A$231,'aux 1'!$AQ$12:$AQ$231))
B53: =IF(C53="","","7 - ") -> 7 - | C53: =IF(LOOKUP(A$45,'aux 1'!$KN$11:$LG$11,'aux 1'!$KN18:$LG18)="","",LOOKUP(LOOKUP(A$45,'aux 1'!$KN$11:$LG$11,'aux 1'!$KN18:$LG18),'aux 1'!$A$12:$A$231,'aux 1'!$AQ$12:$AQ$231)) -> Etruturas de Contenção em Solo Reforçado | E53: =IF(F53="","","7 - ") | F53: =IF(LOOKUP(D$45,'aux 1'!$KN$11:$LG$11,'aux 1'!$KN18:$LG18)="","",LOOKUP(LOOKUP(D$45,'aux 1'!$KN$11:$LG$11,'aux 1'!$KN18:$LG18),'aux 1'!$A$12:$A$231,'aux 1'!$AQ$12:$AQ$231)) | H53: =IF(I53="","","7 - ") | I53: =IF(LOOKUP(G$45,'aux 1'!$KN$11:$LG$11,'aux 1'!$KN18:$LG18)="","",LOOKUP(LOOKUP(G$45,'aux 1'!$KN$11:$LG$11,'aux 1'!$KN18:$LG18),'aux 1'!$A$12:$A$231,'aux 1'!$AQ$12:$AQ$231)) | K53: =IF(L53="","","7 - ") | L53: =IF(LOOKUP(J$45,'aux 1'!$KN$11:$LG$11,'aux 1'!$KN18:$LG18)="","",LOOKUP(LOOKUP(J$45,'aux 1'!$KN$11:$LG$11,'aux 1'!$KN18:$LG18),'aux 1'!$A$12:$A$231,'aux 1'!$AQ$12:$AQ$231))
B54: =IF(C54="","","8 - ") -> 8 - | C54: =IF(LOOKUP(A$45,'aux 1'!$KN$11:$LG$11,'aux 1'!$KN19:$LG19)="","",LOOKUP(LOOKUP(A$45,'aux 1'!$KN$11:$LG$11,'aux 1'!$KN19:$LG19),'aux 1'!$A$12:$A$231,'aux 1'!$AQ$12:$AQ$231)) -> Compactação de Solos | E54: =IF(F54="","","8 - ") | F54: =IF(LOOKUP(D$45,'aux 1'!$KN$11:$LG$11,'aux 1'!$KN19:$LG19)="","",LOOKUP(LOOKUP(D$45,'aux 1'!$KN$11:$LG$11,'aux 1'!$KN19:$LG19),'aux 1'!$A$12:$A$231,'aux 1'!$AQ$12:$AQ$231)) | H54: =IF(I54="","","8 - ") | I54: =IF(LOOKUP(G$45,'aux 1'!$KN$11:$LG$11,'aux 1'!$KN19:$LG19)="","",LOOKUP(LOOKUP(G$45,'aux 1'!$KN$11:$LG$11,'aux 1'!$KN19:$LG19),'aux 1'!$A$12:$A$231,'aux 1'!$AQ$12:$AQ$231)) | K54: =IF(L54="","","8 - ") | L54: =IF(LOOKUP(J$45,'aux 1'!$KN$11:$LG$11,'aux 1'!$KN19:$LG19)="","",LOOKUP(LOOKUP(J$45,'aux 1'!$KN$11:$LG$11,'aux 1'!$KN19:$LG19),'aux 1'!$A$12:$A$231,'aux 1'!$AQ$12:$AQ$231))
B55: =IF(C55="","","9 - ") -> 9 - | C55: =IF(LOOKUP(A$45,'aux 1'!$KN$11:$LG$11,'aux 1'!$KN20:$LG20)="","",LOOKUP(LOOKUP(A$45,'aux 1'!$KN$11:$LG$11,'aux 1'!$KN20:$LG20),'aux 1'!$A$12:$A$231,'aux 1'!$AQ$12:$AQ$231)) -> Túneis | E55: =IF(F55="","","9 - ") | F55: =IF(LOOKUP(D$45,'aux 1'!$KN$11:$LG$11,'aux 1'!$KN20:$LG20)="","",LOOKUP(LOOKUP(D$45,'aux 1'!$KN$11:$LG$11,'aux 1'!$KN20:$LG20),'aux 1'!$A$12:$A$231,'aux 1'!$AQ$12:$AQ$231)) | H55: =IF(I55="","","9 - ") | I55: =IF(LOOKUP(G$45,'aux 1'!$KN$11:$LG$11,'aux 1'!$KN20:$LG20)="","",LOOKUP(LOOKUP(G$45,'aux 1'!$KN$11:$LG$11,'aux 1'!$KN20:$LG20),'aux 1'!$A$12:$A$231,'aux 1'!$AQ$12:$AQ$231)) | K55: =IF(L55="","","9 - ") | L55: =IF(LOOKUP(J$45,'aux 1'!$KN$11:$LG$11,'aux 1'!$KN20:$LG20)="","",LOOKUP(LOOKUP(J$45,'aux 1'!$KN$11:$LG$11,'aux 1'!$KN20:$LG20),'aux 1'!$A$12:$A$231,'aux 1'!$AQ$12:$AQ$231))
B56: =IF(C56="","","10 - ") -> 10 - | C56: =IF(LOOKUP(A$45,'aux 1'!$KN$11:$LG$11,'aux 1'!$KN21:$LG21)="","",LOOKUP(LOOKUP(A$45,'aux 1'!$KN$11:$LG$11,'aux 1'!$KN21:$LG21),'aux 1'!$A$12:$A$231,'aux 1'!$AQ$12:$AQ$231)) -> Mecanica das Rochas | E56: =IF(F56="","","10 - ") | F56: =IF(LOOKUP(D$45,'aux 1'!$KN$11:$LG$11,'aux 1'!$KN21:$LG21)="","",LOOKUP(LOOKUP(D$45,'aux 1'!$KN$11:$LG$11,'aux 1'!$KN21:$LG21),'aux 1'!$A$12:$A$231,'aux 1'!$AQ$12:$AQ$231)) | H56: =IF(I56="","","10 - ") | I56: =IF(LOOKUP(G$45,'aux 1'!$KN$11:$LG$11,'aux 1'!$KN21:$LG21)="","",LOOKUP(LOOKUP(G$45,'aux 1'!$KN$11:$LG$11,'aux 1'!$KN21:$LG21),'aux 1'!$A$12:$A$231,'aux 1'!$AQ$12:$AQ$231)) | K56: =IF(L56="","","10 - ") | L56: =IF(LOOKUP(J$45,'aux 1'!$KN$11:$LG$11,'aux 1'!$KN21:$LG21)="","",LOOKUP(LOOKUP(J$45,'aux 1'!$KN$11:$LG$11,'aux 1'!$KN21:$LG21),'aux 1'!$A$12:$A$231,'aux 1'!$AQ$12:$AQ$231))
B57: =IF(C57="","","11 - ") | C57: =IF(LOOKUP(A$45,'aux 1'!$KN$11:$LG$11,'aux 1'!$KN22:$LG22)="","",LOOKUP(LOOKUP(A$45,'aux 1'!$KN$11:$LG$11,'aux 1'!$KN22:$LG22),'aux 1'!$A$12:$A$231,'aux 1'!$AQ$12:$AQ$231)) | E57: =IF(F57="","","11 - ") | F57: =IF(LOOKUP(D$45,'aux 1'!$KN$11:$LG$11,'aux 1'!$KN22:$LG22)="","",LOOKUP(LOOKUP(D$45,'aux 1'!$KN$11:$LG$11,'aux 1'!$KN22:$LG22),'aux 1'!$A$12:$A$231,'aux 1'!$AQ$12:$AQ$231)) | H57: =IF(I57="","","11 - ") | I57: =IF(LOOKUP(G$45,'aux 1'!$KN$11:$LG$11,'aux 1'!$KN22:$LG22)="","",LOOKUP(LOOKUP(G$45,'aux 1'!$KN$11:$LG$11,'aux 1'!$KN22:$LG22),'aux 1'!$A$12:$A$231,'aux 1'!$AQ$12:$AQ$231)) | K57: =IF(L57="","","11 - ") | L57: =IF(LOOKUP(J$45,'aux 1'!$KN$11:$LG$11,'aux 1'!$KN22:$LG22)="","",LOOKUP(LOOKUP(J$45,'aux 1'!$KN$11:$LG$11,'aux 1'!$KN22:$LG22),'aux 1'!$A$12:$A$231,'aux 1'!$AQ$12:$AQ$231))
B58: =IF(C58="","","12 - ") | C58: =IF(LOOKUP(A$45,'aux 1'!$KN$11:$LG$11,'aux 1'!$KN23:$LG23)="","",LOOKUP(LOOKUP(A$45,'aux 1'!$KN$11:$LG$11,'aux 1'!$KN23:$LG23),'aux 1'!$A$12:$A$231,'aux 1'!$AQ$12:$AQ$231)) | E58: =IF(F58="","","12 - ") | F58: =IF(LOOKUP(D$45,'aux 1'!$KN$11:$LG$11,'aux 1'!$KN23:$LG23)="","",LOOKUP(LOOKUP(D$45,'aux 1'!$KN$11:$LG$11,'aux 1'!$KN23:$LG23),'aux 1'!$A$12:$A$231,'aux 1'!$AQ$12:$AQ$231)) | H58: =IF(I58="","","12 - ") | I58: =IF(LOOKUP(G$45,'aux 1'!$KN$11:$LG$11,'aux 1'!$KN23:$LG23)="","",LOOKUP(LOOKUP(G$45,'aux 1'!$KN$11:$LG$11,'aux 1'!$KN23:$LG23),'aux 1'!$A$12:$A$231,'aux 1'!$AQ$12:$AQ$231)) | K58: =IF(L58="","","12 - ") | L58: =IF(LOOKUP(J$45,'aux 1'!$KN$11:$LG$11,'aux 1'!$KN23:$LG23)="","",LOOKUP(LOOKUP(J$45,'aux 1'!$KN$11:$LG$11,'aux 1'!$KN23:$LG23),'aux 1'!$A$12:$A$231,'aux 1'!$AQ$12:$AQ$231))
B59: =IF(C59="","","13 - ") | C59: =IF(LOOKUP(A$45,'aux 1'!$KN$11:$LG$11,'aux 1'!$KN24:$LG24)="","",LOOKUP(LOOKUP(A$45,'aux 1'!$KN$11:$LG$11,'aux 1'!$KN24:$LG24),'aux 1'!$A$12:$A$231,'aux 1'!$AQ$12:$AQ$231)) | E59: =IF(F59="","","13 - ") | F59: =IF(LOOKUP(D$45,'aux 1'!$KN$11:$LG$11,'aux 1'!$KN24:$LG24)="","",LOOKUP(LOOKUP(D$45,'aux 1'!$KN$11:$LG$11,'aux 1'!$KN24:$LG24),'aux 1'!$A$12:$A$231,'aux 1'!$AQ$12:$AQ$231)) | H59: =IF(I59="","","13 - ") | I59: =IF(LOOKUP(G$45,'aux 1'!$KN$11:$LG$11,'aux 1'!$KN24:$LG24)="","",LOOKUP(LOOKUP(G$45,'aux 1'!$KN$11:$LG$11,'aux 1'!$KN24:$LG24),'aux 1'!$A$12:$A$231,'aux 1'!$AQ$12:$AQ$231)) | K59: =IF(L59="","","13 - ") | L59: =IF(LOOKUP(J$45,'aux 1'!$KN$11:$LG$11,'aux 1'!$KN24:$LG24)="","",LOOKUP(LOOKUP(J$45,'aux 1'!$KN$11:$LG$11,'aux 1'!$KN24:$LG24),'aux 1'!$A$12:$A$231,'aux 1'!$AQ$12:$AQ$231))
B60: =IF(C60="","","14 - ") | C60: =IF(LOOKUP(A$45,'aux 1'!$KN$11:$LG$11,'aux 1'!$KN25:$LG25)="","",LOOKUP(LOOKUP(A$45,'aux 1'!$KN$11:$LG$11,'aux 1'!$KN25:$LG25),'aux 1'!$A$12:$A$231,'aux 1'!$AQ$12:$AQ$231)) | E60: =IF(F60="","","14 - ") | F60: =IF(LOOKUP(D$45,'aux 1'!$KN$11:$LG$11,'aux 1'!$KN25:$LG25)="","",LOOKUP(LOOKUP(D$45,'aux 1'!$KN$11:$LG$11,'aux 1'!$KN25:$LG25),'aux 1'!$A$12:$A$231,'aux 1'!$AQ$12:$AQ$231)) | H60: =IF(I60="","","14 - ") | I60: =IF(LOOKUP(G$45,'aux 1'!$KN$11:$LG$11,'aux 1'!$KN25:$LG25)="","",LOOKUP(LOOKUP(G$45,'aux 1'!$KN$11:$LG$11,'aux 1'!$KN25:$LG25),'aux 1'!$A$12:$A$231,'aux 1'!$AQ$12:$AQ$231)) | K60: =IF(L60="","","14 - ") | L60: =IF(LOOKUP(J$45,'aux 1'!$KN$11:$LG$11,'aux 1'!$KN25:$LG25)="","",LOOKUP(LOOKUP(J$45,'aux 1'!$KN$11:$LG$11,'aux 1'!$KN25:$LG25),'aux 1'!$A$12:$A$231,'aux 1'!$AQ$12:$AQ$231))
B61: =IF(C61="","","15 - ") | C61: =IF(LOOKUP(A$45,'aux 1'!$KN$11:$LG$11,'aux 1'!$KN26:$LG26)="","",LOOKUP(LOOKUP(A$45,'aux 1'!$KN$11:$LG$11,'aux 1'!$KN26:$LG26),'aux 1'!$A$12:$A$231,'aux 1'!$AQ$12:$AQ$231)) | E61: =IF(F61="","","15 - ") | F61: =IF(LOOKUP(D$45,'aux 1'!$KN$11:$LG$11,'aux 1'!$KN26:$LG26)="","",LOOKUP(LOOKUP(D$45,'aux 1'!$KN$11:$LG$11,'aux 1'!$KN26:$LG26),'aux 1'!$A$12:$A$231,'aux 1'!$AQ$12:$AQ$231)) | H61: =IF(I61="","","15 - ") | I61: =IF(LOOKUP(G$45,'aux 1'!$KN$11:$LG$11,'aux 1'!$KN26:$LG26)="","",LOOKUP(LOOKUP(G$45,'aux 1'!$KN$11:$LG$11,'aux 1'!$KN26:$LG26),'aux 1'!$A$12:$A$231,'aux 1'!$AQ$12:$AQ$231)) | K61: =IF(L61="","","15 - ") | L61: =IF(LOOKUP(J$45,'aux 1'!$KN$11:$LG$11,'aux 1'!$KN26:$LG26)="","",LOOKUP(LOOKUP(J$45,'aux 1'!$KN$11:$LG$11,'aux 1'!$KN26:$LG26),'aux 1'!$A$12:$A$231,'aux 1'!$AQ$12:$AQ$231))
B62: =IF(C62="","","16 - ") | C62: =IF(LOOKUP(A$45,'aux 1'!$KN$11:$LG$11,'aux 1'!$KN27:$LG27)="","",LOOKUP(LOOKUP(A$45,'aux 1'!$KN$11:$LG$11,'aux 1'!$KN27:$LG27),'aux 1'!$A$12:$A$231,'aux 1'!$AQ$12:$AQ$231)) | E62: =IF(F62="","","16 - ") | F62: =IF(LOOKUP(D$45,'aux 1'!$KN$11:$LG$11,'aux 1'!$KN27:$LG27)="","",LOOKUP(LOOKUP(D$45,'aux 1'!$KN$11:$LG$11,'aux 1'!$KN27:$LG27),'aux 1'!$A$12:$A$231,'aux 1'!$AQ$12:$AQ$231)) | H62: =IF(I62="","","16 - ") | I62: =IF(LOOKUP(G$45,'aux 1'!$KN$11:$LG$11,'aux 1'!$KN27:$LG27)="","",LOOKUP(LOOKUP(G$45,'aux 1'!$KN$11:$LG$11,'aux 1'!$KN27:$LG27),'aux 1'!$A$12:$A$231,'aux 1'!$AQ$12:$AQ$231)) | K62: =IF(L62="","","16 - ") | L62: =IF(LOOKUP(J$45,'aux 1'!$KN$11:$LG$11,'aux 1'!$KN27:$LG27)="","",LOOKUP(LOOKUP(J$45,'aux 1'!$KN$11:$LG$11,'aux 1'!$KN27:$LG27),'aux 1'!$A$12:$A$231,'aux 1'!$AQ$12:$AQ$231))
A64: 15 | C64: =IF(LOOKUP(A64,'aux 7'!$C$22:$C$41,'aux 7'!$D$22:$D$41)="","",LOOKUP(A64,'aux 7'!$C$22:$C$41,'aux 7'!$D$22:$D$41)) -> Opt. Humanas - LEEL | D64: 16 | F64: =IF(LOOKUP(D64,'aux 7'!$C$22:$C$41,'aux 7'!$D$22:$D$41)="","",LOOKUP(D64,'aux 7'!$C$22:$C$41,'aux 7'!$D$22:$D$41)) -> Opt. Humanas - LESCE | G64: 17 | I64: =IF(LOOKUP(G64,'aux 7'!$C$22:$C$41,'aux 7'!$D$22:$D$41)="","",LOOKUP(G64,'aux 7'!$C$22:$C$41,'aux 7'!$D$22:$D$41)) -> Opt. Humanas - CCH | J64: 18 | L64: =IF(LOOKUP(J64,'aux 7'!$C$22:$C$41,'aux 7'!$D$22:$D$41)="","",LOOKUP(J64,'aux 7'!$C$22:$C$41,'aux 7'!$D$22:$D$41)) -> Opt. Humanas - LPROD
B66: =IF(C66="","","1 - ") -> 1 - | C66: =IF(LOOKUP(A$64,'aux 1'!$KN$11:$LG$11,'aux 1'!$KN12:$LG12)="","",LOOKUP(LOOKUP(A$64,'aux 1'!$KN$11:$LG$11,'aux 1'!$KN12:$LG12),'aux 1'!$A$12:$A$231,'aux 1'!$AQ$12:$AQ$231)) -> Inglês Instrumental I | E66: =IF(F66="","","1 - ") | F66: =IF(LOOKUP(D$64,'aux 1'!$KN$11:$LG$11,'aux 1'!$KN12:$LG12)="","",LOOKUP(LOOKUP(D$64,'aux 1'!$KN$11:$LG$11,'aux 1'!$KN12:$LG12),'aux 1'!$A$12:$A$231,'aux 1'!$AQ$12:$AQ$231)) | H66: =IF(I66="","","1 - ") -> 1 - | I66: =IF(LOOKUP(G$64,'aux 1'!$KN$11:$LG$11,'aux 1'!$KN12:$LG12)="","",LOOKUP(LOOKUP(G$64,'aux 1'!$KN$11:$LG$11,'aux 1'!$KN12:$LG12),'aux 1'!$A$12:$A$231,'aux 1'!$AQ$12:$AQ$231)) -> Ciência e sociedade LB | K66: =IF(L66="","","1 - ") | L66: =IF(LOOKUP(J$64,'aux 1'!$KN$11:$LG$11,'aux 1'!$KN12:$LG12)="","",LOOKUP(LOOKUP(J$64,'aux 1'!$KN$11:$LG$11,'aux 1'!$KN12:$LG12),'aux 1'!$A$12:$A$231,'aux 1'!$AQ$12:$AQ$231))
B67: =IF(C67="","","2 - ") -> 2 - | C67: =IF(LOOKUP(A$64,'aux 1'!$KN$11:$LG$11,'aux 1'!$KN13:$LG13)="","",LOOKUP(LOOKUP(A$64,'aux 1'!$KN$11:$LG$11,'aux 1'!$KN13:$LG13),'aux 1'!$A$12:$A$231,'aux 1'!$AQ$12:$AQ$231)) -> Inglês Instrumental I | E67: =IF(F67="","","2 - ") | F67: =IF(LOOKUP(D$64,'aux 1'!$KN$11:$LG$11,'aux 1'!$KN13:$LG13)="","",LOOKUP(LOOKUP(D$64,'aux 1'!$KN$11:$LG$11,'aux 1'!$KN13:$LG13),'aux 1'!$A$12:$A$231,'aux 1'!$AQ$12:$AQ$231)) | H67: =IF(I67="","","2 - ") -> 2 - | I67: =IF(LOOKUP(G$64,'aux 1'!$KN$11:$LG$11,'aux 1'!$KN13:$LG13)="","",LOOKUP(LOOKUP(G$64,'aux 1'!$KN$11:$LG$11,'aux 1'!$KN13:$LG13),'aux 1'!$A$12:$A$231,'aux 1'!$AQ$12:$AQ$231)) -> Ciência e sociedade LM | K67: =IF(L67="","","2 - ") | L67: =IF(LOOKUP(J$64,'aux 1'!$KN$11:$LG$11,'aux 1'!$KN13:$LG13)="","",LOOKUP(LOOKUP(J$64,'aux 1'!$KN$11:$LG$11,'aux 1'!$KN13:$LG13),'aux 1'!$A$12:$A$231,'aux 1'!$AQ$12:$AQ$231))
B68: =IF(C68="","","3 - ") -> 3 - | C68: =IF(LOOKUP(A$64,'aux 1'!$KN$11:$LG$11,'aux 1'!$KN14:$LG14)="","",LOOKUP(LOOKUP(A$64,'aux 1'!$KN$11:$LG$11,'aux 1'!$KN14:$LG14),'aux 1'!$A$12:$A$231,'aux 1'!$AQ$12:$AQ$231)) -> Inglês Instrumental II | E68: =IF(F68="","","3 - ") | F68: =IF(LOOKUP(D$64,'aux 1'!$KN$11:$LG$11,'aux 1'!$KN14:$LG14)="","",LOOKUP(LOOKUP(D$64,'aux 1'!$KN$11:$LG$11,'aux 1'!$KN14:$LG14),'aux 1'!$A$12:$A$231,'aux 1'!$AQ$12:$AQ$231)) | H68: =IF(I68="","","3 - ") | I68: =IF(LOOKUP(G$64,'aux 1'!$KN$11:$LG$11,'aux 1'!$KN14:$LG14)="","",LOOKUP(LOOKUP(G$64,'aux 1'!$KN$11:$LG$11,'aux 1'!$KN14:$LG14),'aux 1'!$A$12:$A$231,'aux 1'!$AQ$12:$AQ$231)) | K68: =IF(L68="","","3 - ") | L68: =IF(LOOKUP(J$64,'aux 1'!$KN$11:$LG$11,'aux 1'!$KN14:$LG14)="","",LOOKUP(LOOKUP(J$64,'aux 1'!$KN$11:$LG$11,'aux 1'!$KN14:$LG14),'aux 1'!$A$12:$A$231,'aux 1'!$AQ$12:$AQ$231))
B69: =IF(C69="","","4 - ") -> 4 - | C69: =IF(LOOKUP(A$64,'aux 1'!$KN$11:$LG$11,'aux 1'!$KN15:$LG15)="","",LOOKUP(LOOKUP(A$64,'aux 1'!$KN$11:$LG$11,'aux 1'!$KN15:$LG15),'aux 1'!$A$12:$A$231,'aux 1'!$AQ$12:$AQ$231)) -> Inglês Instrumental II | E69: =IF(F69="","","4 - ") | F69: =IF(LOOKUP(D$64,'aux 1'!$KN$11:$LG$11,'aux 1'!$KN15:$LG15)="","",LOOKUP(LOOKUP(D$64,'aux 1'!$KN$11:$LG$11,'aux 1'!$KN15:$LG15),'aux 1'!$A$12:$A$231,'aux 1'!$AQ$12:$AQ$231)) | H69: =IF(I69="","","4 - ") | I69: =IF(LOOKUP(G$64,'aux 1'!$KN$11:$LG$11,'aux 1'!$KN15:$LG15)="","",LOOKUP(LOOKUP(G$64,'aux 1'!$KN$11:$LG$11,'aux 1'!$KN15:$LG15),'aux 1'!$A$12:$A$231,'aux 1'!$AQ$12:$AQ$231)) | K69: =IF(L69="","","4 - ") | L69: =IF(LOOKUP(J$64,'aux 1'!$KN$11:$LG$11,'aux 1'!$KN15:$LG15)="","",LOOKUP(LOOKUP(J$64,'aux 1'!$KN$11:$LG$11,'aux 1'!$KN15:$LG15),'aux 1'!$A$12:$A$231,'aux 1'!$AQ$12:$AQ$231))
B70: =IF(C70="","","5 - ") -> 5 - | C70: =IF(LOOKUP(A$64,'aux 1'!$KN$11:$LG$11,'aux 1'!$KN16:$LG16)="","",LOOKUP(LOOKUP(A$64,'aux 1'!$KN$11:$LG$11,'aux 1'!$KN16:$LG16),'aux 1'!$A$12:$A$231,'aux 1'!$AQ$12:$AQ$231)) -> Inglês Instrumental III | E70: =IF(F70="","","5 - ") | F70: =IF(LOOKUP(D$64,'aux 1'!$KN$11:$LG$11,'aux 1'!$KN16:$LG16)="","",LOOKUP(LOOKUP(D$64,'aux 1'!$KN$11:$LG$11,'aux 1'!$KN16:$LG16),'aux 1'!$A$12:$A$231,'aux 1'!$AQ$12:$AQ$231)) | H70: =IF(I70="","","5 - ") | I70: =IF(LOOKUP(G$64,'aux 1'!$KN$11:$LG$11,'aux 1'!$KN16:$LG16)="","",LOOKUP(LOOKUP(G$64,'aux 1'!$KN$11:$LG$11,'aux 1'!$KN16:$LG16),'aux 1'!$A$12:$A$231,'aux 1'!$AQ$12:$AQ$231)) | K70: =IF(L70="","","5 - ") | L70: =IF(LOOKUP(J$64,'aux 1'!$KN$11:$LG$11,'aux 1'!$KN16:$LG16)="","",LOOKUP(LOOKUP(J$64,'aux 1'!$KN$11:$LG$11,'aux 1'!$KN16:$LG16),'aux 1'!$A$12:$A$231,'aux 1'!$AQ$12:$AQ$231))
B71: =IF(C71="","","6 - ") | C71: =IF(LOOKUP(A$64,'aux 1'!$KN$11:$LG$11,'aux 1'!$KN17:$LG17)="","",LOOKUP(LOOKUP(A$64,'aux 1'!$KN$11:$LG$11,'aux 1'!$KN17:$LG17),'aux 1'!$A$12:$A$231,'aux 1'!$AQ$12:$AQ$231)) | E71: =IF(F71="","","6 - ") | F71: =IF(LOOKUP(D$64,'aux 1'!$KN$11:$LG$11,'aux 1'!$KN17:$LG17)="","",LOOKUP(LOOKUP(D$64,'aux 1'!$KN$11:$LG$11,'aux 1'!$KN17:$LG17),'aux 1'!$A$12:$A$231,'aux 1'!$AQ$12:$AQ$231)) | H71: =IF(I71="","","6 - ") | I71: =IF(LOOKUP(G$64,'aux 1'!$KN$11:$LG$11,'aux 1'!$KN17:$LG17)="","",LOOKUP(LOOKUP(G$64,'aux 1'!$KN$11:$LG$11,'aux 1'!$KN17:$LG17),'aux 1'!$A$12:$A$231,'aux 1'!$AQ$12:$AQ$231)) | K71: =IF(L71="","","6 - ") | L71: =IF(LOOKUP(J$64,'aux 1'!$KN$11:$LG$11,'aux 1'!$KN17:$LG17)="","",LOOKUP(LOOKUP(J$64,'aux 1'!$KN$11:$LG$11,'aux 1'!$KN17:$LG17),'aux 1'!$A$12:$A$231,'aux 1'!$AQ$12:$AQ$231))
B72: =IF(C72="","","7 - ") | C72: =IF(LOOKUP(A$64,'aux 1'!$KN$11:$LG$11,'aux 1'!$KN18:$LG18)="","",LOOKUP(LOOKUP(A$64,'aux 1'!$KN$11:$LG$11,'aux 1'!$KN18:$LG18),'aux 1'!$A$12:$A$231,'aux 1'!$AQ$12:$AQ$231)) | E72: =IF(F72="","","7 - ") | F72: =IF(LOOKUP(D$64,'aux 1'!$KN$11:$LG$11,'aux 1'!$KN18:$LG18)="","",LOOKUP(LOOKUP(D$64,'aux 1'!$KN$11:$LG$11,'aux 1'!$KN18:$LG18),'aux 1'!$A$12:$A$231,'aux 1'!$AQ$12:$AQ$231)) | H72: =IF(I72="","","7 - ") | I72: =IF(LOOKUP(G$64,'aux 1'!$KN$11:$LG$11,'aux 1'!$KN18:$LG18)="","",LOOKUP(LOOKUP(G$64,'aux 1'!$KN$11:$LG$11,'aux 1'!$KN18:$LG18),'aux 1'!$A$12:$A$231,'aux 1'!$AQ$12:$AQ$231)) | K72: =IF(L72="","","7 - ") | L72: =IF(LOOKUP(J$64,'aux 1'!$KN$11:$LG$11,'aux 1'!$KN18:$LG18)="","",LOOKUP(LOOKUP(J$64,'aux 1'!$KN$11:$LG$11,'aux 1'!$KN18:$LG18),'aux 1'!$A$12:$A$231,'aux 1'!$AQ$12:$AQ$231))
B73: =IF(C73="","","8 - ") | C73: =IF(LOOKUP(A$64,'aux 1'!$KN$11:$LG$11,'aux 1'!$KN19:$LG19)="","",LOOKUP(LOOKUP(A$64,'aux 1'!$KN$11:$LG$11,'aux 1'!$KN19:$LG19),'aux 1'!$A$12:$A$231,'aux 1'!$AQ$12:$AQ$231)) | E73: =IF(F73="","","8 - ") | F73: =IF(LOOKUP(D$64,'aux 1'!$KN$11:$LG$11,'aux 1'!$KN19:$LG19)="","",LOOKUP(LOOKUP(D$64,'aux 1'!$KN$11:$LG$11,'aux 1'!$KN19:$LG19),'aux 1'!$A$12:$A$231,'aux 1'!$AQ$12:$AQ$231)) | H73: =IF(I73="","","8 - ") | I73: =IF(LOOKUP(G$64,'aux 1'!$KN$11:$LG$11,'aux 1'!$KN19:$LG19)="","",LOOKUP(LOOKUP(G$64,'aux 1'!$KN$11:$LG$11,'aux 1'!$KN19:$LG19),'aux 1'!$A$12:$A$231,'aux 1'!$AQ$12:$AQ$231)) | K73: =IF(L73="","","8 - ") | L73: =IF(LOOKUP(J$64,'aux 1'!$KN$11:$LG$11,'aux 1'!$KN19:$LG19)="","",LOOKUP(LOOKUP(J$64,'aux 1'!$KN$11:$LG$11,'aux 1'!$KN19:$LG19),'aux 1'!$A$12:$A$231,'aux 1'!$AQ$12:$AQ$231))
B74: =IF(C74="","","9 - ") | C74: =IF(LOOKUP(A$64,'aux 1'!$KN$11:$LG$11,'aux 1'!$KN20:$LG20)="","",LOOKUP(LOOKUP(A$64,'aux 1'!$KN$11:$LG$11,'aux 1'!$KN20:$LG20),'aux 1'!$A$12:$A$231,'aux 1'!$AQ$12:$AQ$231)) | E74: =IF(F74="","","9 - ") | F74: =IF(LOOKUP(D$64,'aux 1'!$KN$11:$LG$11,'aux 1'!$KN20:$LG20)="","",LOOKUP(LOOKUP(D$64,'aux 1'!$KN$11:$LG$11,'aux 1'!$KN20:$LG20),'aux 1'!$A$12:$A$231,'aux 1'!$AQ$12:$AQ$231)) | H74: =IF(I74="","","9 - ") | I74: =IF(LOOKUP(G$64,'aux 1'!$KN$11:$LG$11,'aux 1'!$KN20:$LG20)="","",LOOKUP(LOOKUP(G$64,'aux 1'!$KN$11:$LG$11,'aux 1'!$KN20:$LG20),'aux 1'!$A$12:$A$231,'aux 1'!$AQ$12:$AQ$231)) | K74: =IF(L74="","","9 - ") | L74: =IF(LOOKUP(J$64,'aux 1'!$KN$11:$LG$11,'aux 1'!$KN20:$LG20)="","",LOOKUP(LOOKUP(J$64,'aux 1'!$KN$11:$LG$11,'aux 1'!$KN20:$LG20),'aux 1'!$A$12:$A$231,'aux 1'!$AQ$12:$AQ$231))
B75: =IF(C75="","","10 - ") | C75: =IF(LOOKUP(A$64,'aux 1'!$KN$11:$LG$11,'aux 1'!$KN21:$LG21)="","",LOOKUP(LOOKUP(A$64,'aux 1'!$KN$11:$LG$11,'aux 1'!$KN21:$LG21),'aux 1'!$A$12:$A$231,'aux 1'!$AQ$12:$AQ$231)) | E75: =IF(F75="","","10 - ") | F75: =IF(LOOKUP(D$64,'aux 1'!$KN$11:$LG$11,'aux 1'!$KN21:$LG21)="","",LOOKUP(LOOKUP(D$64,'aux 1'!$KN$11:$LG$11,'aux 1'!$KN21:$LG21),'aux 1'!$A$12:$A$231,'aux 1'!$AQ$12:$AQ$231)) | H75: =IF(I75="","","10 - ") | I75: =IF(LOOKUP(G$64,'aux 1'!$KN$11:$LG$11,'aux 1'!$KN21:$LG21)="","",LOOKUP(LOOKUP(G$64,'aux 1'!$KN$11:$LG$11,'aux 1'!$KN21:$LG21),'aux 1'!$A$12:$A$231,'aux 1'!$AQ$12:$AQ$231)) | K75: =IF(L75="","","10 - ") | L75: =IF(LOOKUP(J$64,'aux 1'!$KN$11:$LG$11,'aux 1'!$KN21:$LG21)="","",LOOKUP(LOOKUP(J$64,'aux 1'!$KN$11:$LG$11,'aux 1'!$KN21:$LG21),'aux 1'!$A$12:$A$231,'aux 1'!$AQ$12:$AQ$231))
B76: =IF(C76="","","11 - ") | C76: =IF(LOOKUP(A$64,'aux 1'!$KN$11:$LG$11,'aux 1'!$KN22:$LG22)="","",LOOKUP(LOOKUP(A$64,'aux 1'!$KN$11:$LG$11,'aux 1'!$KN22:$LG22),'aux 1'!$A$12:$A$231,'aux 1'!$AQ$12:$AQ$231)) | E76: =IF(F76="","","11 - ") | F76: =IF(LOOKUP(D$64,'aux 1'!$KN$11:$LG$11,'aux 1'!$KN22:$LG22)="","",LOOKUP(LOOKUP(D$64,'aux 1'!$KN$11:$LG$11,'aux 1'!$KN22:$LG22),'aux 1'!$A$12:$A$231,'aux 1'!$AQ$12:$AQ$231)) | H76: =IF(I76="","","11 - ") | I76: =IF(LOOKUP(G$64,'aux 1'!$KN$11:$LG$11,'aux 1'!$KN22:$LG22)="","",LOOKUP(LOOKUP(G$64,'aux 1'!$KN$11:$LG$11,'aux 1'!$KN22:$LG22),'aux 1'!$A$12:$A$231,'aux 1'!$AQ$12:$AQ$231)) | K76: =IF(L76="","","11 - ") | L76: =IF(LOOKUP(J$64,'aux 1'!$KN$11:$LG$11,'aux 1'!$KN22:$LG22)="","",LOOKUP(LOOKUP(J$64,'aux 1'!$KN$11:$LG$11,'aux 1'!$KN22:$LG22),'aux 1'!$A$12:$A$231,'aux 1'!$AQ$12:$AQ$231))
B77: =IF(C77="","","12 - ") | C77: =IF(LOOKUP(A$64,'aux 1'!$KN$11:$LG$11,'aux 1'!$KN23:$LG23)="","",LOOKUP(LOOKUP(A$64,'aux 1'!$KN$11:$LG$11,'aux 1'!$KN23:$LG23),'aux 1'!$A$12:$A$231,'aux 1'!$AQ$12:$AQ$231)) | E77: =IF(F77="","","12 - ") | F77: =IF(LOOKUP(D$64,'aux 1'!$KN$11:$LG$11,'aux 1'!$KN23:$LG23)="","",LOOKUP(LOOKUP(D$64,'aux 1'!$KN$11:$LG$11,'aux 1'!$KN23:$LG23),'aux 1'!$A$12:$A$231,'aux 1'!$AQ$12:$AQ$231)) | H77: =IF(I77="","","12 - ") | I77: =IF(LOOKUP(G$64,'aux 1'!$KN$11:$LG$11,'aux 1'!$KN23:$LG23)="","",LOOKUP(LOOKUP(G$64,'aux 1'!$KN$11:$LG$11,'aux 1'!$KN23:$LG23),'aux 1'!$A$12:$A$231,'aux 1'!$AQ$12:$AQ$231)) | K77: =IF(L77="","","12 - ") | L77: =IF(LOOKUP(J$64,'aux 1'!$KN$11:$LG$11,'aux 1'!$KN23:$LG23)="","",LOOKUP(LOOKUP(J$64,'aux 1'!$KN$11:$LG$11,'aux 1'!$KN23:$LG23),'aux 1'!$A$12:$A$231,'aux 1'!$AQ$12:$AQ$231))
B78: =IF(C78="","","13 - ") | C78: =IF(LOOKUP(A$64,'aux 1'!$KN$11:$LG$11,'aux 1'!$KN24:$LG24)="","",LOOKUP(LOOKUP(A$64,'aux 1'!$KN$11:$LG$11,'aux 1'!$KN24:$LG24),'aux 1'!$A$12:$A$231,'aux 1'!$AQ$12:$AQ$231)) | E78: =IF(F78="","","13 - ") | F78: =IF(LOOKUP(D$64,'aux 1'!$KN$11:$LG$11,'aux 1'!$KN24:$LG24)="","",LOOKUP(LOOKUP(D$64,'aux 1'!$KN$11:$LG$11,'aux 1'!$KN24:$LG24),'aux 1'!$A$12:$A$231,'aux 1'!$AQ$12:$AQ$231)) | H78: =IF(I78="","","13 - ") | I78: =IF(LOOKUP(G$64,'aux 1'!$KN$11:$LG$11,'aux 1'!$KN24:$LG24)="","",LOOKUP(LOOKUP(G$64,'aux 1'!$KN$11:$LG$11,'aux 1'!$KN24:$LG24),'aux 1'!$A$12:$A$231,'aux 1'!$AQ$12:$AQ$231)) | K78: =IF(L78="","","13 - ") | L78: =IF(LOOKUP(J$64,'aux 1'!$KN$11:$LG$11,'aux 1'!$KN24:$LG24)="","",LOOKUP(LOOKUP(J$64,'aux 1'!$KN$11:$LG$11,'aux 1'!$KN24:$LG24),'aux 1'!$A$12:$A$231,'aux 1'!$AQ$12:$AQ$231))
B79: =IF(C79="","","14 - ") | C79: =IF(LOOKUP(A$64,'aux 1'!$KN$11:$LG$11,'aux 1'!$KN25:$LG25)="","",LOOKUP(LOOKUP(A$64,'aux 1'!$KN$11:$LG$11,'aux 1'!$KN25:$LG25),'aux 1'!$A$12:$A$231,'aux 1'!$AQ$12:$AQ$231)) | E79: =IF(F79="","","14 - ") | F79: =IF(LOOKUP(D$64,'aux 1'!$KN$11:$LG$11,'aux 1'!$KN25:$LG25)="","",LOOKUP(LOOKUP(D$64,'aux 1'!$KN$11:$LG$11,'aux 1'!$KN25:$LG25),'aux 1'!$A$12:$A$231,'aux 1'!$AQ$12:$AQ$231)) | H79: =IF(I79="","","14 - ") | I79: =IF(LOOKUP(G$64,'aux 1'!$KN$11:$LG$11,'aux 1'!$KN25:$LG25)="","",LOOKUP(LOOKUP(G$64,'aux 1'!$KN$11:$LG$11,'aux 1'!$KN25:$LG25),'aux 1'!$A$12:$A$231,'aux 1'!$AQ$12:$AQ$231)) | K79: =IF(L79="","","14 - ") | L79: =IF(LOOKUP(J$64,'aux 1'!$KN$11:$LG$11,'aux 1'!$KN25:$LG25)="","",LOOKUP(LOOKUP(J$64,'aux 1'!$KN$11:$LG$11,'aux 1'!$KN25:$LG25),'aux 1'!$A$12:$A$231,'aux 1'!$AQ$12:$AQ$231))
B80: =IF(C80="","","15 - ") | C80: =IF(LOOKUP(A$64,'aux 1'!$KN$11:$LG$11,'aux 1'!$KN26:$LG26)="","",LOOKUP(LOOKUP(A$64,'aux 1'!$KN$11:$LG$11,'aux 1'!$KN26:$LG26),'aux 1'!$A$12:$A$231,'aux 1'!$AQ$12:$AQ$231)) | E80: =IF(F80="","","15 - ") | F80: =IF(LOOKUP(D$64,'aux 1'!$KN$11:$LG$11,'aux 1'!$KN26:$LG26)="","",LOOKUP(LOOKUP(D$64,'aux 1'!$KN$11:$LG$11,'aux 1'!$KN26:$LG26),'aux 1'!$A$12:$A$231,'aux 1'!$AQ$12:$AQ$231)) | H80: =IF(I80="","","15 - ") | I80: =IF(LOOKUP(G$64,'aux 1'!$KN$11:$LG$11,'aux 1'!$KN26:$LG26)="","",LOOKUP(LOOKUP(G$64,'aux 1'!$KN$11:$LG$11,'aux 1'!$KN26:$LG26),'aux 1'!$A$12:$A$231,'aux 1'!$AQ$12:$AQ$231)) | K80: =IF(L80="","","15 - ") | L80: =IF(LOOKUP(J$64,'aux 1'!$KN$11:$LG$11,'aux 1'!$KN26:$LG26)="","",LOOKUP(LOOKUP(J$64,'aux 1'!$KN$11:$LG$11,'aux 1'!$KN26:$LG26),'aux 1'!$A$12:$A$231,'aux 1'!$AQ$12:$AQ$231))
B81: =IF(C81="","","16 - ") | C81: =IF(LOOKUP(A$64,'aux 1'!$KN$11:$LG$11,'aux 1'!$KN27:$LG27)="","",LOOKUP(LOOKUP(A$64,'aux 1'!$KN$11:$LG$11,'aux 1'!$KN27:$LG27),'aux 1'!$A$12:$A$231,'aux 1'!$AQ$12:$AQ$231)) | E81: =IF(F81="","","16 - ") | F81: =IF(LOOKUP(D$64,'aux 1'!$KN$11:$LG$11,'aux 1'!$KN27:$LG27)="","",LOOKUP(LOOKUP(D$64,'aux 1'!$KN$11:$LG$11,'aux 1'!$KN27:$LG27),'aux 1'!$A$12:$A$231,'aux 1'!$AQ$12:$AQ$231)) | H81: =IF(I81="","","16 - ") | I81: =IF(LOOKUP(G$64,'aux 1'!$KN$11:$LG$11,'aux 1'!$KN27:$LG27)="","",LOOKUP(LOOKUP(G$64,'aux 1'!$KN$11:$LG$11,'aux 1'!$KN27:$LG27),'aux 1'!$A$12:$A$231,'aux 1'!$AQ$12:$AQ$231)) | K81: =IF(L81="","","16 - ") | L81: =IF(LOOKUP(J$64,'aux 1'!$KN$11:$LG$11,'aux 1'!$KN27:$LG27)="","",LOOKUP(LOOKUP(J$64,'aux 1'!$KN$11:$LG$11,'aux 1'!$KN27:$LG27),'aux 1'!$A$12:$A$231,'aux 1'!$AQ$12:$AQ$231))
A83: 19 | C83: =IF(LOOKUP(A83,'aux 7'!$C$22:$C$41,'aux 7'!$D$22:$D$41)="","",LOOKUP(A83,'aux 7'!$C$22:$C$41,'aux 7'!$D$22:$D$41)) | D83: 20 | F83: =IF(LOOKUP(D83,'aux 7'!$C$22:$C$41,'aux 7'!$D$22:$D$41)="","",LOOKUP(D83,'aux 7'!$C$22:$C$41,'aux 7'!$D$22:$D$41)) | G83: 19 | I83: =IF(LOOKUP(G83,'aux 7'!$C$22:$C$41,'aux 7'!$D$22:$D$41)="","",LOOKUP(G83,'aux 7'!$C$22:$C$41,'aux 7'!$D$22:$D$41)) | J83: 20 | L83: =IF(LOOKUP(J83,'aux 7'!$C$22:$C$41,'aux 7'!$D$22:$D$41)="","",LOOKUP(J83,'aux 7'!$C$22:$C$41,'aux 7'!$D$22:$D$41))
B85: =IF(C85="","","1 - ") | C85: =IF(LOOKUP(A$83,'aux 1'!$KN$11:$LG$11,'aux 1'!$KN12:$LG12)="","",LOOKUP(LOOKUP(A$83,'aux 1'!$KN$11:$LG$11,'aux 1'!$KN12:$LG12),'aux 1'!$A$12:$A$231,'aux 1'!$AQ$12:$AQ$231)) | E85: =IF(F85="","","1 - ") | F85: =IF(LOOKUP(D$83,'aux 1'!$KN$11:$LG$11,'aux 1'!$KN12:$LG12)="","",LOOKUP(LOOKUP(D$83,'aux 1'!$KN$11:$LG$11,'aux 1'!$KN12:$LG12),'aux 1'!$A$12:$A$231,'aux 1'!$AQ$12:$AQ$231)) | H85: =IF(I85="","","1 - ") | I85: =IF(LOOKUP(G$83,'aux 1'!$KN$11:$LG$11,'aux 1'!$KN12:$LG12)="","",LOOKUP(LOOKUP(G$83,'aux 1'!$KN$11:$LG$11,'aux 1'!$KN12:$LG12),'aux 1'!$A$12:$A$231,'aux 1'!$AQ$12:$AQ$231)) | K85: =IF(L85="","","1 - ") | L85: =IF(LOOKUP(J$83,'aux 1'!$KN$11:$LG$11,'aux 1'!$KN12:$LG12)="","",LOOKUP(LOOKUP(J$83,'aux 1'!$KN$11:$LG$11,'aux 1'!$KN12:$LG12),'aux 1'!$A$12:$A$231,'aux 1'!$AQ$12:$AQ$231))
B86: =IF(C86="","","2 - ") | C86: =IF(LOOKUP(A$83,'aux 1'!$KN$11:$LG$11,'aux 1'!$KN13:$LG13)="","",LOOKUP(LOOKUP(A$83,'aux 1'!$KN$11:$LG$11,'aux 1'!$KN13:$LG13),'aux 1'!$A$12:$A$231,'aux 1'!$AQ$12:$AQ$231)) | E86: =IF(F86="","","2 - ") | F86: =IF(LOOKUP(D$83,'aux 1'!$KN$11:$LG$11,'aux 1'!$KN13:$LG13)="","",LOOKUP(LOOKUP(D$83,'aux 1'!$KN$11:$LG$11,'aux 1'!$KN13:$LG13),'aux 1'!$A$12:$A$231,'aux 1'!$AQ$12:$AQ$231)) | H86: =IF(I86="","","2 - ") | I86: =IF(LOOKUP(G$83,'aux 1'!$KN$11:$LG$11,'aux 1'!$KN13:$LG13)="","",LOOKUP(LOOKUP(G$83,'aux 1'!$KN$11:$LG$11,'aux 1'!$KN13:$LG13),'aux 1'!$A$12:$A$231,'aux 1'!$AQ$12:$AQ$231)) | K86: =IF(L86="","","2 - ") | L86: =IF(LOOKUP(J$83,'aux 1'!$KN$11:$LG$11,'aux 1'!$KN13:$LG13)="","",LOOKUP(LOOKUP(J$83,'aux 1'!$KN$11:$LG$11,'aux 1'!$KN13:$LG13),'aux 1'!$A$12:$A$231,'aux 1'!$AQ$12:$AQ$231))
B87: =IF(C87="","","3 - ") | C87: =IF(LOOKUP(A$83,'aux 1'!$KN$11:$LG$11,'aux 1'!$KN14:$LG14)="","",LOOKUP(LOOKUP(A$83,'aux 1'!$KN$11:$LG$11,'aux 1'!$KN14:$LG14),'aux 1'!$A$12:$A$231,'aux 1'!$AQ$12:$AQ$231)) | E87: =IF(F87="","","3 - ") | F87: =IF(LOOKUP(D$83,'aux 1'!$KN$11:$LG$11,'aux 1'!$KN14:$LG14)="","",LOOKUP(LOOKUP(D$83,'aux 1'!$KN$11:$LG$11,'aux 1'!$KN14:$LG14),'aux 1'!$A$12:$A$231,'aux 1'!$AQ$12:$AQ$231)) | H87: =IF(I87="","","3 - ") | I87: =IF(LOOKUP(G$83,'aux 1'!$KN$11:$LG$11,'aux 1'!$KN14:$LG14)="","",LOOKUP(LOOKUP(G$83,'aux 1'!$KN$11:$LG$11,'aux 1'!$KN14:$LG14),'aux 1'!$A$12:$A$231,'aux 1'!$AQ$12:$AQ$231)) | K87: =IF(L87="","","3 - ") | L87: =IF(LOOKUP(J$83,'aux 1'!$KN$11:$LG$11,'aux 1'!$KN14:$LG14)="","",LOOKUP(LOOKUP(J$83,'aux 1'!$KN$11:$LG$11,'aux 1'!$KN14:$LG14),'aux 1'!$A$12:$A$231,'aux 1'!$AQ$12:$AQ$231))
B88: =IF(C88="","","4 - ") | C88: =IF(LOOKUP(A$83,'aux 1'!$KN$11:$LG$11,'aux 1'!$KN15:$LG15)="","",LOOKUP(LOOKUP(A$83,'aux 1'!$KN$11:$LG$11,'aux 1'!$KN15:$LG15),'aux 1'!$A$12:$A$231,'aux 1'!$AQ$12:$AQ$231)) | E88: =IF(F88="","","4 - ") | F88: =IF(LOOKUP(D$83,'aux 1'!$KN$11:$LG$11,'aux 1'!$KN15:$LG15)="","",LOOKUP(LOOKUP(D$83,'aux 1'!$KN$11:$LG$11,'aux 1'!$KN15:$LG15),'aux 1'!$A$12:$A$231,'aux 1'!$AQ$12:$AQ$231)) | H88: =IF(I88="","","4 - ") | I88: =IF(LOOKUP(G$83,'aux 1'!$KN$11:$LG$11,'aux 1'!$KN15:$LG15)="","",LOOKUP(LOOKUP(G$83,'aux 1'!$KN$11:$LG$11,'aux 1'!$KN15:$LG15),'aux 1'!$A$12:$A$231,'aux 1'!$AQ$12:$AQ$231)) | K88: =IF(L88="","","4 - ") | L88: =IF(LOOKUP(J$83,'aux 1'!$KN$11:$LG$11,'aux 1'!$KN15:$LG15)="","",LOOKUP(LOOKUP(J$83,'aux 1'!$KN$11:$LG$11,'aux 1'!$KN15:$LG15),'aux 1'!$A$12:$A$231,'aux 1'!$AQ$12:$AQ$231))
B89: =IF(C89="","","5 - ") | C89: =IF(LOOKUP(A$83,'aux 1'!$KN$11:$LG$11,'aux 1'!$KN16:$LG16)="","",LOOKUP(LOOKUP(A$83,'aux 1'!$KN$11:$LG$11,'aux 1'!$KN16:$LG16),'aux 1'!$A$12:$A$231,'aux 1'!$AQ$12:$AQ$231)) | E89: =IF(F89="","","5 - ") | F89: =IF(LOOKUP(D$83,'aux 1'!$KN$11:$LG$11,'aux 1'!$KN16:$LG16)="","",LOOKUP(LOOKUP(D$83,'aux 1'!$KN$11:$LG$11,'aux 1'!$KN16:$LG16),'aux 1'!$A$12:$A$231,'aux 1'!$AQ$12:$AQ$231)) | H89: =IF(I89="","","5 - ") | I89: =IF(LOOKUP(G$83,'aux 1'!$KN$11:$LG$11,'aux 1'!$KN16:$LG16)="","",LOOKUP(LOOKUP(G$83,'aux 1'!$KN$11:$LG$11,'aux 1'!$KN16:$LG16),'aux 1'!$A$12:$A$231,'aux 1'!$AQ$12:$AQ$231)) | K89: =IF(L89="","","5 - ") | L89: =IF(LOOKUP(J$83,'aux 1'!$KN$11:$LG$11,'aux 1'!$KN16:$LG16)="","",LOOKUP(LOOKUP(J$83,'aux 1'!$KN$11:$LG$11,'aux 1'!$KN16:$LG16),'aux 1'!$A$12:$A$231,'aux 1'!$AQ$12:$AQ$231))
B90: =IF(C90="","","6 - ") | C90: =IF(LOOKUP(A$83,'aux 1'!$KN$11:$LG$11,'aux 1'!$KN17:$LG17)="","",LOOKUP(LOOKUP(A$83,'aux 1'!$KN$11:$LG$11,'aux 1'!$KN17:$LG17),'aux 1'!$A$12:$A$231,'aux 1'!$AQ$12:$AQ$231)) | E90: =IF(F90="","","6 - ") | F90: =IF(LOOKUP(D$83,'aux 1'!$KN$11:$LG$11,'aux 1'!$KN17:$LG17)="","",LOOKUP(LOOKUP(D$83,'aux 1'!$KN$11:$LG$11,'aux 1'!$KN17:$LG17),'aux 1'!$A$12:$A$231,'aux 1'!$AQ$12:$AQ$231)) | H90: =IF(I90="","","6 - ") | I90: =IF(LOOKUP(G$83,'aux 1'!$KN$11:$LG$11,'aux 1'!$KN17:$LG17)="","",LOOKUP(LOOKUP(G$83,'aux 1'!$KN$11:$LG$11,'aux 1'!$KN17:$LG17),'aux 1'!$A$12:$A$231,'aux 1'!$AQ$12:$AQ$231)) | K90: =IF(L90="","","6 - ") | L90: =IF(LOOKUP(J$83,'aux 1'!$KN$11:$LG$11,'aux 1'!$KN17:$LG17)="","",LOOKUP(LOOKUP(J$83,'aux 1'!$KN$11:$LG$11,'aux 1'!$KN17:$LG17),'aux 1'!$A$12:$A$231,'aux 1'!$AQ$12:$AQ$231))
B91: =IF(C91="","","7 - ") | C91: =IF(LOOKUP(A$83,'aux 1'!$KN$11:$LG$11,'aux 1'!$KN18:$LG18)="","",LOOKUP(LOOKUP(A$83,'aux 1'!$KN$11:$LG$11,'aux 1'!$KN18:$LG18),'aux 1'!$A$12:$A$231,'aux 1'!$AQ$12:$AQ$231)) | E91: =IF(F91="","","7 - ") | F91: =IF(LOOKUP(D$83,'aux 1'!$KN$11:$LG$11,'aux 1'!$KN18:$LG18)="","",LOOKUP(LOOKUP(D$83,'aux 1'!$KN$11:$LG$11,'aux 1'!$KN18:$LG18),'aux 1'!$A$12:$A$231,'aux 1'!$AQ$12:$AQ$231)) | H91: =IF(I91="","","7 - ") | I91: =IF(LOOKUP(G$83,'aux 1'!$KN$11:$LG$11,'aux 1'!$KN18:$LG18)="","",LOOKUP(LOOKUP(G$83,'aux 1'!$KN$11:$LG$11,'aux 1'!$KN18:$LG18),'aux 1'!$A$12:$A$231,'aux 1'!$AQ$12:$AQ$231)) | K91: =IF(L91="","","7 - ") | L91: =IF(LOOKUP(J$83,'aux 1'!$KN$11:$LG$11,'aux 1'!$KN18:$LG18)="","",LOOKUP(LOOKUP(J$83,'aux 1'!$KN$11:$LG$11,'aux 1'!$KN18:$LG18),'aux 1'!$A$12:$A$231,'aux 1'!$AQ$12:$AQ$231))
B92: =IF(C92="","","8 - ") | C92: =IF(LOOKUP(A$83,'aux 1'!$KN$11:$LG$11,'aux 1'!$KN19:$LG19)="","",LOOKUP(LOOKUP(A$83,'aux 1'!$KN$11:$LG$11,'aux 1'!$KN19:$LG19),'aux 1'!$A$12:$A$231,'aux 1'!$AQ$12:$AQ$231)) | E92: =IF(F92="","","8 - ") | F92: =IF(LOOKUP(D$83,'aux 1'!$KN$11:$LG$11,'aux 1'!$KN19:$LG19)="","",LOOKUP(LOOKUP(D$83,'aux 1'!$KN$11:$LG$11,'aux 1'!$KN19:$LG19),'aux 1'!$A$12:$A$231,'aux 1'!$AQ$12:$AQ$231)) | H92: =IF(I92="","","8 - ") | I92: =IF(LOOKUP(G$83,'aux 1'!$KN$11:$LG$11,'aux 1'!$KN19:$LG19)="","",LOOKUP(LOOKUP(G$83,'aux 1'!$KN$11:$LG$11,'aux 1'!$KN19:$LG19),'aux 1'!$A$12:$A$231,'aux 1'!$AQ$12:$AQ$231)) | K92: =IF(L92="","","8 - ") | L92: =IF(LOOKUP(J$83,'aux 1'!$KN$11:$LG$11,'aux 1'!$KN19:$LG19)="","",LOOKUP(LOOKUP(J$83,'aux 1'!$KN$11:$LG$11,'aux 1'!$KN19:$LG19),'aux 1'!$A$12:$A$231,'aux 1'!$AQ$12:$AQ$231))
B93: =IF(C93="","","9 - ") | C93: =IF(LOOKUP(A$83,'aux 1'!$KN$11:$LG$11,'aux 1'!$KN20:$LG20)="","",LOOKUP(LOOKUP(A$83,'aux 1'!$KN$11:$LG$11,'aux 1'!$KN20:$LG20),'aux 1'!$A$12:$A$231,'aux 1'!$AQ$12:$AQ$231)) | E93: =IF(F93="","","9 - ") | F93: =IF(LOOKUP(D$83,'aux 1'!$KN$11:$LG$11,'aux 1'!$KN20:$LG20)="","",LOOKUP(LOOKUP(D$83,'aux 1'!$KN$11:$LG$11,'aux 1'!$KN20:$LG20),'aux 1'!$A$12:$A$231,'aux 1'!$AQ$12:$AQ$231)) | H93: =IF(I93="","","9 - ") | I93: =IF(LOOKUP(G$83,'aux 1'!$KN$11:$LG$11,'aux 1'!$KN20:$LG20)="","",LOOKUP(LOOKUP(G$83,'aux 1'!$KN$11:$LG$11,'aux 1'!$KN20:$LG20),'aux 1'!$A$12:$A$231,'aux 1'!$AQ$12:$AQ$231)) | K93: =IF(L93="","","9 - ") | L93: =IF(LOOKUP(J$83,'aux 1'!$KN$11:$LG$11,'aux 1'!$KN20:$LG20)="","",LOOKUP(LOOKUP(J$83,'aux 1'!$KN$11:$LG$11,'aux 1'!$KN20:$LG20),'aux 1'!$A$12:$A$231,'aux 1'!$AQ$12:$AQ$231))
B94: =IF(C94="","","10 - ") | C94: =IF(LOOKUP(A$83,'aux 1'!$KN$11:$LG$11,'aux 1'!$KN21:$LG21)="","",LOOKUP(LOOKUP(A$83,'aux 1'!$KN$11:$LG$11,'aux 1'!$KN21:$LG21),'aux 1'!$A$12:$A$231,'aux 1'!$AQ$12:$AQ$231)) | E94: =IF(F94="","","10 - ") | F94: =IF(LOOKUP(D$83,'aux 1'!$KN$11:$LG$11,'aux 1'!$KN21:$LG21)="","",LOOKUP(LOOKUP(D$83,'aux 1'!$KN$11:$LG$11,'aux 1'!$KN21:$LG21),'aux 1'!$A$12:$A$231,'aux 1'!$AQ$12:$AQ$231)) | H94: =IF(I94="","","10 - ") | I94: =IF(LOOKUP(G$83,'aux 1'!$KN$11:$LG$11,'aux 1'!$KN21:$LG21)="","",LOOKUP(LOOKUP(G$83,'aux 1'!$KN$11:$LG$11,'aux 1'!$KN21:$LG21),'aux 1'!$A$12:$A$231,'aux 1'!$AQ$12:$AQ$231)) | K94: =IF(L94="","","10 - ") | L94: =IF(LOOKUP(J$83,'aux 1'!$KN$11:$LG$11,'aux 1'!$KN21:$LG21)="","",LOOKUP(LOOKUP(J$83,'aux 1'!$KN$11:$LG$11,'aux 1'!$KN21:$LG21),'aux 1'!$A$12:$A$231,'aux 1'!$AQ$12:$AQ$231))
B95: =IF(C95="","","11 - ") | C95: =IF(LOOKUP(A$83,'aux 1'!$KN$11:$LG$11,'aux 1'!$KN22:$LG22)="","",LOOKUP(LOOKUP(A$83,'aux 1'!$KN$11:$LG$11,'aux 1'!$KN22:$LG22),'aux 1'!$A$12:$A$231,'aux 1'!$AQ$12:$AQ$231)) | E95: =IF(F95="","","11 - ") | F95: =IF(LOOKUP(D$83,'aux 1'!$KN$11:$LG$11,'aux 1'!$KN22:$LG22)="","",LOOKUP(LOOKUP(D$83,'aux 1'!$KN$11:$LG$11,'aux 1'!$KN22:$LG22),'aux 1'!$A$12:$A$231,'aux 1'!$AQ$12:$AQ$231)) | H95: =IF(I95="","","11 - ") | I95: =IF(LOOKUP(G$83,'aux 1'!$KN$11:$LG$11,'aux 1'!$KN22:$LG22)="","",LOOKUP(LOOKUP(G$83,'aux 1'!$KN$11:$LG$11,'aux 1'!$KN22:$LG22),'aux 1'!$A$12:$A$231,'aux 1'!$AQ$12:$AQ$231)) | K95: =IF(L95="","","11 - ") | L95: =IF(LOOKUP(J$83,'aux 1'!$KN$11:$LG$11,'aux 1'!$KN22:$LG22)="","",LOOKUP(LOOKUP(J$83,'aux 1'!$KN$11:$LG$11,'aux 1'!$KN22:$LG22),'aux 1'!$A$12:$A$231,'aux 1'!$AQ$12:$AQ$231))
B96: =IF(C96="","","12 - ") | C96: =IF(LOOKUP(A$83,'aux 1'!$KN$11:$LG$11,'aux 1'!$KN23:$LG23)="","",LOOKUP(LOOKUP(A$83,'aux 1'!$KN$11:$LG$11,'aux 1'!$KN23:$LG23),'aux 1'!$A$12:$A$231,'aux 1'!$AQ$12:$AQ$231)) | E96: =IF(F96="","","12 - ") | F96: =IF(LOOKUP(D$83,'aux 1'!$KN$11:$LG$11,'aux 1'!$KN23:$LG23)="","",LOOKUP(LOOKUP(D$83,'aux 1'!$KN$11:$LG$11,'aux 1'!$KN23:$LG23),'aux 1'!$A$12:$A$231,'aux 1'!$AQ$12:$AQ$231)) | H96: =IF(I96="","","12 - ") | I96: =IF(LOOKUP(G$83,'aux 1'!$KN$11:$LG$11,'aux 1'!$KN23:$LG23)="","",LOOKUP(LOOKUP(G$83,'aux 1'!$KN$11:$LG$11,'aux 1'!$KN23:$LG23),'aux 1'!$A$12:$A$231,'aux 1'!$AQ$12:$AQ$231)) | K96: =IF(L96="","","12 - ") | L96: =IF(LOOKUP(J$83,'aux 1'!$KN$11:$LG$11,'aux 1'!$KN23:$LG23)="","",LOOKUP(LOOKUP(J$83,'aux 1'!$KN$11:$LG$11,'aux 1'!$KN23:$LG23),'aux 1'!$A$12:$A$231,'aux 1'!$AQ$12:$AQ$231))
B97: =IF(C97="","","13 - ") | C97: =IF(LOOKUP(A$83,'aux 1'!$KN$11:$LG$11,'aux 1'!$KN24:$LG24)="","",LOOKUP(LOOKUP(A$83,'aux 1'!$KN$11:$LG$11,'aux 1'!$KN24:$LG24),'aux 1'!$A$12:$A$231,'aux 1'!$AQ$12:$AQ$231)) | E97: =IF(F97="","","13 - ") | F97: =IF(LOOKUP(D$83,'aux 1'!$KN$11:$LG$11,'aux 1'!$KN24:$LG24)="","",LOOKUP(LOOKUP(D$83,'aux 1'!$KN$11:$LG$11,'aux 1'!$KN24:$LG24),'aux 1'!$A$12:$A$231,'aux 1'!$AQ$12:$AQ$231)) | H97: =IF(I97="","","13 - ") | I97: =IF(LOOKUP(G$83,'aux 1'!$KN$11:$LG$11,'aux 1'!$KN24:$LG24)="","",LOOKUP(LOOKUP(G$83,'aux 1'!$KN$11:$LG$11,'aux 1'!$KN24:$LG24),'aux 1'!$A$12:$A$231,'aux 1'!$AQ$12:$AQ$231)) | K97: =IF(L97="","","13 - ") | L97: =IF(LOOKUP(J$83,'aux 1'!$KN$11:$LG$11,'aux 1'!$KN24:$LG24)="","",LOOKUP(LOOKUP(J$83,'aux 1'!$KN$11:$LG$11,'aux 1'!$KN24:$LG24),'aux 1'!$A$12:$A$231,'aux 1'!$AQ$12:$AQ$231))
B98: =IF(C98="","","14 - ") | C98: =IF(LOOKUP(A$83,'aux 1'!$KN$11:$LG$11,'aux 1'!$KN25:$LG25)="","",LOOKUP(LOOKUP(A$83,'aux 1'!$KN$11:$LG$11,'aux 1'!$KN25:$LG25),'aux 1'!$A$12:$A$231,'aux 1'!$AQ$12:$AQ$231)) | E98: =IF(F98="","","14 - ") | F98: =IF(LOOKUP(D$83,'aux 1'!$KN$11:$LG$11,'aux 1'!$KN25:$LG25)="","",LOOKUP(LOOKUP(D$83,'aux 1'!$KN$11:$LG$11,'aux 1'!$KN25:$LG25),'aux 1'!$A$12:$A$231,'aux 1'!$AQ$12:$AQ$231)) | H98: =IF(I98="","","14 - ") | I98: =IF(LOOKUP(G$83,'aux 1'!$KN$11:$LG$11,'aux 1'!$KN25:$LG25)="","",LOOKUP(LOOKUP(G$83,'aux 1'!$KN$11:$LG$11,'aux 1'!$KN25:$LG25),'aux 1'!$A$12:$A$231,'aux 1'!$AQ$12:$AQ$231)) | K98: =IF(L98="","","14 - ") | L98: =IF(LOOKUP(J$83,'aux 1'!$KN$11:$LG$11,'aux 1'!$KN25:$LG25)="","",LOOKUP(LOOKUP(J$83,'aux 1'!$KN$11:$LG$11,'aux 1'!$KN25:$LG25),'aux 1'!$A$12:$A$231,'aux 1'!$AQ$12:$AQ$231))
B99: =IF(C99="","","15 - ") | C99: =IF(LOOKUP(A$83,'aux 1'!$KN$11:$LG$11,'aux 1'!$KN26:$LG26)="","",LOOKUP(LOOKUP(A$83,'aux 1'!$KN$11:$LG$11,'aux 1'!$KN26:$LG26),'aux 1'!$A$12:$A$231,'aux 1'!$AQ$12:$AQ$231)) | E99: =IF(F99="","","15 - ") | F99: =IF(LOOKUP(D$83,'aux 1'!$KN$11:$LG$11,'aux 1'!$KN26:$LG26)="","",LOOKUP(LOOKUP(D$83,'aux 1'!$KN$11:$LG$11,'aux 1'!$KN26:$LG26),'aux 1'!$A$12:$A$231,'aux 1'!$AQ$12:$AQ$231)) | H99: =IF(I99="","","15 - ") | I99: =IF(LOOKUP(G$83,'aux 1'!$KN$11:$LG$11,'aux 1'!$KN26:$LG26)="","",LOOKUP(LOOKUP(G$83,'aux 1'!$KN$11:$LG$11,'aux 1'!$KN26:$LG26),'aux 1'!$A$12:$A$231,'aux 1'!$AQ$12:$AQ$231)) | K99: =IF(L99="","","15 - ") | L99: =IF(LOOKUP(J$83,'aux 1'!$KN$11:$LG$11,'aux 1'!$KN26:$LG26)="","",LOOKUP(LOOKUP(J$83,'aux 1'!$KN$11:$LG$11,'aux 1'!$KN26:$LG26),'aux 1'!$A$12:$A$231,'aux 1'!$AQ$12:$AQ$231))
B100: =IF(C100="","","16 - ") | C100: =IF(LOOKUP(A$83,'aux 1'!$KN$11:$LG$11,'aux 1'!$KN27:$LG27)="","",LOOKUP(LOOKUP(A$83,'aux 1'!$KN$11:$LG$11,'aux 1'!$KN27:$LG27),'aux 1'!$A$12:$A$231,'aux 1'!$AQ$12:$AQ$231)) | E100: =IF(F100="","","16 - ") | F100: =IF(LOOKUP(D$83,'aux 1'!$KN$11:$LG$11,'aux 1'!$KN27:$LG27)="","",LOOKUP(LOOKUP(D$83,'aux 1'!$KN$11:$LG$11,'aux 1'!$KN27:$LG27),'aux 1'!$A$12:$A$231,'aux 1'!$AQ$12:$AQ$231)) | H100: =IF(I100="","","16 - ") | I100: =IF(LOOKUP(G$83,'aux 1'!$KN$11:$LG$11,'aux 1'!$KN27:$LG27)="","",LOOKUP(LOOKUP(G$83,'aux 1'!$KN$11:$LG$11,'aux 1'!$KN27:$LG27),'aux 1'!$A$12:$A$231,'aux 1'!$AQ$12:$AQ$231)) | K100: =IF(L100="","","16 - ") | L100: =IF(LOOKUP(J$83,'aux 1'!$KN$11:$LG$11,'aux 1'!$KN27:$LG27)="","",LOOKUP(LOOKUP(J$83,'aux 1'!$KN$11:$LG$11,'aux 1'!$KN27:$LG27),'aux 1'!$A$12:$A$231,'aux 1'!$AQ$12:$AQ$231))

Sheet Cadastro
A1: Identificação
A2: =Formulário!C3 -> Matrícula: | B2: =IF(Formulário!D3="","",Formulário!D3) | O2: =IF(Formulário!Q3="","",Formulário!Q3)
A3: =Formulário!C4 -> Aluno: | B3: =IF(Formulário!D4="","",IF(Formulário!D4='aux 7'!C8,Formulário!J4,Formulário!D4)) | O3: =IF(Formulário!Q4="","",Formulário!Q4)
A5: Endereço para Contato
A6: Obs.: todos os campos são obrigatórios exceto o Complemento
B7: Principal | F7: Alternativo (se existir)
A8: Logradouro:
A9: Número:
A10: Complemento:
A11: Bairro:
A12: Cidade:
A13: Estado:
A14: Cep.:
A16: Telefone e E-mail para contato
A17: Obs.: é obrigatório informar pelo menos um número de celular, um número de telefone fixo e um endereço eletrônico - usar sempre as células indicadas com (1)
B18: Principal | D18: Alternativos (se existir e quantos achar necessário)
A19: Celular: | B19: cod. | C19: número (1) | D19: cod. | E19: número (2) | F19: cod. | G19: número (3) | H19: cod. | I19: número (4)
A20: (código de área e número)
A21: Fixo: | B21: cod. | C21: número (1) | D21: cod. | E21: número (2) | F21: cod. | G21: número (3) | H21: cod. | I21: número (4)
A22: (código de área e número)
A23: Endereço eletrônico: | B23: mail (principal):
B24: mail (alternativo):

Sheet Horário
A3: =IF('aux 4'!D5="","",'aux 4'!D5) -> Opt. Humanas - LPROD | J3: ="Disciplinas" -> Disciplinas | N3: Turma | O3: Sala | P3: Professor
A4: Horário | D4: segunda | E4: terça | F4: quarta | G4: quinta | H4: sexta
A5: 7 | B5: - | C5: =A5+1 -> 8 | D5: ='aux 4'!D8 | E5: ='aux 4'!E8 | F5: ='aux 4'!F8 | G5: ='aux 4'!G8 | H5: ='aux 4'!H8 | J5: =IF(L5="","",1) | K5: =IF(L5="",""," - ") | L5: =IF('aux 4'!U3="","",LOOKUP('aux 4'!U3,'aux 1'!$A$12:$A$231,'aux 1'!$AP$12:$AP$231)) | M5: =IF('aux 4'!U3="","",IF(LOOKUP('aux 4'!U3,'aux 1'!$A$12:$A$231,'aux 1'!$B$12:$B$231)=0,"",LOOKUP('aux 4'!U3,'aux 1'!$A$12:$A$231,'aux 1'!$B$12:$B$231))) | N5: =IF('aux 4'!U3="","",IF(LOOKUP('aux 4'!U3,'aux 1'!$A$12:$A$231,'aux 1'!$F$12:$F$231)=0,"",LOOKUP('aux 4'!U3,'aux 1'!$A$12:$A$231,'aux 1'!$F$12:$F$231))) | O5: =IF('aux 4'!U3="","",IF(LOOKUP('aux 4'!U3,'aux 1'!$A$12:$A$231,'aux 1'!$G$12:$G$231)="","",LOOKUP('aux 4'!U3,'aux 1'!$A$12:$A$231,'aux 1'!$G$12:$G$231))) | P5: =IF('aux 4'!U3="","",IF(LOOKUP('aux 4'!U3,'aux 1'!$A$12:$A$231,'aux 1'!$Y$12:$Y$231)=0,"",LOOKUP('aux 4'!U3,'aux 1'!$A$12:$A$231,'aux 1'!$Y$12:$Y$231)))
A6: =C5 -> 8 | B6: =B5 -> - | C6: =A6+1 -> 9 | D6: ='aux 4'!D9 | E6: ='aux 4'!E9 | F6: ='aux 4'!F9 | G6: ='aux 4'!G9 | H6: ='aux 4'!H9 | J6: =IF(L6="","",J5+1) | K6: =IF(L6="",""," - ") | L6: =IF('aux 4'!U4="","",LOOKUP('aux 4'!U4,'aux 1'!$A$12:$A$231,'aux 1'!$AP$12:$AP$231)) | M6: =IF('aux 4'!U4="","",IF(LOOKUP('aux 4'!U4,'aux 1'!$A$12:$A$231,'aux 1'!$B$12:$B$231)=0,"",LOOKUP('aux 4'!U4,'aux 1'!$A$12:$A$231,'aux 1'!$B$12:$B$231))) | N6: =IF('aux 4'!U4="","",IF(LOOKUP('aux 4'!U4,'aux 1'!$A$12:$A$231,'aux 1'!$F$12:$F$231)=0,"",LOOKUP('aux 4'!U4,'aux 1'!$A$12:$A$231,'aux 1'!$F$12:$F$231))) | O6: =IF('aux 4'!U4="","",IF(LOOKUP('aux 4'!U4,'aux 1'!$A$12:$A$231,'aux 1'!$G$12:$G$231)="","",LOOKUP('aux 4'!U4,'aux 1'!$A$12:$A$231,'aux 1'!$G$12:$G$231))) | P6: =IF('aux 4'!U4="","",IF(LOOKUP('aux 4'!U4,'aux 1'!$A$12:$A$231,'aux 1'!$Y$12:$Y$231)=0,"",LOOKUP('aux 4'!U4,'aux 1'!$A$12:$A$231,'aux 1'!$Y$12:$Y$231)))
A7: =C6 -> 9 | B7: =B6 -> - | C7: =A7+1 -> 10 | D7: ='aux 4'!D10 | E7: ='aux 4'!E10 | F7: ='aux 4'!F10 | G7: ='aux 4'!G10 | H7: ='aux 4'!H10 | J7: =IF(L7="","",J6+1) | K7: =IF(L7="",""," - ") | L7: =IF('aux 4'!U5="","",LOOKUP('aux 4'!U5,'aux 1'!$A$12:$A$231,'aux 1'!$AP$12:$AP$231)) | M7: =IF('aux 4'!U5="","",IF(LOOKUP('aux 4'!U5,'aux 1'!$A$12:$A$231,'aux 1'!$B$12:$B$231)=0,"",LOOKUP('aux 4'!U5,'aux 1'!$A$12:$A$231,'aux 1'!$B$12:$B$231))) | N7: =IF('aux 4'!U5="","",IF(LOOKUP('aux 4'!U5,'aux 1'!$A$12:$A$231,'aux 1'!$F$12:$F$231)=0,"",LOOKUP('aux 4'!U5,'aux 1'!$A$12:$A$231,'aux 1'!$F$12:$F$231))) | O7: =IF('aux 4'!U5="","",IF(LOOKUP('aux 4'!U5,'aux 1'!$A$12:$A$231,'aux 1'!$G$12:$G$231)="","",LOOKUP('aux 4'!U5,'aux 1'!$A$12:$A$231,'aux 1'!$G$12:$G$231))) | P7: =IF('aux 4'!U5="","",IF(LOOKUP('aux 4'!U5,'aux 1'!$A$12:$A$231,'aux 1'!$Y$12:$Y$231)=0,"",LOOKUP('aux 4'!U5,'aux 1'!$A$12:$A$231,'aux 1'!$Y$12:$Y$231)))
A8: =C7 -> 10 | B8: =B7 -> - | C8: =A8+1 -> 11 | D8: ='aux 4'!D11 | E8: ='aux 4'!E11 | F8: ='aux 4'!F11 | G8: ='aux 4'!G11 | H8: ='aux 4'!H11 | J8: =IF(L8="","",J7+1) | K8: =IF(L8="",""," - ") | L8: =IF('aux 4'!U6="","",LOOKUP('aux 4'!U6,'aux 1'!$A$12:$A$231,'aux 1'!$AP$12:$AP$231)) | M8: =IF('aux 4'!U6="","",IF(LOOKUP('aux 4'!U6,'aux 1'!$A$12:$A$231,'aux 1'!$B$12:$B$231)=0,"",LOOKUP('aux 4'!U6,'aux 1'!$A$12:$A$231,'aux 1'!$B$12:$B$231))) | N8: =IF('aux 4'!U6="","",IF(LOOKUP('aux 4'!U6,'aux 1'!$A$12:$A$231,'aux 1'!$F$12:$F$231)=0,"",LOOKUP('aux 4'!U6,'aux 1'!$A$12:$A$231,'aux 1'!$F$12:$F$231))) | O8: =IF('aux 4'!U6="","",IF(LOOKUP('aux 4'!U6,'aux 1'!$A$12:$A$231,'aux 1'!$G$12:$G$231)="","",LOOKUP('aux 4'!U6,'aux 1'!$A$12:$A$231,'aux 1'!$G$12:$G$231))) | P8: =IF('aux 4'!U6="","",IF(LOOKUP('aux 4'!U6,'aux 1'!$A$12:$A$231,'aux 1'!$Y$12:$Y$231)=0,"",LOOKUP('aux 4'!U6,'aux 1'!$A$12:$A$231,'aux 1'!$Y$12:$Y$231)))
A9: =C8 -> 11 | B9: =B8 -> - | C9: =A9+1 -> 12 | D9: ='aux 4'!D12 | E9: ='aux 4'!E12 | F9: ='aux 4'!F12 | G9: ='aux 4'!G12 | H9: ='aux 4'!H12 | J9: =IF(L9="","",J8+1) | K9: =IF(L9="",""," - ") | L9: =IF('aux 4'!U7="","",LOOKUP('aux 4'!U7,'aux 1'!$A$12:$A$231,'aux 1'!$AP$12:$AP$231)) | M9: =IF('aux 4'!U7="","",IF(LOOKUP('aux 4'!U7,'aux 1'!$A$12:$A$231,'aux 1'!$B$12:$B$231)=0,"",LOOKUP('aux 4'!U7,'aux 1'!$A$12:$A$231,'aux 1'!$B$12:$B$231))) | N9: =IF('aux 4'!U7="","",IF(LOOKUP('aux 4'!U7,'aux 1'!$A$12:$A$231,'aux 1'!$F$12:$F$231)=0,"",LOOKUP('aux 4'!U7,'aux 1'!$A$12:$A$231,'aux 1'!$F$12:$F$231))) | O9: =IF('aux 4'!U7="","",IF(LOOKUP('aux 4'!U7,'aux 1'!$A$12:$A$231,'aux 1'!$G$12:$G$231)="","",LOOKUP('aux 4'!U7,'aux 1'!$A$12:$A$231,'aux 1'!$G$12:$G$231))) | P9: =IF('aux 4'!U7="","",IF(LOOKUP('aux 4'!U7,'aux 1'!$A$12:$A$231,'aux 1'!$Y$12:$Y$231)=0,"",LOOKUP('aux 4'!U7,'aux 1'!$A$12:$A$231,'aux 1'!$Y$12:$Y$231)))
A10: =C9 -> 12 | B10: =B9 -> - | C10: =A10+1 -> 13 | D10: ='aux 4'!D13 | E10: ='aux 4'!E13 | F10: ='aux 4'!F13 | G10: ='aux 4'!G13 | H10: ='aux 4'!H13 | J10: =IF(L10="","",J9+1) | K10: =IF(L10="",""," - ") | L10: =IF('aux 4'!U8="","",LOOKUP('aux 4'!U8,'aux 1'!$A$12:$A$231,'aux 1'!$AP$12:$AP$231)) | M10: =IF('aux 4'!U8="","",IF(LOOKUP('aux 4'!U8,'aux 1'!$A$12:$A$231,'aux 1'!$B$12:$B$231)=0,"",LOOKUP('aux 4'!U8,'aux 1'!$A$12:$A$231,'aux 1'!$B$12:$B$231))) | N10: =IF('aux 4'!U8="","",IF(LOOKUP('aux 4'!U8,'aux 1'!$A$12:$A$231,'aux 1'!$F$12:$F$231)=0,"",LOOKUP('aux 4'!U8,'aux 1'!$A$12:$A$231,'aux 1'!$F$12:$F$231))) | O10: =IF('aux 4'!U8="","",IF(LOOKUP('aux 4'!U8,'aux 1'!$A$12:$A$231,'aux 1'!$G$12:$G$231)="","",LOOKUP('aux 4'!U8,'aux 1'!$A$12:$A$231,'aux 1'!$G$12:$G$231))) | P10: =IF('aux 4'!U8="","",IF(LOOKUP('aux 4'!U8,'aux 1'!$A$12:$A$231,'aux 1'!$Y$12:$Y$231)=0,"",LOOKUP('aux 4'!U8,'aux 1'!$A$12:$A$231,'aux 1'!$Y$12:$Y$231)))
A11: =C10 -> 13 | B11: =B10 -> - | C11: =A11+1 -> 14 | D11: ='aux 4'!D14 | E11: ='aux 4'!E14 | F11: ='aux 4'!F14 | G11: ='aux 4'!G14 | H11: ='aux 4'!H14 | J11: =IF(L11="","",J10+1) | K11: =IF(L11="",""," - ") | L11: =IF('aux 4'!U9="","",LOOKUP('aux 4'!U9,'aux 1'!$A$12:$A$231,'aux 1'!$AP$12:$AP$231)) | M11: =IF('aux 4'!U9="","",IF(LOOKUP('aux 4'!U9,'aux 1'!$A$12:$A$231,'aux 1'!$B$12:$B$231)=0,"",LOOKUP('aux 4'!U9,'aux 1'!$A$12:$A$231,'aux 1'!$B$12:$B$231))) | N11: =IF('aux 4'!U9="","",IF(LOOKUP('aux 4'!U9,'aux 1'!$A$12:$A$231,'aux 1'!$F$12:$F$231)=0,"",LOOKUP('aux 4'!U9,'aux 1'!$A$12:$A$231,'aux 1'!$F$12:$F$231))) | O11: =IF('aux 4'!U9="","",IF(LOOKUP('aux 4'!U9,'aux 1'!$A$12:$A$231,'aux 1'!$G$12:$G$231)="","",LOOKUP('aux 4'!U9,'aux 1'!$A$12:$A$231,'aux 1'!$G$12:$G$231))) | P11: =IF('aux 4'!U9="","",IF(LOOKUP('aux 4'!U9,'aux 1'!$A$12:$A$231,'aux 1'!$Y$12:$Y$231)=0,"",LOOKUP('aux 4'!U9,'aux 1'!$A$12:$A$231,'aux 1'!$Y$12:$Y$231)))
A12: =C11 -> 14 | B12: =B11 -> - | C12: =A12+1 -> 15 | D12: ='aux 4'!D15 | E12: ='aux 4'!E15 | F12: ='aux 4'!F15 | G12: ='aux 4'!G15 | H12: ='aux 4'!H15 | J12: =IF(L12="","",J11+1) | K12: =IF(L12="",""," - ") | L12: =IF('aux 4'!U10="","",LOOKUP('aux 4'!U10,'aux 1'!$A$12:$A$231,'aux 1'!$AP$12:$AP$231)) | M12: =IF('aux 4'!U10="","",IF(LOOKUP('aux 4'!U10,'aux 1'!$A$12:$A$231,'aux 1'!$B$12:$B$231)=0,"",LOOKUP('aux 4'!U10,'aux 1'!$A$12:$A$231,'aux 1'!$B$12:$B$231))) | N12: =IF('aux 4'!U10="","",IF(LOOKUP('aux 4'!U10,'aux 1'!$A$12:$A$231,'aux 1'!$F$12:$F$231)=0,"",LOOKUP('aux 4'!U10,'aux 1'!$A$12:$A$231,'aux 1'!$F$12:$F$231))) | O12: =IF('aux 4'!U10="","",IF(LOOKUP('aux 4'!U10,'aux 1'!$A$12:$A$231,'aux 1'!$G$12:$G$231)="","",LOOKUP('aux 4'!U10,'aux 1'!$A$12:$A$231,'aux 1'!$G$12:$G$231))) | P12: =IF('aux 4'!U10="","",IF(LOOKUP('aux 4'!U10,'aux 1'!$A$12:$A$231,'aux 1'!$Y$12:$Y$231)=0,"",LOOKUP('aux 4'!U10,'aux 1'!$A$12:$A$231,'aux 1'!$Y$12:$Y$231)))
A13: =C12 -> 15 | B13: =B12 -> - | C13: =A13+1 -> 16 | D13: ='aux 4'!D16 | E13: ='aux 4'!E16 | F13: ='aux 4'!F16 | G13: ='aux 4'!G16 | H13: ='aux 4'!H16 | J13: =IF(L13="","",J12+1) | K13: =IF(L13="",""," - ") | L13: =IF('aux 4'!U11="","",LOOKUP('aux 4'!U11,'aux 1'!$A$12:$A$231,'aux 1'!$AP$12:$AP$231)) | M13: =IF('aux 4'!U11="","",IF(LOOKUP('aux 4'!U11,'aux 1'!$A$12:$A$231,'aux 1'!$B$12:$B$231)=0,"",LOOKUP('aux 4'!U11,'aux 1'!$A$12:$A$231,'aux 1'!$B$12:$B$231))) | N13: =IF('aux 4'!U11="","",IF(LOOKUP('aux 4'!U11,'aux 1'!$A$12:$A$231,'aux 1'!$F$12:$F$231)=0,"",LOOKUP('aux 4'!U11,'aux 1'!$A$12:$A$231,'aux 1'!$F$12:$F$231))) | O13: =IF('aux 4'!U11="","",IF(LOOKUP('aux 4'!U11,'aux 1'!$A$12:$A$231,'aux 1'!$G$12:$G$231)="","",LOOKUP('aux 4'!U11,'aux 1'!$A$12:$A$231,'aux 1'!$G$12:$G$231))) | P13: =IF('aux 4'!U11="","",IF(LOOKUP('aux 4'!U11,'aux 1'!$A$12:$A$231,'aux 1'!$Y$12:$Y$231)=0,"",LOOKUP('aux 4'!U11,'aux 1'!$A$12:$A$231,'aux 1'!$Y$12:$Y$231)))
A14: =C13 -> 16 | B14: =B13 -> - | C14: =A14+1 -> 17 | D14: ='aux 4'!D17 | E14: ='aux 4'!E17 | F14: ='aux 4'!F17 | G14: ='aux 4'!G17 | H14: ='aux 4'!H17 | J14: =IF(L14="","",J13+1) | K14: =IF(L14="",""," - ") | L14: =IF('aux 4'!U12="","",LOOKUP('aux 4'!U12,'aux 1'!$A$12:$A$231,'aux 1'!$AP$12:$AP$231)) | M14: =IF('aux 4'!U12="","",IF(LOOKUP('aux 4'!U12,'aux 1'!$A$12:$A$231,'aux 1'!$B$12:$B$231)=0,"",LOOKUP('aux 4'!U12,'aux 1'!$A$12:$A$231,'aux 1'!$B$12:$B$231))) | N14: =IF('aux 4'!U12="","",IF(LOOKUP('aux 4'!U12,'aux 1'!$A$12:$A$231,'aux 1'!$F$12:$F$231)=0,"",LOOKUP('aux 4'!U12,'aux 1'!$A$12:$A$231,'aux 1'!$F$12:$F$231))) | O14: =IF('aux 4'!U12="","",IF(LOOKUP('aux 4'!U12,'aux 1'!$A$12:$A$231,'aux 1'!$G$12:$G$231)="","",LOOKUP('aux 4'!U12,'aux 1'!$A$12:$A$231,'aux 1'!$G$12:$G$231))) | P14: =IF('aux 4'!U12="","",IF(LOOKUP('aux 4'!U12,'aux 1'!$A$12:$A$231,'aux 1'!$Y$12:$Y$231)=0,"",LOOKUP('aux 4'!U12,'aux 1'!$A$12:$A$231,'aux 1'!$Y$12:$Y$231)))
A15: =C14 -> 17 | B15: =B14 -> - | C15: =A15+1 -> 18 | D15: ='aux 4'!D18 | E15: ='aux 4'!E18 | F15: ='aux 4'!F18 | G15: ='aux 4'!G18 | H15: ='aux 4'!H18 | J15: =IF(L15="","",J14+1) | K15: =IF(L15="",""," - ") | L15: =IF('aux 4'!U13="","",LOOKUP('aux 4'!U13,'aux 1'!$A$12:$A$231,'aux 1'!$AP$12:$AP$231)) | M15: =IF('aux 4'!U13="","",IF(LOOKUP('aux 4'!U13,'aux 1'!$A$12:$A$231,'aux 1'!$B$12:$B$231)=0,"",LOOKUP('aux 4'!U13,'aux 1'!$A$12:$A$231,'aux 1'!$B$12:$B$231))) | N15: =IF('aux 4'!U13="","",IF(LOOKUP('aux 4'!U13,'aux 1'!$A$12:$A$231,'aux 1'!$F$12:$F$231)=0,"",LOOKUP('aux 4'!U13,'aux 1'!$A$12:$A$231,'aux 1'!$F$12:$F$231))) | O15: =IF('aux 4'!U13="","",IF(LOOKUP('aux 4'!U13,'aux 1'!$A$12:$A$231,'aux 1'!$G$12:$G$231)="","",LOOKUP('aux 4'!U13,'aux 1'!$A$12:$A$231,'aux 1'!$G$12:$G$231))) | P15: =IF('aux 4'!U13="","",IF(LOOKUP('aux 4'!U13,'aux 1'!$A$12:$A$231,'aux 1'!$Y$12:$Y$231)=0,"",LOOKUP('aux 4'!U13,'aux 1'!$A$12:$A$231,'aux 1'!$Y$12:$Y$231)))
A16: =C15 -> 18 | B16: =B15 -> - | C16: =A16+1 -> 19 | D16: ='aux 4'!D19 | E16: ='aux 4'!E19 | F16: ='aux 4'!F19 | G16: ='aux 4'!G19 | H16: ='aux 4'!H19 | J16: =IF(L16="","",J15+1) | K16: =IF(L16="",""," - ") | L16: =IF('aux 4'!U14="","",LOOKUP('aux 4'!U14,'aux 1'!$A$12:$A$231,'aux 1'!$AP$12:$AP$231)) | M16: =IF('aux 4'!U14="","",IF(LOOKUP('aux 4'!U14,'aux 1'!$A$12:$A$231,'aux 1'!$B$12:$B$231)=0,"",LOOKUP('aux 4'!U14,'aux 1'!$A$12:$A$231,'aux 1'!$B$12:$B$231))) | N16: =IF('aux 4'!U14="","",IF(LOOKUP('aux 4'!U14,'aux 1'!$A$12:$A$231,'aux 1'!$F$12:$F$231)=0,"",LOOKUP('aux 4'!U14,'aux 1'!$A$12:$A$231,'aux 1'!$F$12:$F$231))) | O16: =IF('aux 4'!U14="","",IF(LOOKUP('aux 4'!U14,'aux 1'!$A$12:$A$231,'aux 1'!$G$12:$G$231)="","",LOOKUP('aux 4'!U14,'aux 1'!$A$12:$A$231,'aux 1'!$G$12:$G$231))) | P16: =IF('aux 4'!U14="","",IF(LOOKUP('aux 4'!U14,'aux 1'!$A$12:$A$231,'aux 1'!$Y$12:$Y$231)=0,"",LOOKUP('aux 4'!U14,'aux 1'!$A$12:$A$231,'aux 1'!$Y$12:$Y$231)))
A17: =C16 -> 19 | B17: =B16 -> - | C17: =A17+1 -> 20 | D17: ='aux 4'!D20 | E17: ='aux 4'!E20 | F17: ='aux 4'!F20 | G17: ='aux 4'!G20 | H17: ='aux 4'!H20 | J17: =IF(L17="","",J16+1) | K17: =IF(L17="",""," - ") | L17: =IF('aux 4'!U15="","",LOOKUP('aux 4'!U15,'aux 1'!$A$12:$A$231,'aux 1'!$AP$12:$AP$231)) | M17: =IF('aux 4'!U15="","",IF(LOOKUP('aux 4'!U15,'aux 1'!$A$12:$A$231,'aux 1'!$B$12:$B$231)=0,"",LOOKUP('aux 4'!U15,'aux 1'!$A$12:$A$231,'aux 1'!$B$12:$B$231))) | N17: =IF('aux 4'!U15="","",IF(LOOKUP('aux 4'!U15,'aux 1'!$A$12:$A$231,'aux 1'!$F$12:$F$231)=0,"",LOOKUP('aux 4'!U15,'aux 1'!$A$12:$A$231,'aux 1'!$F$12:$F$231))) | O17: =IF('aux 4'!U15="","",IF(LOOKUP('aux 4'!U15,'aux 1'!$A$12:$A$231,'aux 1'!$G$12:$G$231)="","",LOOKUP('aux 4'!U15,'aux 1'!$A$12:$A$231,'aux 1'!$G$12:$G$231))) | P17: =IF('aux 4'!U15="","",IF(LOOKUP('aux 4'!U15,'aux 1'!$A$12:$A$231,'aux 1'!$Y$12:$Y$231)=0,"",LOOKUP('aux 4'!U15,'aux 1'!$A$12:$A$231,'aux 1'!$Y$12:$Y$231)))
... A19: =C18 -> 21 | B19: =B18 -> - | C19: =A19+1 -> 22 | D19: ='aux 4'!D22 | E19: ='aux 4'!E22 | F19: ='aux 4'!F22 | G19: ='aux 4'!G22 | H19: ='aux 4'!H22 | J19: =IF(L19="","",J18+1) | K19: =IF(L19="",""," - ") | L19: =IF('aux 4'!U17="","",LOOKUP('aux 4'!U17,'aux 1'!$A$12:$A$231,'aux 1'!$AP$12:$AP$231)) | M19: =IF('aux 4'!U17="","",IF(LOOKUP('aux 4'!U17,'aux 1'!$A$12:$A$231,'aux 1'!$B$12:$B$231)=0,"",LOOKUP('aux 4'!U17,'aux 1'!$A$12:$A$231,'aux 1'!$B$12:$B$231))) | N19: =IF('aux 4'!U17="","",IF(LOOKUP('aux 4'!U17,'aux 1'!$A$12:$A$231,'aux 1'!$F$12:$F$231)=0,"",LOOKUP('aux 4'!U17,'aux 1'!$A$12:$A$231,'aux 1'!$F$12:$F$231))) | O19: =IF('aux 4'!U17="","",IF(LOOKUP('aux 4'!U17,'aux 1'!$A$12:$A$231,'aux 1'!$G$12:$G$231)="","",LOOKUP('aux 4'!U17,'aux 1'!$A$12:$A$231,'aux 1'!$G$12:$G$231))) | P19: =IF('aux 4'!U17="","",IF(LOOKUP('aux 4'!U17,'aux 1'!$A$12:$A$231,'aux 1'!$Y$12:$Y$231)=0,"",LOOKUP('aux 4'!U17,'aux 1'!$A$12:$A$231,'aux 1'!$Y$12:$Y$231)))
A20: (*) Disciplinas sujeitas a mudanças de horários devido a disponibilidade de professores | J20: =IF(L20="","",J19+1) | K20: =IF(L20="",""," - ") | L20: =IF('aux 4'!U18="","",LOOKUP('aux 4'!U18,'aux 1'!$A$12:$A$231,'aux 1'!$AP$12:$AP$231)) | M20: =IF('aux 4'!U18="","",IF(LOOKUP('aux 4'!U18,'aux 1'!$A$12:$A$231,'aux 1'!$B$12:$B$231)=0,"",LOOKUP('aux 4'!U18,'aux 1'!$A$12:$A$231,'aux 1'!$B$12:$B$231))) | N20: =IF('aux 4'!U18="","",IF(LOOKUP('aux 4'!U18,'aux 1'!$A$12:$A$231,'aux 1'!$F$12:$F$231)=0,"",LOOKUP('aux 4'!U18,'aux 1'!$A$12:$A$231,'aux 1'!$F$12:$F$231))) | O20: =IF('aux 4'!U18="","",IF(LOOKUP('aux 4'!U18,'aux 1'!$A$12:$A$231,'aux 1'!$G$12:$G$231)="","",LOOKUP('aux 4'!U18,'aux 1'!$A$12:$A$231,'aux 1'!$G$12:$G$231))) | P20: =IF('aux 4'!U18="","",IF(LOOKUP('aux 4'!U18,'aux 1'!$A$12:$A$231,'aux 1'!$Y$12:$Y$231)=0,"",LOOKUP('aux 4'!U18,'aux 1'!$A$12:$A$231,'aux 1'!$Y$12:$Y$231)))
J21: =IF(L21="","",J20+1) | K21: =IF(L21="",""," - ") | L21: =IF('aux 4'!U19="","",LOOKUP('aux 4'!U19,'aux 1'!$A$12:$A$231,'aux 1'!$AP$12:$AP$231)) | M21: =IF('aux 4'!U19="","",IF(LOOKUP('aux 4'!U19,'aux 1'!$A$12:$A$231,'aux 1'!$B$12:$B$231)=0,"",LOOKUP('aux 4'!U19,'aux 1'!$A$12:$A$231,'aux 1'!$B$12:$B$231))) | N21: =IF('aux 4'!U19="","",IF(LOOKUP('aux 4'!U19,'aux 1'!$A$12:$A$231,'aux 1'!$F$12:$F$231)=0,"",LOOKUP('aux 4'!U19,'aux 1'!$A$12:$A$231,'aux 1'!$F$12:$F$231))) | O21: =IF('aux 4'!U19="","",IF(LOOKUP('aux 4'!U19,'aux 1'!$A$12:$A$231,'aux 1'!$G$12:$G$231)="","",LOOKUP('aux 4'!U19,'aux 1'!$A$12:$A$231,'aux 1'!$G$12:$G$231))) | P21: =IF('aux 4'!U19="","",IF(LOOKUP('aux 4'!U19,'aux 1'!$A$12:$A$231,'aux 1'!$Y$12:$Y$231)=0,"",LOOKUP('aux 4'!U19,'aux 1'!$A$12:$A$231,'aux 1'!$Y$12:$Y$231)))
J22: =IF(L22="","",J21+1) | K22: =IF(L22="",""," - ") | L22: =IF('aux 4'!U20="","",LOOKUP('aux 4'!U20,'aux 1'!$A$12:$A$231,'aux 1'!$AP$12:$AP$231)) | M22: =IF('aux 4'!U20="","",IF(LOOKUP('aux 4'!U20,'aux 1'!$A$12:$A$231,'aux 1'!$B$12:$B$231)=0,"",LOOKUP('aux 4'!U20,'aux 1'!$A$12:$A$231,'aux 1'!$B$12:$B$231))) | N22: =IF('aux 4'!U20="","",IF(LOOKUP('aux 4'!U20,'aux 1'!$A$12:$A$231,'aux 1'!$F$12:$F$231)=0,"",LOOKUP('aux 4'!U20,'aux 1'!$A$12:$A$231,'aux 1'!$F$12:$F$231))) | O22: =IF('aux 4'!U20="","",IF(LOOKUP('aux 4'!U20,'aux 1'!$A$12:$A$231,'aux 1'!$G$12:$G$231)="","",LOOKUP('aux 4'!U20,'aux 1'!$A$12:$A$231,'aux 1'!$G$12:$G$231))) | P22: =IF('aux 4'!U20="","",IF(LOOKUP('aux 4'!U20,'aux 1'!$A$12:$A$231,'aux 1'!$Y$12:$Y$231)=0,"",LOOKUP('aux 4'!U20,'aux 1'!$A$12:$A$231,'aux 1'!$Y$12:$Y$231)))
J23: =IF(L23="","",J22+1) | K23: =IF(L23="",""," - ") | L23: =IF('aux 4'!U21="","",LOOKUP('aux 4'!U21,'aux 1'!$A$12:$A$231,'aux 1'!$AP$12:$AP$231)) | M23: =IF('aux 4'!U21="","",IF(LOOKUP('aux 4'!U21,'aux 1'!$A$12:$A$231,'aux 1'!$B$12:$B$231)=0,"",LOOKUP('aux 4'!U21,'aux 1'!$A$12:$A$231,'aux 1'!$B$12:$B$231))) | N23: =IF('aux 4'!U21="","",IF(LOOKUP('aux 4'!U21,'aux 1'!$A$12:$A$231,'aux 1'!$F$12:$F$231)=0,"",LOOKUP('aux 4'!U21,'aux 1'!$A$12:$A$231,'aux 1'!$F$12:$F$231))) | O23: =IF('aux 4'!U21="","",IF(LOOKUP('aux 4'!U21,'aux 1'!$A$12:$A$231,'aux 1'!$G$12:$G$231)="","",LOOKUP('aux 4'!U21,'aux 1'!$A$12:$A$231,'aux 1'!$G$12:$G$231))) | P23: =IF('aux 4'!U21="","",IF(LOOKUP('aux 4'!U21,'aux 1'!$A$12:$A$231,'aux 1'!$Y$12:$Y$231)=0,"",LOOKUP('aux 4'!U21,'aux 1'!$A$12:$A$231,'aux 1'!$Y$12:$Y$231)))
J24: =IF(L24="","",J23+1) | K24: =IF(L24="",""," - ") | L24: =IF('aux 4'!U22="","",LOOKUP('aux 4'!U22,'aux 1'!$A$12:$A$231,'aux 1'!$AP$12:$AP$231)) | M24: =IF('aux 4'!U22="","",IF(LOOKUP('aux 4'!U22,'aux 1'!$A$12:$A$231,'aux 1'!$B$12:$B$231)=0,"",LOOKUP('aux 4'!U22,'aux 1'!$A$12:$A$231,'aux 1'!$B$12:$B$231))) | N24: =IF('aux 4'!U22="","",IF(LOOKUP('aux 4'!U22,'aux 1'!$A$12:$A$231,'aux 1'!$F$12:$F$231)=0,"",LOOKUP('aux 4'!U22,'aux 1'!$A$12:$A$231,'aux 1'!$F$12:$F$231))) | O24: =IF('aux 4'!U22="","",IF(LOOKUP('aux 4'!U22,'aux 1'!$A$12:$A$231,'aux 1'!$G$12:$G$231)="","",LOOKUP('aux 4'!U22,'aux 1'!$A$12:$A$231,'aux 1'!$G$12:$G$231))) | P24: =IF('aux 4'!U22="","",IF(LOOKUP('aux 4'!U22,'aux 1'!$A$12:$A$231,'aux 1'!$Y$12:$Y$231)=0,"",LOOKUP('aux 4'!U22,'aux 1'!$A$12:$A$231,'aux 1'!$Y$12:$Y$231)))
J25: =IF(L25="","",J24+1) | K25: =IF(L25="",""," - ") | L25: =IF('aux 4'!U23="","",LOOKUP('aux 4'!U23,'aux 1'!$A$12:$A$231,'aux 1'!$AP$12:$AP$231)) | M25: =IF('aux 4'!U23="","",IF(LOOKUP('aux 4'!U23,'aux 1'!$A$12:$A$231,'aux 1'!$B$12:$B$231)=0,"",LOOKUP('aux 4'!U23,'aux 1'!$A$12:$A$231,'aux 1'!$B$12:$B$231))) | N25: =IF('aux 4'!U23="","",IF(LOOKUP('aux 4'!U23,'aux 1'!$A$12:$A$231,'aux 1'!$F$12:$F$231)=0,"",LOOKUP('aux 4'!U23,'aux 1'!$A$12:$A$231,'aux 1'!$F$12:$F$231))) | O25: =IF('aux 4'!U23="","",IF(LOOKUP('aux 4'!U23,'aux 1'!$A$12:$A$231,'aux 1'!$G$12:$G$231)="","",LOOKUP('aux 4'!U23,'aux 1'!$A$12:$A$231,'aux 1'!$G$12:$G$231))) | P25: =IF('aux 4'!U23="","",IF(LOOKUP('aux 4'!U23,'aux 1'!$A$12:$A$231,'aux 1'!$Y$12:$Y$231)=0,"",LOOKUP('aux 4'!U23,'aux 1'!$A$12:$A$231,'aux 1'!$Y$12:$Y$231)))
J26: =IF(L26="","",J25+1) | K26: =IF(L26="",""," - ") | L26: =IF('aux 4'!U24="","",LOOKUP('aux 4'!U24,'aux 1'!$A$12:$A$231,'aux 1'!$AP$12:$AP$231)) | M26: =IF('aux 4'!U24="","",IF(LOOKUP('aux 4'!U24,'aux 1'!$A$12:$A$231,'aux 1'!$B$12:$B$231)=0,"",LOOKUP('aux 4'!U24,'aux 1'!$A$12:$A$231,'aux 1'!$B$12:$B$231))) | N26: =IF('aux 4'!U24="","",IF(LOOKUP('aux 4'!U24,'aux 1'!$A$12:$A$231,'aux 1'!$F$12:$F$231)=0,"",LOOKUP('aux 4'!U24,'aux 1'!$A$12:$A$231,'aux 1'!$F$12:$F$231))) | O26: =IF('aux 4'!U24="","",IF(LOOKUP('aux 4'!U24,'aux 1'!$A$12:$A$231,'aux 1'!$G$12:$G$231)="","",LOOKUP('aux 4'!U24,'aux 1'!$A$12:$A$231,'aux 1'!$G$12:$G$231))) | P26: =IF('aux 4'!U24="","",IF(LOOKUP('aux 4'!U24,'aux 1'!$A$12:$A$231,'aux 1'!$Y$12:$Y$231)=0,"",LOOKUP('aux 4'!U24,'aux 1'!$A$12:$A$231,'aux 1'!$Y$12:$Y$231)))
J27: =IF(L27="","",J26+1) | K27: =IF(L27="",""," - ") | L27: =IF('aux 4'!U25="","",LOOKUP('aux 4'!U25,'aux 1'!$A$12:$A$231,'aux 1'!$AP$12:$AP$231)) | M27: =IF('aux 4'!U25="","",IF(LOOKUP('aux 4'!U25,'aux 1'!$A$12:$A$231,'aux 1'!$B$12:$B$231)=0,"",LOOKUP('aux 4'!U25,'aux 1'!$A$12:$A$231,'aux 1'!$B$12:$B$231))) | N27: =IF('aux 4'!U25="","",IF(LOOKUP('aux 4'!U25,'aux 1'!$A$12:$A$231,'aux 1'!$F$12:$F$231)=0,"",LOOKUP('aux 4'!U25,'aux 1'!$A$12:$A$231,'aux 1'!$F$12:$F$231))) | O27: =IF('aux 4'!U25="","",IF(LOOKUP('aux 4'!U25,'aux 1'!$A$12:$A$231,'aux 1'!$G$12:$G$231)="","",LOOKUP('aux 4'!U25,'aux 1'!$A$12:$A$231,'aux 1'!$G$12:$G$231))) | P27: =IF('aux 4'!U25="","",IF(LOOKUP('aux 4'!U25,'aux 1'!$A$12:$A$231,'aux 1'!$Y$12:$Y$231)=0,"",LOOKUP('aux 4'!U25,'aux 1'!$A$12:$A$231,'aux 1'!$Y$12:$Y$231)))

Sheet Seu horário
A1: =CONCATENATE("Seu horário"," - ",Instrucoes!C3," - ",Instrucoes!C4," (","vs.",Instrucoes!C5,")") -> Seu horário - Engenharia Civil - 2016-02 (vs.5.0)
A3: =IF(Formulário!D3="","",CONCATENATE("Aluno: ",Formulário!D4)) | J3: ="Disciplinas" -> Disciplinas | N3: Turma | O3: Sala | P3: Professor
A4: Horário | D4: segunda | E4: terça | F4: quarta | G4: quinta | H4: sexta
A5: 7 | B5: - | C5: =A5+1 -> 8 | D5: =IF('aux 6'!D9="","",IF('aux 6'!D9="Conflito","Conflito",LOOKUP('aux 6'!D9,'aux 1'!$A$12:$A$231,'aux 1'!$AP$12:$AP$231))) | E5: =IF('aux 6'!E9="","",IF('aux 6'!E9="Conflito","Conflito",LOOKUP('aux 6'!E9,'aux 1'!$A$12:$A$231,'aux 1'!$AP$12:$AP$231))) | F5: =IF('aux 6'!F9="","",IF('aux 6'!F9="Conflito","Conflito",LOOKUP('aux 6'!F9,'aux 1'!$A$12:$A$231,'aux 1'!$AP$12:$AP$231))) | G5: =IF('aux 6'!G9="","",IF('aux 6'!G9="Conflito","Conflito",LOOKUP('aux 6'!G9,'aux 1'!$A$12:$A$231,'aux 1'!$AP$12:$AP$231))) | H5: =IF('aux 6'!H9="","",IF('aux 6'!H9="Conflito","Conflito",LOOKUP('aux 6'!H9,'aux 1'!$A$12:$A$231,'aux 1'!$AP$12:$AP$231))) | J5: =IF(L5="","",1) | K5: =IF(L5="",""," - ") | L5: =IF('aux 2'!BU7="","",LOOKUP('aux 2'!BU7,'aux 1'!$A$12:$A$231,'aux 1'!$AP$12:$AP$231)) | M5: =IF('aux 2'!BU7="","",CONCATENATE("",LOOKUP('aux 2'!BU7,'aux 1'!$A$12:$A$231,'aux 1'!$B$12:$B$231))) | N5: =IF('aux 2'!BU7="","",CONCATENATE("",LOOKUP('aux 2'!BU7,'aux 1'!$A$12:$A$231,'aux 1'!$F$12:$F$231))) | O5: =IF(J5="","",IF(OR('aux 2'!BU7="",LOOKUP('aux 2'!BU7,'aux 1'!$A$12:$A$231,'aux 1'!$G$12:$G$231)=""),"",LOOKUP('aux 2'!BU7,'aux 1'!$A$12:$A$231,'aux 1'!$G$12:$G$231))) | P5: =IF('aux 2'!BU7="","",CONCATENATE("",LOOKUP('aux 2'!BU7,'aux 1'!$A$12:$A$231,'aux 1'!$Y$12:$Y$231)))
A6: =C5 -> 8 | B6: =B5 -> - | C6: =A6+1 -> 9 | D6: =IF('aux 6'!D10="","",IF('aux 6'!D10="Conflito","Conflito",LOOKUP('aux 6'!D10,'aux 1'!$A$12:$A$231,'aux 1'!$AP$12:$AP$231))) | E6: =IF('aux 6'!E10="","",IF('aux 6'!E10="Conflito","Conflito",LOOKUP('aux 6'!E10,'aux 1'!$A$12:$A$231,'aux 1'!$AP$12:$AP$231))) | F6: =IF('aux 6'!F10="","",IF('aux 6'!F10="Conflito","Conflito",LOOKUP('aux 6'!F10,'aux 1'!$A$12:$A$231,'aux 1'!$AP$12:$AP$231))) | G6: =IF('aux 6'!G10="","",IF('aux 6'!G10="Conflito","Conflito",LOOKUP('aux 6'!G10,'aux 1'!$A$12:$A$231,'aux 1'!$AP$12:$AP$231))) | H6: =IF('aux 6'!H10="","",IF('aux 6'!H10="Conflito","Conflito",LOOKUP('aux 6'!H10,'aux 1'!$A$12:$A$231,'aux 1'!$AP$12:$AP$231))) | J6: =IF(L6="","",J5+1) | K6: =IF(L6="",""," - ") | L6: =IF('aux 2'!BU8="","",LOOKUP('aux 2'!BU8,'aux 1'!$A$12:$A$231,'aux 1'!$AP$12:$AP$231)) | M6: =IF('aux 2'!BU8="","",CONCATENATE("",LOOKUP('aux 2'!BU8,'aux 1'!$A$12:$A$231,'aux 1'!$B$12:$B$231))) | N6: =IF('aux 2'!BU8="","",CONCATENATE("",LOOKUP('aux 2'!BU8,'aux 1'!$A$12:$A$231,'aux 1'!$F$12:$F$231))) | O6: =IF(J6="","",IF(OR('aux 2'!BU8="",LOOKUP('aux 2'!BU8,'aux 1'!$A$12:$A$231,'aux 1'!$G$12:$G$231)=""),"",LOOKUP('aux 2'!BU8,'aux 1'!$A$12:$A$231,'aux 1'!$G$12:$G$231))) | P6: =IF('aux 2'!BU8="","",CONCATENATE("",LOOKUP('aux 2'!BU8,'aux 1'!$A$12:$A$231,'aux 1'!$Y$12:$Y$231)))
A7: =C6 -> 9 | B7: =B6 -> - | C7: =A7+1 -> 10 | D7: =IF('aux 6'!D11="","",IF('aux 6'!D11="Conflito","Conflito",LOOKUP('aux 6'!D11,'aux 1'!$A$12:$A$231,'aux 1'!$AP$12:$AP$231))) | E7: =IF('aux 6'!E11="","",IF('aux 6'!E11="Conflito","Conflito",LOOKUP('aux 6'!E11,'aux 1'!$A$12:$A$231,'aux 1'!$AP$12:$AP$231))) | F7: =IF('aux 6'!F11="","",IF('aux 6'!F11="Conflito","Conflito",LOOKUP('aux 6'!F11,'aux 1'!$A$12:$A$231,'aux 1'!$AP$12:$AP$231))) | G7: =IF('aux 6'!G11="","",IF('aux 6'!G11="Conflito","Conflito",LOOKUP('aux 6'!G11,'aux 1'!$A$12:$A$231,'aux 1'!$AP$12:$AP$231))) | H7: =IF('aux 6'!H11="","",IF('aux 6'!H11="Conflito","Conflito",LOOKUP('aux 6'!H11,'aux 1'!$A$12:$A$231,'aux 1'!$AP$12:$AP$231))) | J7: =IF(L7="","",J6+1) | K7: =IF(L7="",""," - ") | L7: =IF('aux 2'!BU9="","",LOOKUP('aux 2'!BU9,'aux 1'!$A$12:$A$231,'aux 1'!$AP$12:$AP$231)) | M7: =IF('aux 2'!BU9="","",CONCATENATE("",LOOKUP('aux 2'!BU9,'aux 1'!$A$12:$A$231,'aux 1'!$B$12:$B$231))) | N7: =IF('aux 2'!BU9="","",CONCATENATE("",LOOKUP('aux 2'!BU9,'aux 1'!$A$12:$A$231,'aux 1'!$F$12:$F$231))) | O7: =IF(J7="","",IF(OR('aux 2'!BU9="",LOOKUP('aux 2'!BU9,'aux 1'!$A$12:$A$231,'aux 1'!$G$12:$G$231)=""),"",LOOKUP('aux 2'!BU9,'aux 1'!$A$12:$A$231,'aux 1'!$G$12:$G$231))) | P7: =IF('aux 2'!BU9="","",CONCATENATE("",LOOKUP('aux 2'!BU9,'aux 1'!$A$12:$A$231,'aux 1'!$Y$12:$Y$231)))
A8: =C7 -> 10 | B8: =B7 -> - | C8: =A8+1 -> 11 | D8: =IF('aux 6'!D12="","",IF('aux 6'!D12="Conflito","Conflito",LOOKUP('aux 6'!D12,'aux 1'!$A$12:$A$231,'aux 1'!$AP$12:$AP$231))) | E8: =IF('aux 6'!E12="","",IF('aux 6'!E12="Conflito","Conflito",LOOKUP('aux 6'!E12,'aux 1'!$A$12:$A$231,'aux 1'!$AP$12:$AP$231))) | F8: =IF('aux 6'!F12="","",IF('aux 6'!F12="Conflito","Conflito",LOOKUP('aux 6'!F12,'aux 1'!$A$12:$A$231,'aux 1'!$AP$12:$AP$231))) | G8: =IF('aux 6'!G12="","",IF('aux 6'!G12="Conflito","Conflito",LOOKUP('aux 6'!G12,'aux 1'!$A$12:$A$231,'aux 1'!$AP$12:$AP$231))) | H8: =IF('aux 6'!H12="","",IF('aux 6'!H12="Conflito","Conflito",LOOKUP('aux 6'!H12,'aux 1'!$A$12:$A$231,'aux 1'!$AP$12:$AP$231))) | J8: =IF(L8="","",J7+1) | K8: =IF(L8="",""," - ") | L8: =IF('aux 2'!BU10="","",LOOKUP('aux 2'!BU10,'aux 1'!$A$12:$A$231,'aux 1'!$AP$12:$AP$231)) | M8: =IF('aux 2'!BU10="","",CONCATENATE("",LOOKUP('aux 2'!BU10,'aux 1'!$A$12:$A$231,'aux 1'!$B$12:$B$231))) | N8: =IF('aux 2'!BU10="","",CONCATENATE("",LOOKUP('aux 2'!BU10,'aux 1'!$A$12:$A$231,'aux 1'!$F$12:$F$231))) | O8: =IF(J8="","",IF(OR('aux 2'!BU10="",LOOKUP('aux 2'!BU10,'aux 1'!$A$12:$A$231,'aux 1'!$G$12:$G$231)=""),"",LOOKUP('aux 2'!BU10,'aux 1'!$A$12:$A$231,'aux 1'!$G$12:$G$231))) | P8: =IF('aux 2'!BU10="","",CONCATENATE("",LOOKUP('aux 2'!BU10,'aux 1'!$A$12:$A$231,'aux 1'!$Y$12:$Y$231)))
A9: =C8 -> 11 | B9: =B8 -> - | C9: =A9+1 -> 12 | D9: =IF('aux 6'!D13="","",IF('aux 6'!D13="Conflito","Conflito",LOOKUP('aux 6'!D13,'aux 1'!$A$12:$A$231,'aux 1'!$AP$12:$AP$231))) | E9: =IF('aux 6'!E13="","",IF('aux 6'!E13="Conflito","Conflito",LOOKUP('aux 6'!E13,'aux 1'!$A$12:$A$231,'aux 1'!$AP$12:$AP$231))) | F9: =IF('aux 6'!F13="","",IF('aux 6'!F13="Conflito","Conflito",LOOKUP('aux 6'!F13,'aux 1'!$A$12:$A$231,'aux 1'!$AP$12:$AP$231))) | G9: =IF('aux 6'!G13="","",IF('aux 6'!G13="Conflito","Conflito",LOOKUP('aux 6'!G13,'aux 1'!$A$12:$A$231,'aux 1'!$AP$12:$AP$231))) | H9: =IF('aux 6'!H13="","",IF('aux 6'!H13="Conflito","Conflito",LOOKUP('aux 6'!H13,'aux 1'!$A$12:$A$231,'aux 1'!$AP$12:$AP$231))) | J9: =IF(L9="","",J8+1) | K9: =IF(L9="",""," - ") | L9: =IF('aux 2'!BU11="","",LOOKUP('aux 2'!BU11,'aux 1'!$A$12:$A$231,'aux 1'!$AP$12:$AP$231)) | M9: =IF('aux 2'!BU11="","",CONCATENATE("",LOOKUP('aux 2'!BU11,'aux 1'!$A$12:$A$231,'aux 1'!$B$12:$B$231))) | N9: =IF('aux 2'!BU11="","",CONCATENATE("",LOOKUP('aux 2'!BU11,'aux 1'!$A$12:$A$231,'aux 1'!$F$12:$F$231))) | O9: =IF(J9="","",IF(OR('aux 2'!BU11="",LOOKUP('aux 2'!BU11,'aux 1'!$A$12:$A$231,'aux 1'!$G$12:$G$231)=""),"",LOOKUP('aux 2'!BU11,'aux 1'!$A$12:$A$231,'aux 1'!$G$12:$G$231))) | P9: =IF('aux 2'!BU11="","",CONCATENATE("",LOOKUP('aux 2'!BU11,'aux 1'!$A$12:$A$231,'aux 1'!$Y$12:$Y$231)))
A10: =C9 -> 12 | B10: =B9 -> - | C10: =A10+1 -> 13 | D10: =IF('aux 6'!D14="","",IF('aux 6'!D14="Conflito","Conflito",LOOKUP('aux 6'!D14,'aux 1'!$A$12:$A$231,'aux 1'!$AP$12:$AP$231))) | E10: =IF('aux 6'!E14="","",IF('aux 6'!E14="Conflito","Conflito",LOOKUP('aux 6'!E14,'aux 1'!$A$12:$A$231,'aux 1'!$AP$12:$AP$231))) | F10: =IF('aux 6'!F14="","",IF('aux 6'!F14="Conflito","Conflito",LOOKUP('aux 6'!F14,'aux 1'!$A$12:$A$231,'aux 1'!$AP$12:$AP$231))) | G10: =IF('aux 6'!G14="","",IF('aux 6'!G14="Conflito","Conflito",LOOKUP('aux 6'!G14,'aux 1'!$A$12:$A$231,'aux 1'!$AP$12:$AP$231))) | H10: =IF('aux 6'!H14="","",IF('aux 6'!H14="Conflito","Conflito",LOOKUP('aux 6'!H14,'aux 1'!$A$12:$A$231,'aux 1'!$AP$12:$AP$231))) | J10: =IF(L10="","",J9+1) | K10: =IF(L10="",""," - ") | L10: =IF('aux 2'!BU12="","",LOOKUP('aux 2'!BU12,'aux 1'!$A$12:$A$231,'aux 1'!$AP$12:$AP$231)) | M10: =IF('aux 2'!BU12="","",CONCATENATE("",LOOKUP('aux 2'!BU12,'aux 1'!$A$12:$A$231,'aux 1'!$B$12:$B$231))) | N10: =IF('aux 2'!BU12="","",CONCATENATE("",LOOKUP('aux 2'!BU12,'aux 1'!$A$12:$A$231,'aux 1'!$F$12:$F$231))) | O10: =IF(J10="","",IF(OR('aux 2'!BU12="",LOOKUP('aux 2'!BU12,'aux 1'!$A$12:$A$231,'aux 1'!$G$12:$G$231)=""),"",LOOKUP('aux 2'!BU12,'aux 1'!$A$12:$A$231,'aux 1'!$G$12:$G$231))) | P10: =IF('aux 2'!BU12="","",CONCATENATE("",LOOKUP('aux 2'!BU12,'aux 1'!$A$12:$A$231,'aux 1'!$Y$12:$Y$231)))
A11: =C10 -> 13 | B11: =B10 -> - | C11: =A11+1 -> 14 | D11: =IF('aux 6'!D15="","",IF('aux 6'!D15="Conflito","Conflito",LOOKUP('aux 6'!D15,'aux 1'!$A$12:$A$231,'aux 1'!$AP$12:$AP$231))) | E11: =IF('aux 6'!E15="","",IF('aux 6'!E15="Conflito","Conflito",LOOKUP('aux 6'!E15,'aux 1'!$A$12:$A$231,'aux 1'!$AP$12:$AP$231))) | F11: =IF('aux 6'!F15="","",IF('aux 6'!F15="Conflito","Conflito",LOOKUP('aux 6'!F15,'aux 1'!$A$12:$A$231,'aux 1'!$AP$12:$AP$231))) | G11: =IF('aux 6'!G15="","",IF('aux 6'!G15="Conflito","Conflito",LOOKUP('aux 6'!G15,'aux 1'!$A$12:$A$231,'aux 1'!$AP$12:$AP$231))) | H11: =IF('aux 6'!H15="","",IF('aux 6'!H15="Conflito","Conflito",LOOKUP('aux 6'!H15,'aux 1'!$A$12:$A$231,'aux 1'!$AP$12:$AP$231))) | J11: =IF(L11="","",J10+1) | K11: =IF(L11="",""," - ") | L11: =IF('aux 2'!BU13="","",LOOKUP('aux 2'!BU13,'aux 1'!$A$12:$A$231,'aux 1'!$AP$12:$AP$231)) | M11: =IF('aux 2'!BU13="","",CONCATENATE("",LOOKUP('aux 2'!BU13,'aux 1'!$A$12:$A$231,'aux 1'!$B$12:$B$231))) | N11: =IF('aux 2'!BU13="","",CONCATENATE("",LOOKUP('aux 2'!BU13,'aux 1'!$A$12:$A$231,'aux 1'!$F$12:$F$231))) | O11: =IF(J11="","",IF(OR('aux 2'!BU13="",LOOKUP('aux 2'!BU13,'aux 1'!$A$12:$A$231,'aux 1'!$G$12:$G$231)=""),"",LOOKUP('aux 2'!BU13,'aux 1'!$A$12:$A$231,'aux 1'!$G$12:$G$231))) | P11: =IF('aux 2'!BU13="","",CONCATENATE("",LOOKUP('aux 2'!BU13,'aux 1'!$A$12:$A$231,'aux 1'!$Y$12:$Y$231)))
A12: =C11 -> 14 | B12: =B11 -> - | C12: =A12+1 -> 15 | D12: =IF('aux 6'!D16="","",IF('aux 6'!D16="Conflito","Conflito",LOOKUP('aux 6'!D16,'aux 1'!$A$12:$A$231,'aux 1'!$AP$12:$AP$231))) | E12: =IF('aux 6'!E16="","",IF('aux 6'!E16="Conflito","Conflito",LOOKUP('aux 6'!E16,'aux 1'!$A$12:$A$231,'aux 1'!$AP$12:$AP$231))) | F12: =IF('aux 6'!F16="","",IF('aux 6'!F16="Conflito","Conflito",LOOKUP('aux 6'!F16,'aux 1'!$A$12:$A$231,'aux 1'!$AP$12:$AP$231))) | G12: =IF('aux 6'!G16="","",IF('aux 6'!G16="Conflito","Conflito",LOOKUP('aux 6'!G16,'aux 1'!$A$12:$A$231,'aux 1'!$AP$12:$AP$231))) | H12: =IF('aux 6'!H16="","",IF('aux 6'!H16="Conflito","Conflito",LOOKUP('aux 6'!H16,'aux 1'!$A$12:$A$231,'aux 1'!$AP$12:$AP$231))) | J12: =IF(L12="","",J11+1) | K12: =IF(L12="",""," - ") | L12: =IF('aux 2'!BU14="","",LOOKUP('aux 2'!BU14,'aux 1'!$A$12:$A$231,'aux 1'!$AP$12:$AP$231)) | M12: =IF('aux 2'!BU14="","",CONCATENATE("",LOOKUP('aux 2'!BU14,'aux 1'!$A$12:$A$231,'aux 1'!$B$12:$B$231))) | N12: =IF('aux 2'!BU14="","",CONCATENATE("",LOOKUP('aux 2'!BU14,'aux 1'!$A$12:$A$231,'aux 1'!$F$12:$F$231))) | O12: =IF(J12="","",IF(OR('aux 2'!BU14="",LOOKUP('aux 2'!BU14,'aux 1'!$A$12:$A$231,'aux 1'!$G$12:$G$231)=""),"",LOOKUP('aux 2'!BU14,'aux 1'!$A$12:$A$231,'aux 1'!$G$12:$G$231))) | P12: =IF('aux 2'!BU14="","",CONCATENATE("",LOOKUP('aux 2'!BU14,'aux 1'!$A$12:$A$231,'aux 1'!$Y$12:$Y$231)))
A13: =C12 -> 15 | B13: =B12 -> - | C13: =A13+1 -> 16 | D13: =IF('aux 6'!D17="","",IF('aux 6'!D17="Conflito","Conflito",LOOKUP('aux 6'!D17,'aux 1'!$A$12:$A$231,'aux 1'!$AP$12:$AP$231))) | E13: =IF('aux 6'!E17="","",IF('aux 6'!E17="Conflito","Conflito",LOOKUP('aux 6'!E17,'aux 1'!$A$12:$A$231,'aux 1'!$AP$12:$AP$231))) | F13: =IF('aux 6'!F17="","",IF('aux 6'!F17="Conflito","Conflito",LOOKUP('aux 6'!F17,'aux 1'!$A$12:$A$231,'aux 1'!$AP$12:$AP$231))) | G13: =IF('aux 6'!G17="","",IF('aux 6'!G17="Conflito","Conflito",LOOKUP('aux 6'!G17,'aux 1'!$A$12:$A$231,'aux 1'!$AP$12:$AP$231))) | H13: =IF('aux 6'!H17="","",IF('aux 6'!H17="Conflito","Conflito",LOOKUP('aux 6'!H17,'aux 1'!$A$12:$A$231,'aux 1'!$AP$12:$AP$231))) | J13: =IF(L13="","",J12+1) | K13: =IF(L13="",""," - ") | L13: =IF('aux 2'!BU15="","",LOOKUP('aux 2'!BU15,'aux 1'!$A$12:$A$231,'aux 1'!$AP$12:$AP$231)) | M13: =IF('aux 2'!BU15="","",CONCATENATE("",LOOKUP('aux 2'!BU15,'aux 1'!$A$12:$A$231,'aux 1'!$B$12:$B$231))) | N13: =IF('aux 2'!BU15="","",CONCATENATE("",LOOKUP('aux 2'!BU15,'aux 1'!$A$12:$A$231,'aux 1'!$F$12:$F$231))) | O13: =IF(J13="","",IF(OR('aux 2'!BU15="",LOOKUP('aux 2'!BU15,'aux 1'!$A$12:$A$231,'aux 1'!$G$12:$G$231)=""),"",LOOKUP('aux 2'!BU15,'aux 1'!$A$12:$A$231,'aux 1'!$G$12:$G$231))) | P13: =IF('aux 2'!BU15="","",CONCATENATE("",LOOKUP('aux 2'!BU15,'aux 1'!$A$12:$A$231,'aux 1'!$Y$12:$Y$231)))
A14: =C13 -> 16 | B14: =B13 -> - | C14: =A14+1 -> 17 | D14: =IF('aux 6'!D18="","",IF('aux 6'!D18="Conflito","Conflito",LOOKUP('aux 6'!D18,'aux 1'!$A$12:$A$231,'aux 1'!$AP$12:$AP$231))) | E14: =IF('aux 6'!E18="","",IF('aux 6'!E18="Conflito","Conflito",LOOKUP('aux 6'!E18,'aux 1'!$A$12:$A$231,'aux 1'!$AP$12:$AP$231))) | F14: =IF('aux 6'!F18="","",IF('aux 6'!F18="Conflito","Conflito",LOOKUP('aux 6'!F18,'aux 1'!$A$12:$A$231,'aux 1'!$AP$12:$AP$231))) | G14: =IF('aux 6'!G18="","",IF('aux 6'!G18="Conflito","Conflito",LOOKUP('aux 6'!G18,'aux 1'!$A$12:$A$231,'aux 1'!$AP$12:$AP$231))) | H14: =IF('aux 6'!H18="","",IF('aux 6'!H18="Conflito","Conflito",LOOKUP('aux 6'!H18,'aux 1'!$A$12:$A$231,'aux 1'!$AP$12:$AP$231))) | J14: =IF(L14="","",J13+1) | K14: =IF(L14="",""," - ") | L14: =IF('aux 2'!BU16="","",LOOKUP('aux 2'!BU16,'aux 1'!$A$12:$A$231,'aux 1'!$AP$12:$AP$231)) | M14: =IF('aux 2'!BU16="","",CONCATENATE("",LOOKUP('aux 2'!BU16,'aux 1'!$A$12:$A$231,'aux 1'!$B$12:$B$231))) | N14: =IF('aux 2'!BU16="","",CONCATENATE("",LOOKUP('aux 2'!BU16,'aux 1'!$A$12:$A$231,'aux 1'!$F$12:$F$231))) | O14: =IF(J14="","",IF(OR('aux 2'!BU16="",LOOKUP('aux 2'!BU16,'aux 1'!$A$12:$A$231,'aux 1'!$G$12:$G$231)=""),"",LOOKUP('aux 2'!BU16,'aux 1'!$A$12:$A$231,'aux 1'!$G$12:$G$231))) | P14: =IF('aux 2'!BU16="","",CONCATENATE("",LOOKUP('aux 2'!BU16,'aux 1'!$A$12:$A$231,'aux 1'!$Y$12:$Y$231)))
A15: =C14 -> 17 | B15: =B14 -> - | C15: =A15+1 -> 18 | D15: =IF('aux 6'!D19="","",IF('aux 6'!D19="Conflito","Conflito",LOOKUP('aux 6'!D19,'aux 1'!$A$12:$A$231,'aux 1'!$AP$12:$AP$231))) | E15: =IF('aux 6'!E19="","",IF('aux 6'!E19="Conflito","Conflito",LOOKUP('aux 6'!E19,'aux 1'!$A$12:$A$231,'aux 1'!$AP$12:$AP$231))) | F15: =IF('aux 6'!F19="","",IF('aux 6'!F19="Conflito","Conflito",LOOKUP('aux 6'!F19,'aux 1'!$A$12:$A$231,'aux 1'!$AP$12:$AP$231))) | G15: =IF('aux 6'!G19="","",IF('aux 6'!G19="Conflito","Conflito",LOOKUP('aux 6'!G19,'aux 1'!$A$12:$A$231,'aux 1'!$AP$12:$AP$231))) | H15: =IF('aux 6'!H19="","",IF('aux 6'!H19="Conflito","Conflito",LOOKUP('aux 6'!H19,'aux 1'!$A$12:$A$231,'aux 1'!$AP$12:$AP$231))) | J15: =IF(L15="","",J14+1) | K15: =IF(L15="",""," - ") | L15: =IF('aux 2'!BU17="","",LOOKUP('aux 2'!BU17,'aux 1'!$A$12:$A$231,'aux 1'!$AP$12:$AP$231)) | M15: =IF('aux 2'!BU17="","",CONCATENATE("",LOOKUP('aux 2'!BU17,'aux 1'!$A$12:$A$231,'aux 1'!$B$12:$B$231))) | N15: =IF('aux 2'!BU17="","",CONCATENATE("",LOOKUP('aux 2'!BU17,'aux 1'!$A$12:$A$231,'aux 1'!$F$12:$F$231))) | O15: =IF(J15="","",IF(OR('aux 2'!BU17="",LOOKUP('aux 2'!BU17,'aux 1'!$A$12:$A$231,'aux 1'!$G$12:$G$231)=""),"",LOOKUP('aux 2'!BU17,'aux 1'!$A$12:$A$231,'aux 1'!$G$12:$G$231))) | P15: =IF('aux 2'!BU17="","",CONCATENATE("",LOOKUP('aux 2'!BU17,'aux 1'!$A$12:$A$231,'aux 1'!$Y$12:$Y$231)))
A16: =C15 -> 18 | B16: =B15 -> - | C16: =A16+1 -> 19 | D16: =IF('aux 6'!D20="","",IF('aux 6'!D20="Conflito","Conflito",LOOKUP('aux 6'!D20,'aux 1'!$A$12:$A$231,'aux 1'!$AP$12:$AP$231))) | E16: =IF('aux 6'!E20="","",IF('aux 6'!E20="Conflito","Conflito",LOOKUP('aux 6'!E20,'aux 1'!$A$12:$A$231,'aux 1'!$AP$12:$AP$231))) | F16: =IF('aux 6'!F20="","",IF('aux 6'!F20="Conflito","Conflito",LOOKUP('aux 6'!F20,'aux 1'!$A$12:$A$231,'aux 1'!$AP$12:$AP$231))) | G16: =IF('aux 6'!G20="","",IF('aux 6'!G20="Conflito","Conflito",LOOKUP('aux 6'!G20,'aux 1'!$A$12:$A$231,'aux 1'!$AP$12:$AP$231))) | H16: =IF('aux 6'!H20="","",IF('aux 6'!H20="Conflito","Conflito",LOOKUP('aux 6'!H20,'aux 1'!$A$12:$A$231,'aux 1'!$AP$12:$AP$231))) | J16: =IF(L16="","",J15+1) | K16: =IF(L16="",""," - ") | L16: =IF('aux 2'!BU18="","",LOOKUP('aux 2'!BU18,'aux 1'!$A$12:$A$231,'aux 1'!$AP$12:$AP$231)) | M16: =IF('aux 2'!BU18="","",CONCATENATE("",LOOKUP('aux 2'!BU18,'aux 1'!$A$12:$A$231,'aux 1'!$B$12:$B$231))) | N16: =IF('aux 2'!BU18="","",CONCATENATE("",LOOKUP('aux 2'!BU18,'aux 1'!$A$12:$A$231,'aux 1'!$F$12:$F$231))) | O16: =IF(J16="","",IF(OR('aux 2'!BU18="",LOOKUP('aux 2'!BU18,'aux 1'!$A$12:$A$231,'aux 1'!$G$12:$G$231)=""),"",LOOKUP('aux 2'!BU18,'aux 1'!$A$12:$A$231,'aux 1'!$G$12:$G$231))) | P16: =IF('aux 2'!BU18="","",CONCATENATE("",LOOKUP('aux 2'!BU18,'aux 1'!$A$12:$A$231,'aux 1'!$Y$12:$Y$231)))
A17: =C16 -> 19 | B17: =B16 -> - | C17: =A17+1 -> 20 | D17: =IF('aux 6'!D21="","",IF('aux 6'!D21="Conflito","Conflito",LOOKUP('aux 6'!D21,'aux 1'!$A$12:$A$231,'aux 1'!$AP$12:$AP$231))) | E17: =IF('aux 6'!E21="","",IF('aux 6'!E21="Conflito","Conflito",LOOKUP('aux 6'!E21,'aux 1'!$A$12:$A$231,'aux 1'!$AP$12:$AP$231))) | F17: =IF('aux 6'!F21="","",IF('aux 6'!F21="Conflito","Conflito",LOOKUP('aux 6'!F21,'aux 1'!$A$12:$A$231,'aux 1'!$AP$12:$AP$231))) | G17: =IF('aux 6'!G21="","",IF('aux 6'!G21="Conflito","Conflito",LOOKUP('aux 6'!G21,'aux 1'!$A$12:$A$231,'aux 1'!$AP$12:$AP$231))) | H17: =IF('aux 6'!H21="","",IF('aux 6'!H21="Conflito","Conflito",LOOKUP('aux 6'!H21,'aux 1'!$A$12:$A$231,'aux 1'!$AP$12:$AP$231))) | J17: =IF(L17="","",J16+1) | K17: =IF(L17="",""," - ") | L17: =IF('aux 2'!BU19="","",LOOKUP('aux 2'!BU19,'aux 1'!$A$12:$A$231,'aux 1'!$AP$12:$AP$231)) | M17: =IF('aux 2'!BU19="","",CONCATENATE("",LOOKUP('aux 2'!BU19,'aux 1'!$A$12:$A$231,'aux 1'!$B$12:$B$231))) | N17: =IF('aux 2'!BU19="","",CONCATENATE("",LOOKUP('aux 2'!BU19,'aux 1'!$A$12:$A$231,'aux 1'!$F$12:$F$231))) | O17: =IF(J17="","",IF(OR('aux 2'!BU19="",LOOKUP('aux 2'!BU19,'aux 1'!$A$12:$A$231,'aux 1'!$G$12:$G$231)=""),"",LOOKUP('aux 2'!BU19,'aux 1'!$A$12:$A$231,'aux 1'!$G$12:$G$231))) | P17: =IF('aux 2'!BU19="","",CONCATENATE("",LOOKUP('aux 2'!BU19,'aux 1'!$A$12:$A$231,'aux 1'!$Y$12:$Y$231)))
... A19: =C18 -> 21 | B19: =B18 -> - | C19: =A19+1 -> 22 | D19: =IF('aux 6'!D23="","",IF('aux 6'!D23="Conflito","Conflito",LOOKUP('aux 6'!D23,'aux 1'!$A$12:$A$231,'aux 1'!$AP$12:$AP$231))) | E19: =IF('aux 6'!E23="","",IF('aux 6'!E23="Conflito","Conflito",LOOKUP('aux 6'!E23,'aux 1'!$A$12:$A$231,'aux 1'!$AP$12:$AP$231))) | F19: =IF('aux 6'!F23="","",IF('aux 6'!F23="Conflito","Conflito",LOOKUP('aux 6'!F23,'aux 1'!$A$12:$A$231,'aux 1'!$AP$12:$AP$231))) | G19: =IF('aux 6'!G23="","",IF('aux 6'!G23="Conflito","Conflito",LOOKUP('aux 6'!G23,'aux 1'!$A$12:$A$231,'aux 1'!$AP$12:$AP$231))) | H19: =IF('aux 6'!H23="","",IF('aux 6'!H23="Conflito","Conflito",LOOKUP('aux 6'!H23,'aux 1'!$A$12:$A$231,'aux 1'!$AP$12:$AP$231))) | J19: =IF(L19="","",J18+1) | K19: =IF(L19="",""," - ") | L19: =IF('aux 2'!BU21="","",LOOKUP('aux 2'!BU21,'aux 1'!$A$12:$A$231,'aux 1'!$AP$12:$AP$231)) | M19: =IF('aux 2'!BU21="","",CONCATENATE("",LOOKUP('aux 2'!BU21,'aux 1'!$A$12:$A$231,'aux 1'!$B$12:$B$231))) | N19: =IF('aux 2'!BU21="","",CONCATENATE("",LOOKUP('aux 2'!BU21,'aux 1'!$A$12:$A$231,'aux 1'!$F$12:$F$231))) | O19: =IF(J19="","",IF(OR('aux 2'!BU21="",LOOKUP('aux 2'!BU21,'aux 1'!$A$12:$A$231,'aux 1'!$G$12:$G$231)=""),"",LOOKUP('aux 2'!BU21,'aux 1'!$A$12:$A$231,'aux 1'!$G$12:$G$231))) | P19: =IF('aux 2'!BU21="","",CONCATENATE("",LOOKUP('aux 2'!BU21,'aux 1'!$A$12:$A$231,'aux 1'!$Y$12:$Y$231)))
A20: (*) Disciplinas sujeitas a mudanças de horários devido a disponibilidade de professores | J20: =IF(L20="","",J19+1) | K20: =IF(L20="",""," - ") | L20: =IF('aux 2'!BU22="","",LOOKUP('aux 2'!BU22,'aux 1'!$A$12:$A$231,'aux 1'!$AP$12:$AP$231)) | M20: =IF('aux 2'!BU22="","",CONCATENATE("",LOOKUP('aux 2'!BU22,'aux 1'!$A$12:$A$231,'aux 1'!$B$12:$B$231))) | N20: =IF('aux 2'!BU22="","",CONCATENATE("",LOOKUP('aux 2'!BU22,'aux 1'!$A$12:$A$231,'aux 1'!$F$12:$F$231))) | O20: =IF(J20="","",IF(OR('aux 2'!BU22="",LOOKUP('aux 2'!BU22,'aux 1'!$A$12:$A$231,'aux 1'!$G$12:$G$231)=""),"",LOOKUP('aux 2'!BU22,'aux 1'!$A$12:$A$231,'aux 1'!$G$12:$G$231))) | P20: =IF('aux 2'!BU22="","",CONCATENATE("",LOOKUP('aux 2'!BU22,'aux 1'!$A$12:$A$231,'aux 1'!$Y$12:$Y$231)))
J21: =IF(L21="","",J20+1) | K21: =IF(L21="",""," - ") | L21: =IF('aux 2'!BU23="","",LOOKUP('aux 2'!BU23,'aux 1'!$A$12:$A$231,'aux 1'!$AP$12:$AP$231)) | M21: =IF('aux 2'!BU23="","",CONCATENATE("",LOOKUP('aux 2'!BU23,'aux 1'!$A$12:$A$231,'aux 1'!$B$12:$B$231))) | N21: =IF('aux 2'!BU23="","",CONCATENATE("",LOOKUP('aux 2'!BU23,'aux 1'!$A$12:$A$231,'aux 1'!$F$12:$F$231))) | O21: =IF(J21="","",IF(OR('aux 2'!BU23="",LOOKUP('aux 2'!BU23,'aux 1'!$A$12:$A$231,'aux 1'!$G$12:$G$231)=""),"",LOOKUP('aux 2'!BU23,'aux 1'!$A$12:$A$231,'aux 1'!$G$12:$G$231))) | P21: =IF('aux 2'!BU23="","",CONCATENATE("",LOOKUP('aux 2'!BU23,'aux 1'!$A$12:$A$231,'aux 1'!$Y$12:$Y$231)))
J22: =IF(L22="","",J21+1) | K22: =IF(L22="",""," - ") | L22: =IF('aux 2'!BU24="","",LOOKUP('aux 2'!BU24,'aux 1'!$A$12:$A$231,'aux 1'!$AP$12:$AP$231)) | M22: =IF('aux 2'!BU24="","",CONCATENATE("",LOOKUP('aux 2'!BU24,'aux 1'!$A$12:$A$231,'aux 1'!$B$12:$B$231))) | N22: =IF('aux 2'!BU24="","",CONCATENATE("",LOOKUP('aux 2'!BU24,'aux 1'!$A$12:$A$231,'aux 1'!$F$12:$F$231))) | O22: =IF(J22="","",IF(OR('aux 2'!BU24="",LOOKUP('aux 2'!BU24,'aux 1'!$A$12:$A$231,'aux 1'!$G$12:$G$231)=""),"",LOOKUP('aux 2'!BU24,'aux 1'!$A$12:$A$231,'aux 1'!$G$12:$G$231))) | P22: =IF('aux 2'!BU24="","",CONCATENATE("",LOOKUP('aux 2'!BU24,'aux 1'!$A$12:$A$231,'aux 1'!$Y$12:$Y$231)))
J23: =IF(L23="","",J22+1) | K23: =IF(L23="",""," - ") | L23: =IF('aux 2'!BU25="","",LOOKUP('aux 2'!BU25,'aux 1'!$A$12:$A$231,'aux 1'!$AP$12:$AP$231)) | M23: =IF('aux 2'!BU25="","",CONCATENATE("",LOOKUP('aux 2'!BU25,'aux 1'!$A$12:$A$231,'aux 1'!$B$12:$B$231))) | N23: =IF('aux 2'!BU25="","",CONCATENATE("",LOOKUP('aux 2'!BU25,'aux 1'!$A$12:$A$231,'aux 1'!$F$12:$F$231))) | O23: =IF(J23="","",IF(OR('aux 2'!BU25="",LOOKUP('aux 2'!BU25,'aux 1'!$A$12:$A$231,'aux 1'!$G$12:$G$231)=""),"",LOOKUP('aux 2'!BU25,'aux 1'!$A$12:$A$231,'aux 1'!$G$12:$G$231))) | P23: =IF('aux 2'!BU25="","",CONCATENATE("",LOOKUP('aux 2'!BU25,'aux 1'!$A$12:$A$231,'aux 1'!$Y$12:$Y$231)))
J24: =IF(L24="","",J23+1) | K24: =IF(L24="",""," - ") | L24: =IF('aux 2'!BU26="","",LOOKUP('aux 2'!BU26,'aux 1'!$A$12:$A$231,'aux 1'!$AP$12:$AP$231)) | M24: =IF('aux 2'!BU26="","",CONCATENATE("",LOOKUP('aux 2'!BU26,'aux 1'!$A$12:$A$231,'aux 1'!$B$12:$B$231))) | N24: =IF('aux 2'!BU26="","",CONCATENATE("",LOOKUP('aux 2'!BU26,'aux 1'!$A$12:$A$231,'aux 1'!$F$12:$F$231))) | O24: =IF(J24="","",IF(OR('aux 2'!BU26="",LOOKUP('aux 2'!BU26,'aux 1'!$A$12:$A$231,'aux 1'!$G$12:$G$231)=""),"",LOOKUP('aux 2'!BU26,'aux 1'!$A$12:$A$231,'aux 1'!$G$12:$G$231))) | P24: =IF('aux 2'!BU26="","",CONCATENATE("",LOOKUP('aux 2'!BU26,'aux 1'!$A$12:$A$231,'aux 1'!$Y$12:$Y$231)))
J25: =IF(L25="","",J24+1) | K25: =IF(L25="",""," - ") | L25: =IF('aux 2'!BU27="","",LOOKUP('aux 2'!BU27,'aux 1'!$A$12:$A$231,'aux 1'!$AP$12:$AP$231)) | M25: =IF('aux 2'!BU27="","",CONCATENATE("",LOOKUP('aux 2'!BU27,'aux 1'!$A$12:$A$231,'aux 1'!$B$12:$B$231))) | N25: =IF('aux 2'!BU27="","",CONCATENATE("",LOOKUP('aux 2'!BU27,'aux 1'!$A$12:$A$231,'aux 1'!$F$12:$F$231))) | O25: =IF(J25="","",IF(OR('aux 2'!BU27="",LOOKUP('aux 2'!BU27,'aux 1'!$A$12:$A$231,'aux 1'!$G$12:$G$231)=""),"",LOOKUP('aux 2'!BU27,'aux 1'!$A$12:$A$231,'aux 1'!$G$12:$G$231))) | P25: =IF('aux 2'!BU27="","",CONCATENATE("",LOOKUP('aux 2'!BU27,'aux 1'!$A$12:$A$231,'aux 1'!$Y$12:$Y$231)))
J26: =IF(L26="","",J25+1) | K26: =IF(L26="",""," - ") | L26: =IF('aux 2'!BU28="","",LOOKUP('aux 2'!BU28,'aux 1'!$A$12:$A$231,'aux 1'!$AP$12:$AP$231)) | M26: =IF('aux 2'!BU28="","",CONCATENATE("",LOOKUP('aux 2'!BU28,'aux 1'!$A$12:$A$231,'aux 1'!$B$12:$B$231))) | N26: =IF('aux 2'!BU28="","",CONCATENATE("",LOOKUP('aux 2'!BU28,'aux 1'!$A$12:$A$231,'aux 1'!$F$12:$F$231))) | O26: =IF(J26="","",IF(OR('aux 2'!BU28="",LOOKUP('aux 2'!BU28,'aux 1'!$A$12:$A$231,'aux 1'!$G$12:$G$231)=""),"",LOOKUP('aux 2'!BU28,'aux 1'!$A$12:$A$231,'aux 1'!$G$12:$G$231))) | P26: =IF('aux 2'!BU28="","",CONCATENATE("",LOOKUP('aux 2'!BU28,'aux 1'!$A$12:$A$231,'aux 1'!$Y$12:$Y$231)))
J27: =IF(L27="","",J26+1) | K27: =IF(L27="",""," - ") | L27: =IF('aux 2'!BU29="","",LOOKUP('aux 2'!BU29,'aux 1'!$A$12:$A$231,'aux 1'!$AP$12:$AP$231)) | M27: =IF('aux 2'!BU29="","",CONCATENATE("",LOOKUP('aux 2'!BU29,'aux 1'!$A$12:$A$231,'aux 1'!$B$12:$B$231))) | N27: =IF('aux 2'!BU29="","",CONCATENATE("",LOOKUP('aux 2'!BU29,'aux 1'!$A$12:$A$231,'aux 1'!$F$12:$F$231))) | O27: =IF(J27="","",IF(OR('aux 2'!BU29="",LOOKUP('aux 2'!BU29,'aux 1'!$A$12:$A$231,'aux 1'!$G$12:$G$231)=""),"",LOOKUP('aux 2'!BU29,'aux 1'!$A$12:$A$231,'aux 1'!$G$12:$G$231))) | P27: =IF('aux 2'!BU29="","",CONCATENATE("",LOOKUP('aux 2'!BU29,'aux 1'!$A$12:$A$231,'aux 1'!$Y$12:$Y$231)))
M28: =IF('aux 2'!BU30="","",CONCATENATE("",LOOKUP('aux 2'!BU30,'aux 1'!$A$12:$A$231,'aux 1'!$B$12:$B$231))) | N28: =IF('aux 2'!BU30="","",CONCATENATE("",LOOKUP('aux 2'!BU30,'aux 1'!$A$12:$A$231,'aux 1'!$F$12:$F$231))) | O28: =IF(J28="","",IF(OR('aux 2'!BU30="",LOOKUP('aux 2'!BU30,'aux 1'!$A$12:$A$231,'aux 1'!$G$12:$G$231)=""),"",LOOKUP('aux 2'!BU30,'aux 1'!$A$12:$A$231,'aux 1'!$G$12:$G$231))) | P28: =IF('aux 2'!BU30="","",CONCATENATE("",LOOKUP('aux 2'!BU30,'aux 1'!$A$12:$A$231,'aux 1'!$Y$12:$Y$231)))

Sheet Relatório
A1: Formulário de Pré-matrículo - LECIV
D2: Nome: | E2: =IF(Formulário!D4="",'aux 7'!C5,IF(Formulário!D4='aux 7'!C8,Formulário!J4,Formulário!D4)) -> nome nâo incluído | L2: Carga horária
D3: Matrícula: | E3: =IF(Formulário!D3="",'aux 7'!C6,Formulário!D3) -> matrícula não incluida | L3: =CONCATENATE("Por semana = ",SUM(L10:L32)/17,"h") -> Por semana = 0h
D4: Provável formando: | E4: =IF(AND('aux 2'!I32=TRUE,'aux 2'!I33=FALSE),'aux 7'!C9,IF(AND('aux 2'!I33=TRUE,'aux 2'!I32=FALSE),'aux 7'!C10,'aux 7'!C7)) -> dado incorreto | L4: =CONCATENATE("Total = ",SUM(L9:L31),"h") -> Total = 0h
D5: Cadastro: | E5: =IF('aux 7'!T15>0,"dados incompletos", "ok") -> ok
D7: =IF('aux 2'!$BY$59>0,'aux 7'!C11,"") | I7: Créditos | L7: C.h.
C8: Código | D8: Disciplinas | H8: Turma | I8: t | J8: p | K8: ex | L8: (h)
A9: =IF(C9="","",1) | B9: =IF(D9="","","-") | C9: =IF(OR('aux 2'!$BY$59>0,$E$2='aux 7'!$C$8,$E$2='aux 7'!C5,Relatório!$E$3='aux 7'!$C$6,Relatório!$E$4='aux 7'!$C$7),"",IF('aux 2'!BU7="","",LOOKUP('aux 2'!BU7,'aux 1'!$A$12:$A$231,'aux 1'!$AP$12:$AP$231))) | D9: =IF(OR('aux 2'!$BY$59>0,$E$2='aux 7'!$C$8,$E$2='aux 7'!C5,Relatório!$E$3='aux 7'!$C$6,Relatório!$E$4='aux 7'!$C$7),"",IF('aux 2'!BU7="","",LOOKUP('aux 2'!BU7,'aux 1'!$A$12:$A$231,'aux 1'!$B$12:$B$231))) | H9: =IF(OR('aux 2'!$BY$59>0,C9=""),"",IF('aux 2'!BU7="","",IF(LOOKUP('aux 2'!BU7,'aux 1'!$A$12:$A$231,'aux 1'!$F$12:$F$231)="","",LOOKUP('aux 2'!BU7,'aux 1'!$A$12:$A$231,'aux 1'!$F$12:$F$231)))) | I9: =IF(OR('aux 2'!$BY$59>0,C9=""),"",IF('aux 2'!BU7="","",IF(LOOKUP('aux 2'!BU7,'aux 1'!$A$12:$A$231,'aux 1'!$T$12:$T$231)="","-",LOOKUP('aux 2'!BU7,'aux 1'!$A$12:$A$231,'aux 1'!$T$12:$T$231)))) | J9: =IF(OR('aux 2'!$BY$59>0,C9=""),"",IF('aux 2'!BU7="","",IF(LOOKUP('aux 2'!BU7,'aux 1'!$A$12:$A$231,'aux 1'!$U$12:$U$231)="","-",LOOKUP('aux 2'!BU7,'aux 1'!$A$12:$A$231,'aux 1'!$U$12:$U$231)))) | K9: =IF(OR('aux 2'!$BY$59>0,C9=""),"",IF('aux 2'!BU7="","",IF(LOOKUP('aux 2'!BU7,'aux 1'!$A$12:$A$231,'aux 1'!$V$12:$V$231)="","-",LOOKUP('aux 2'!BU7,'aux 1'!$A$12:$A$231,'aux 1'!$V$12:$V$231)))) | L9: =IF(OR('aux 2'!$BY$59>0,C9=""),"",IF('aux 2'!BU7="","",IF(LOOKUP('aux 2'!BU7,'aux 1'!$A$12:$A$231,'aux 1'!$X$12:$X$231)="","-",LOOKUP('aux 2'!BU7,'aux 1'!$A$12:$A$231,'aux 1'!$W$12:$W$231))))
A10: =IF(C10="","",A9+1) | B10: =IF(D10="","","-") | C10: =IF(OR('aux 2'!$BY$59>0,$E$2='aux 7'!$C$8,$E$2='aux 7'!C6,Relatório!$E$3='aux 7'!$C$6,Relatório!$E$4='aux 7'!$C$7),"",IF('aux 2'!BU8="","",LOOKUP('aux 2'!BU8,'aux 1'!$A$12:$A$231,'aux 1'!$AP$12:$AP$231))) | D10: =IF(OR('aux 2'!$BY$59>0,$E$2='aux 7'!$C$8,$E$2='aux 7'!C6,Relatório!$E$3='aux 7'!$C$6,Relatório!$E$4='aux 7'!$C$7),"",IF('aux 2'!BU8="","",LOOKUP('aux 2'!BU8,'aux 1'!$A$12:$A$231,'aux 1'!$B$12:$B$231))) | H10: =IF(OR('aux 2'!$BY$59>0,C10=""),"",IF('aux 2'!BU8="","",IF(LOOKUP('aux 2'!BU8,'aux 1'!$A$12:$A$231,'aux 1'!$F$12:$F$231)="","",LOOKUP('aux 2'!BU8,'aux 1'!$A$12:$A$231,'aux 1'!$F$12:$F$231)))) | I10: =IF(OR('aux 2'!$BY$59>0,C10=""),"",IF('aux 2'!BU8="","",IF(LOOKUP('aux 2'!BU8,'aux 1'!$A$12:$A$231,'aux 1'!$T$12:$T$231)="","-",LOOKUP('aux 2'!BU8,'aux 1'!$A$12:$A$231,'aux 1'!$T$12:$T$231)))) | J10: =IF(OR('aux 2'!$BY$59>0,C10=""),"",IF('aux 2'!BU8="","",IF(LOOKUP('aux 2'!BU8,'aux 1'!$A$12:$A$231,'aux 1'!$U$12:$U$231)="","-",LOOKUP('aux 2'!BU8,'aux 1'!$A$12:$A$231,'aux 1'!$U$12:$U$231)))) | K10: =IF(OR('aux 2'!$BY$59>0,C10=""),"",IF('aux 2'!BU8="","",IF(LOOKUP('aux 2'!BU8,'aux 1'!$A$12:$A$231,'aux 1'!$V$12:$V$231)="","-",LOOKUP('aux 2'!BU8,'aux 1'!$A$12:$A$231,'aux 1'!$V$12:$V$231)))) | L10: =IF(OR('aux 2'!$BY$59>0,C10=""),"",IF('aux 2'!BU8="","",IF(LOOKUP('aux 2'!BU8,'aux 1'!$A$12:$A$231,'aux 1'!$X$12:$X$231)="","-",LOOKUP('aux 2'!BU8,'aux 1'!$A$12:$A$231,'aux 1'!$W$12:$W$231))))
A11: =IF(C11="","",A10+1) | B11: =IF(D11="","","-") | C11: =IF(OR('aux 2'!$BY$59>0,$E$2='aux 7'!$C$8,$E$2='aux 7'!C7,Relatório!$E$3='aux 7'!$C$6,Relatório!$E$4='aux 7'!$C$7),"",IF('aux 2'!BU9="","",LOOKUP('aux 2'!BU9,'aux 1'!$A$12:$A$231,'aux 1'!$AP$12:$AP$231))) | D11: =IF(OR('aux 2'!$BY$59>0,$E$2='aux 7'!$C$8,$E$2='aux 7'!C7,Relatório!$E$3='aux 7'!$C$6,Relatório!$E$4='aux 7'!$C$7),"",IF('aux 2'!BU9="","",LOOKUP('aux 2'!BU9,'aux 1'!$A$12:$A$231,'aux 1'!$B$12:$B$231))) | H11: =IF(OR('aux 2'!$BY$59>0,C11=""),"",IF('aux 2'!BU9="","",IF(LOOKUP('aux 2'!BU9,'aux 1'!$A$12:$A$231,'aux 1'!$F$12:$F$231)="","",LOOKUP('aux 2'!BU9,'aux 1'!$A$12:$A$231,'aux 1'!$F$12:$F$231)))) | I11: =IF(OR('aux 2'!$BY$59>0,C11=""),"",IF('aux 2'!BU9="","",IF(LOOKUP('aux 2'!BU9,'aux 1'!$A$12:$A$231,'aux 1'!$T$12:$T$231)="","-",LOOKUP('aux 2'!BU9,'aux 1'!$A$12:$A$231,'aux 1'!$T$12:$T$231)))) | J11: =IF(OR('aux 2'!$BY$59>0,C11=""),"",IF('aux 2'!BU9="","",IF(LOOKUP('aux 2'!BU9,'aux 1'!$A$12:$A$231,'aux 1'!$U$12:$U$231)="","-",LOOKUP('aux 2'!BU9,'aux 1'!$A$12:$A$231,'aux 1'!$U$12:$U$231)))) | K11: =IF(OR('aux 2'!$BY$59>0,C11=""),"",IF('aux 2'!BU9="","",IF(LOOKUP('aux 2'!BU9,'aux 1'!$A$12:$A$231,'aux 1'!$V$12:$V$231)="","-",LOOKUP('aux 2'!BU9,'aux 1'!$A$12:$A$231,'aux 1'!$V$12:$V$231)))) | L11: =IF(OR('aux 2'!$BY$59>0,C11=""),"",IF('aux 2'!BU9="","",IF(LOOKUP('aux 2'!BU9,'aux 1'!$A$12:$A$231,'aux 1'!$X$12:$X$231)="","-",LOOKUP('aux 2'!BU9,'aux 1'!$A$12:$A$231,'aux 1'!$W$12:$W$231))))
A12: =IF(C12="","",A11+1) | B12: =IF(D12="","","-") | C12: =IF(OR('aux 2'!$BY$59>0,$E$2='aux 7'!$C$8,$E$2='aux 7'!C8,Relatório!$E$3='aux 7'!$C$6,Relatório!$E$4='aux 7'!$C$7),"",IF('aux 2'!BU10="","",LOOKUP('aux 2'!BU10,'aux 1'!$A$12:$A$231,'aux 1'!$AP$12:$AP$231))) | D12: =IF(OR('aux 2'!$BY$59>0,$E$2='aux 7'!$C$8,$E$2='aux 7'!C8,Relatório!$E$3='aux 7'!$C$6,Relatório!$E$4='aux 7'!$C$7),"",IF('aux 2'!BU10="","",LOOKUP('aux 2'!BU10,'aux 1'!$A$12:$A$231,'aux 1'!$B$12:$B$231))) | H12: =IF(OR('aux 2'!$BY$59>0,C12=""),"",IF('aux 2'!BU10="","",IF(LOOKUP('aux 2'!BU10,'aux 1'!$A$12:$A$231,'aux 1'!$F$12:$F$231)="","",LOOKUP('aux 2'!BU10,'aux 1'!$A$12:$A$231,'aux 1'!$F$12:$F$231)))) | I12: =IF(OR('aux 2'!$BY$59>0,C12=""),"",IF('aux 2'!BU10="","",IF(LOOKUP('aux 2'!BU10,'aux 1'!$A$12:$A$231,'aux 1'!$T$12:$T$231)="","-",LOOKUP('aux 2'!BU10,'aux 1'!$A$12:$A$231,'aux 1'!$T$12:$T$231)))) | J12: =IF(OR('aux 2'!$BY$59>0,C12=""),"",IF('aux 2'!BU10="","",IF(LOOKUP('aux 2'!BU10,'aux 1'!$A$12:$A$231,'aux 1'!$U$12:$U$231)="","-",LOOKUP('aux 2'!BU10,'aux 1'!$A$12:$A$231,'aux 1'!$U$12:$U$231)))) | K12: =IF(OR('aux 2'!$BY$59>0,C12=""),"",IF('aux 2'!BU10="","",IF(LOOKUP('aux 2'!BU10,'aux 1'!$A$12:$A$231,'aux 1'!$V$12:$V$231)="","-",LOOKUP('aux 2'!BU10,'aux 1'!$A$12:$A$231,'aux 1'!$V$12:$V$231)))) | L12: =IF(OR('aux 2'!$BY$59>0,C12=""),"",IF('aux 2'!BU10="","",IF(LOOKUP('aux 2'!BU10,'aux 1'!$A$12:$A$231,'aux 1'!$X$12:$X$231)="","-",LOOKUP('aux 2'!BU10,'aux 1'!$A$12:$A$231,'aux 1'!$W$12:$W$231))))
A13: =IF(C13="","",A12+1) | B13: =IF(D13="","","-") | C13: =IF(OR('aux 2'!$BY$59>0,$E$2='aux 7'!$C$8,$E$2='aux 7'!C9,Relatório!$E$3='aux 7'!$C$6,Relatório!$E$4='aux 7'!$C$7),"",IF('aux 2'!BU11="","",LOOKUP('aux 2'!BU11,'aux 1'!$A$12:$A$231,'aux 1'!$AP$12:$AP$231))) | D13: =IF(OR('aux 2'!$BY$59>0,$E$2='aux 7'!$C$8,$E$2='aux 7'!C9,Relatório!$E$3='aux 7'!$C$6,Relatório!$E$4='aux 7'!$C$7),"",IF('aux 2'!BU11="","",LOOKUP('aux 2'!BU11,'aux 1'!$A$12:$A$231,'aux 1'!$B$12:$B$231))) | H13: =IF(OR('aux 2'!$BY$59>0,C13=""),"",IF('aux 2'!BU11="","",IF(LOOKUP('aux 2'!BU11,'aux 1'!$A$12:$A$231,'aux 1'!$F$12:$F$231)="","",LOOKUP('aux 2'!BU11,'aux 1'!$A$12:$A$231,'aux 1'!$F$12:$F$231)))) | I13: =IF(OR('aux 2'!$BY$59>0,C13=""),"",IF('aux 2'!BU11="","",IF(LOOKUP('aux 2'!BU11,'aux 1'!$A$12:$A$231,'aux 1'!$T$12:$T$231)="","-",LOOKUP('aux 2'!BU11,'aux 1'!$A$12:$A$231,'aux 1'!$T$12:$T$231)))) | J13: =IF(OR('aux 2'!$BY$59>0,C13=""),"",IF('aux 2'!BU11="","",IF(LOOKUP('aux 2'!BU11,'aux 1'!$A$12:$A$231,'aux 1'!$U$12:$U$231)="","-",LOOKUP('aux 2'!BU11,'aux 1'!$A$12:$A$231,'aux 1'!$U$12:$U$231)))) | K13: =IF(OR('aux 2'!$BY$59>0,C13=""),"",IF('aux 2'!BU11="","",IF(LOOKUP('aux 2'!BU11,'aux 1'!$A$12:$A$231,'aux 1'!$V$12:$V$231)="","-",LOOKUP('aux 2'!BU11,'aux 1'!$A$12:$A$231,'aux 1'!$V$12:$V$231)))) | L13: =IF(OR('aux 2'!$BY$59>0,C13=""),"",IF('aux 2'!BU11="","",IF(LOOKUP('aux 2'!BU11,'aux 1'!$A$12:$A$231,'aux 1'!$X$12:$X$231)="","-",LOOKUP('aux 2'!BU11,'aux 1'!$A$12:$A$231,'aux 1'!$W$12:$W$231))))
A14: =IF(C14="","",A13+1) | B14: =IF(D14="","","-") | C14: =IF(OR('aux 2'!$BY$59>0,$E$2='aux 7'!$C$8,$E$2='aux 7'!C10,Relatório!$E$3='aux 7'!$C$6,Relatório!$E$4='aux 7'!$C$7),"",IF('aux 2'!BU12="","",LOOKUP('aux 2'!BU12,'aux 1'!$A$12:$A$231,'aux 1'!$AP$12:$AP$231))) | D14: =IF(OR('aux 2'!$BY$59>0,$E$2='aux 7'!$C$8,$E$2='aux 7'!C10,Relatório!$E$3='aux 7'!$C$6,Relatório!$E$4='aux 7'!$C$7),"",IF('aux 2'!BU12="","",LOOKUP('aux 2'!BU12,'aux 1'!$A$12:$A$231,'aux 1'!$B$12:$B$231))) | H14: =IF(OR('aux 2'!$BY$59>0,C14=""),"",IF('aux 2'!BU12="","",IF(LOOKUP('aux 2'!BU12,'aux 1'!$A$12:$A$231,'aux 1'!$F$12:$F$231)="","",LOOKUP('aux 2'!BU12,'aux 1'!$A$12:$A$231,'aux 1'!$F$12:$F$231)))) | I14: =IF(OR('aux 2'!$BY$59>0,C14=""),"",IF('aux 2'!BU12="","",IF(LOOKUP('aux 2'!BU12,'aux 1'!$A$12:$A$231,'aux 1'!$T$12:$T$231)="","-",LOOKUP('aux 2'!BU12,'aux 1'!$A$12:$A$231,'aux 1'!$T$12:$T$231)))) | J14: =IF(OR('aux 2'!$BY$59>0,C14=""),"",IF('aux 2'!BU12="","",IF(LOOKUP('aux 2'!BU12,'aux 1'!$A$12:$A$231,'aux 1'!$U$12:$U$231)="","-",LOOKUP('aux 2'!BU12,'aux 1'!$A$12:$A$231,'aux 1'!$U$12:$U$231)))) | K14: =IF(OR('aux 2'!$BY$59>0,C14=""),"",IF('aux 2'!BU12="","",IF(LOOKUP('aux 2'!BU12,'aux 1'!$A$12:$A$231,'aux 1'!$V$12:$V$231)="","-",LOOKUP('aux 2'!BU12,'aux 1'!$A$12:$A$231,'aux 1'!$V$12:$V$231)))) | L14: =IF(OR('aux 2'!$BY$59>0,C14=""),"",IF('aux 2'!BU12="","",IF(LOOKUP('aux 2'!BU12,'aux 1'!$A$12:$A$231,'aux 1'!$X$12:$X$231)="","-",LOOKUP('aux 2'!BU12,'aux 1'!$A$12:$A$231,'aux 1'!$W$12:$W$231))))
A15: =IF(C15="","",A14+1) | B15: =IF(D15="","","-") | C15: =IF(OR('aux 2'!$BY$59>0,$E$2='aux 7'!$C$8,$E$2='aux 7'!C11,Relatório!$E$3='aux 7'!$C$6,Relatório!$E$4='aux 7'!$C$7),"",IF('aux 2'!BU13="","",LOOKUP('aux 2'!BU13,'aux 1'!$A$12:$A$231,'aux 1'!$AP$12:$AP$231))) | D15: =IF(OR('aux 2'!$BY$59>0,$E$2='aux 7'!$C$8,$E$2='aux 7'!C11,Relatório!$E$3='aux 7'!$C$6,Relatório!$E$4='aux 7'!$C$7),"",IF('aux 2'!BU13="","",LOOKUP('aux 2'!BU13,'aux 1'!$A$12:$A$231,'aux 1'!$B$12:$B$231))) | H15: =IF(OR('aux 2'!$BY$59>0,C15=""),"",IF('aux 2'!BU13="","",IF(LOOKUP('aux 2'!BU13,'aux 1'!$A$12:$A$231,'aux 1'!$F$12:$F$231)="","",LOOKUP('aux 2'!BU13,'aux 1'!$A$12:$A$231,'aux 1'!$F$12:$F$231)))) | I15: =IF(OR('aux 2'!$BY$59>0,C15=""),"",IF('aux 2'!BU13="","",IF(LOOKUP('aux 2'!BU13,'aux 1'!$A$12:$A$231,'aux 1'!$T$12:$T$231)="","-",LOOKUP('aux 2'!BU13,'aux 1'!$A$12:$A$231,'aux 1'!$T$12:$T$231)))) | J15: =IF(OR('aux 2'!$BY$59>0,C15=""),"",IF('aux 2'!BU13="","",IF(LOOKUP('aux 2'!BU13,'aux 1'!$A$12:$A$231,'aux 1'!$U$12:$U$231)="","-",LOOKUP('aux 2'!BU13,'aux 1'!$A$12:$A$231,'aux 1'!$U$12:$U$231)))) | K15: =IF(OR('aux 2'!$BY$59>0,C15=""),"",IF('aux 2'!BU13="","",IF(LOOKUP('aux 2'!BU13,'aux 1'!$A$12:$A$231,'aux 1'!$V$12:$V$231)="","-",LOOKUP('aux 2'!BU13,'aux 1'!$A$12:$A$231,'aux 1'!$V$12:$V$231)))) | L15: =IF(OR('aux 2'!$BY$59>0,C15=""),"",IF('aux 2'!BU13="","",IF(LOOKUP('aux 2'!BU13,'aux 1'!$A$12:$A$231,'aux 1'!$X$12:$X$231)="","-",LOOKUP('aux 2'!BU13,'aux 1'!$A$12:$A$231,'aux 1'!$W$12:$W$231))))
A16: =IF(C16="","",A15+1) | B16: =IF(D16="","","-") | C16: =IF(OR('aux 2'!$BY$59>0,$E$2='aux 7'!$C$8,$E$2='aux 7'!C12,Relatório!$E$3='aux 7'!$C$6,Relatório!$E$4='aux 7'!$C$7),"",IF('aux 2'!BU14="","",LOOKUP('aux 2'!BU14,'aux 1'!$A$12:$A$231,'aux 1'!$AP$12:$AP$231))) | D16: =IF(OR('aux 2'!$BY$59>0,$E$2='aux 7'!$C$8,$E$2='aux 7'!C12,Relatório!$E$3='aux 7'!$C$6,Relatório!$E$4='aux 7'!$C$7),"",IF('aux 2'!BU14="","",LOOKUP('aux 2'!BU14,'aux 1'!$A$12:$A$231,'aux 1'!$B$12:$B$231))) | H16: =IF(OR('aux 2'!$BY$59>0,C16=""),"",IF('aux 2'!BU14="","",IF(LOOKUP('aux 2'!BU14,'aux 1'!$A$12:$A$231,'aux 1'!$F$12:$F$231)="","",LOOKUP('aux 2'!BU14,'aux 1'!$A$12:$A$231,'aux 1'!$F$12:$F$231)))) | I16: =IF(OR('aux 2'!$BY$59>0,C16=""),"",IF('aux 2'!BU14="","",IF(LOOKUP('aux 2'!BU14,'aux 1'!$A$12:$A$231,'aux 1'!$T$12:$T$231)="","-",LOOKUP('aux 2'!BU14,'aux 1'!$A$12:$A$231,'aux 1'!$T$12:$T$231)))) | J16: =IF(OR('aux 2'!$BY$59>0,C16=""),"",IF('aux 2'!BU14="","",IF(LOOKUP('aux 2'!BU14,'aux 1'!$A$12:$A$231,'aux 1'!$U$12:$U$231)="","-",LOOKUP('aux 2'!BU14,'aux 1'!$A$12:$A$231,'aux 1'!$U$12:$U$231)))) | K16: =IF(OR('aux 2'!$BY$59>0,C16=""),"",IF('aux 2'!BU14="","",IF(LOOKUP('aux 2'!BU14,'aux 1'!$A$12:$A$231,'aux 1'!$V$12:$V$231)="","-",LOOKUP('aux 2'!BU14,'aux 1'!$A$12:$A$231,'aux 1'!$V$12:$V$231)))) | L16: =IF(OR('aux 2'!$BY$59>0,C16=""),"",IF('aux 2'!BU14="","",IF(LOOKUP('aux 2'!BU14,'aux 1'!$A$12:$A$231,'aux 1'!$X$12:$X$231)="","-",LOOKUP('aux 2'!BU14,'aux 1'!$A$12:$A$231,'aux 1'!$W$12:$W$231))))
A17: =IF(C17="","",A16+1) | B17: =IF(D17="","","-") | C17: =IF(OR('aux 2'!$BY$59>0,$E$2='aux 7'!$C$8,$E$2='aux 7'!C13,Relatório!$E$3='aux 7'!$C$6,Relatório!$E$4='aux 7'!$C$7),"",IF('aux 2'!BU15="","",LOOKUP('aux 2'!BU15,'aux 1'!$A$12:$A$231,'aux 1'!$AP$12:$AP$231))) | D17: =IF(OR('aux 2'!$BY$59>0,$E$2='aux 7'!$C$8,$E$2='aux 7'!C13,Relatório!$E$3='aux 7'!$C$6,Relatório!$E$4='aux 7'!$C$7),"",IF('aux 2'!BU15="","",LOOKUP('aux 2'!BU15,'aux 1'!$A$12:$A$231,'aux 1'!$B$12:$B$231))) | H17: =IF(OR('aux 2'!$BY$59>0,C17=""),"",IF('aux 2'!BU15="","",IF(LOOKUP('aux 2'!BU15,'aux 1'!$A$12:$A$231,'aux 1'!$F$12:$F$231)="","",LOOKUP('aux 2'!BU15,'aux 1'!$A$12:$A$231,'aux 1'!$F$12:$F$231)))) | I17: =IF(OR('aux 2'!$BY$59>0,C17=""),"",IF('aux 2'!BU15="","",IF(LOOKUP('aux 2'!BU15,'aux 1'!$A$12:$A$231,'aux 1'!$T$12:$T$231)="","-",LOOKUP('aux 2'!BU15,'aux 1'!$A$12:$A$231,'aux 1'!$T$12:$T$231)))) | J17: =IF(OR('aux 2'!$BY$59>0,C17=""),"",IF('aux 2'!BU15="","",IF(LOOKUP('aux 2'!BU15,'aux 1'!$A$12:$A$231,'aux 1'!$U$12:$U$231)="","-",LOOKUP('aux 2'!BU15,'aux 1'!$A$12:$A$231,'aux 1'!$U$12:$U$231)))) | K17: =IF(OR('aux 2'!$BY$59>0,C17=""),"",IF('aux 2'!BU15="","",IF(LOOKUP('aux 2'!BU15,'aux 1'!$A$12:$A$231,'aux 1'!$V$12:$V$231)="","-",LOOKUP('aux 2'!BU15,'aux 1'!$A$12:$A$231,'aux 1'!$V$12:$V$231)))) | L17: =IF(OR('aux 2'!$BY$59>0,C17=""),"",IF('aux 2'!BU15="","",IF(LOOKUP('aux 2'!BU15,'aux 1'!$A$12:$A$231,'aux 1'!$X$12:$X$231)="","-",LOOKUP('aux 2'!BU15,'aux 1'!$A$12:$A$231,'aux 1'!$W$12:$W$231))))
A18: =IF(C18="","",A17+1) | B18: =IF(D18="","","-") | C18: =IF(OR('aux 2'!$BY$59>0,$E$2='aux 7'!$C$8,$E$2='aux 7'!C14,Relatório!$E$3='aux 7'!$C$6,Relatório!$E$4='aux 7'!$C$7),"",IF('aux 2'!BU16="","",LOOKUP('aux 2'!BU16,'aux 1'!$A$12:$A$231,'aux 1'!$AP$12:$AP$231))) | D18: =IF(OR('aux 2'!$BY$59>0,$E$2='aux 7'!$C$8,$E$2='aux 7'!C14,Relatório!$E$3='aux 7'!$C$6,Relatório!$E$4='aux 7'!$C$7),"",IF('aux 2'!BU16="","",LOOKUP('aux 2'!BU16,'aux 1'!$A$12:$A$231,'aux 1'!$B$12:$B$231))) | H18: =IF(OR('aux 2'!$BY$59>0,C18=""),"",IF('aux 2'!BU16="","",IF(LOOKUP('aux 2'!BU16,'aux 1'!$A$12:$A$231,'aux 1'!$F$12:$F$231)="","",LOOKUP('aux 2'!BU16,'aux 1'!$A$12:$A$231,'aux 1'!$F$12:$F$231)))) | I18: =IF(OR('aux 2'!$BY$59>0,C18=""),"",IF('aux 2'!BU16="","",IF(LOOKUP('aux 2'!BU16,'aux 1'!$A$12:$A$231,'aux 1'!$T$12:$T$231)="","-",LOOKUP('aux 2'!BU16,'aux 1'!$A$12:$A$231,'aux 1'!$T$12:$T$231)))) | J18: =IF(OR('aux 2'!$BY$59>0,C18=""),"",IF('aux 2'!BU16="","",IF(LOOKUP('aux 2'!BU16,'aux 1'!$A$12:$A$231,'aux 1'!$U$12:$U$231)="","-",LOOKUP('aux 2'!BU16,'aux 1'!$A$12:$A$231,'aux 1'!$U$12:$U$231)))) | K18: =IF(OR('aux 2'!$BY$59>0,C18=""),"",IF('aux 2'!BU16="","",IF(LOOKUP('aux 2'!BU16,'aux 1'!$A$12:$A$231,'aux 1'!$V$12:$V$231)="","-",LOOKUP('aux 2'!BU16,'aux 1'!$A$12:$A$231,'aux 1'!$V$12:$V$231)))) | L18: =IF(OR('aux 2'!$BY$59>0,C18=""),"",IF('aux 2'!BU16="","",IF(LOOKUP('aux 2'!BU16,'aux 1'!$A$12:$A$231,'aux 1'!$X$12:$X$231)="","-",LOOKUP('aux 2'!BU16,'aux 1'!$A$12:$A$231,'aux 1'!$W$12:$W$231))))
